{"text_format":"1","workbook":"xlsx","n_sheets":8,"sheets":["Instructions","Model Input","System Flow","Control Cost Schedules","InvasionRecordTestSheet","Direct Program Costs","Output","Simulation Results"],"not_rendered":{"charts":9,"images":3,"macros":1,"external_links":0,"defined_names":81,"comments":0,"pivot_tables":0},"unopened":[],"bounds":{"document_bytes":16777216,"sheet_cells":100000,"rows_first":2000,"rows_last":500,"rows_between":2000,"halvings":0,"cell_chars":16384,"cell_head_chars":4096},"cells_cut":0,"cells_raw":0,"read":"whole","date_system":"1900"}

{"sheet":"Instructions","index":0,"n_rows":52,"n_cols":1,"rows_kept":52,"cut":false,"hidden":false,"merged":[[55,9,55,11]]}
["Colorado-Big Thompson Zebra and Quagga Mussel Dispersal and Damage Cost Simulation Model"]
["Created by Cathy Thomas"]
["Colorado State University, 2010"]
["Questions or Comments: email  ccullinanethomas@usgs.gov"]
[]
["Model Purpose and Objective:"]
[]
[]
[]
[]
[]
[]
["Underlying Theory:"]
[]
[]
[]
[]
[]
[]
[]
[]
[]
[]
[]
[]
[]
[]
[]
[]
[]
[]
[]
[]
[]
[]
[]
["Using the Model:"]
[]
[]
[]
[]
[]
[]
[]
[]
[]
[]
[]
[]
[]
[]
["Tab Contents:"]

{"sheet":"Model Input","index":1,"n_rows":265,"n_cols":54,"rows_kept":265,"cut":false,"hidden":false,"merged":[[7,0,7,2],[145,0,145,7],[146,0,146,7],[136,0,136,6],[103,0,103,6],[19,0,19,6],[20,0,20,6],[21,0,21,6],[24,0,24,6],[95,0,95,6]]}
["Colorado-Big Thompson Zebra and Quagga Mussel Dispersal and Damage Cost Simulation Model"]
["Created by Cathy Thomas"]
[null,"Version",10]
[null,"Last Updated:","2010-06-21"]
[]
["Instructions"]
["1. Choose values for all of the input cells.  Input cells are highlighted in blue.  User defined inputs are optional."]
["*Blue cells in Column B are pull down menus that allow you to choose between low, base, high, and user-defined parameter values."]
["*Enter user-defined values in Column H"]
["2. Once you have chosen input values, press the Run Simulation button."]
[]
["Cell Types ",null,null,null,null,null,null,null,null,null,null,null,"Lists for Drop Down Menus"]
["Input",null,null,null,null,null,null,null,null,null,null,null,"Index","Horizon","Level","Calcium switch","Yes/No","Water Treatment Costs"]
["Parameter Estimate from Literature",null,null,null,null,null,null,null,null,null,null,null,1,10,"low","Model as very low calcium","yes","Connelly only"]
["Parameter Estimate estimated from data",null,null,null,null,null,null,null,null,null,null,null,2,30,"base","Model as low calcium","no","Connelly and Westminster"]
["Uncertain Parameter Estimate",null,null,null,null,null,null,null,null,null,null,null,3,50,"high","Model as moderate calcium"]
["Calculation",null,null,null,null,null,null,null,null,null,null,null,4]
[]
["Assumptions"]
["1. The number of boat inspections in 2009 is equal to the number of boat visits per year for the preventative management scenario.  The number of boat visits is constant over time."]
["2. Assume that all structures directly downstream from an infested water body will incur costs after a lag period."]
["3. Facilities do not incur any costs prior to settlement in their facility (i.e. pre-infestation monitoring costs are assumed to be 0). "]
["4. Assume that veliger mortality declines exponentially with distance \"down pipe\", as it does with distance downstream in Horvath1999."]
["5.  Assume that veligers can survive passage through hydropower plants.  Also assume that passage through hydropower plants does not increase veliger mortality beyond that already described by the exponential decay based on distance."]
["6. Year 0 is 2009"]
[]
["Initial Establishment (Establishment in 2009)"]
[null,null,null,null,"History"]
["Reservoir","Established in 2009?","{InvasionRecord_0}",null,"Reservoir","Inspection Record in 2008","Inspection Record in 2009"]
["Windy Gap Reservoir","no",{"$f":"IF(B30=\"no\",0,1)","v":0},null,"Windy Gap Reservoir","none found","none found"]
["Willow Creek Reservoir","no",{"$f":"IF(B31=\"no\",0,1)","v":0},null,"Willow Creek Reservoir","veligers found","none found"]
["Lake Granby","no",0,null,"Lake Granby","veligers found","none found"]
["Shadow Mountain Reservoir","no",0,null,"Shadow Mountain Reservoir","veligers found","none found"]
["Grand Lake","no",0,null,"Grand Lake","veligers found","none found"]
["East Portal Reservoir","no",0,null,"East Portal Reservoir","none found","none found"]
["Mary's Lake","no",{"$f":"IF(B36=\"no\",0,1)","v":0},null,"Mary's Lake","none found","none found"]
["Lake Estes","no",0,null,"Lake Estes","none found","none found"]
["Pinewood Reservoir","no",0,null,"Pinewood Reservoir","none found","none found"]
["Flatiron Reservoir","no",0,null,"Flatiron Reservoir","none found","none found"]
["Horsetooth Reservoir","no",0,null,"Horsetooth Reservoir","none found","none found"]
["Carter Lake","no",0,null,"Carter Lake","none found","none found"]
["Boulder Reservoir","no",0,null,"Boulder Reservoir","none found","none found"]
[]
[]
["Probability of Invasibility"]
[]
[null,"Index (1=low, 2=base, 3=high, 4=user defined)","Name","Value","Low","Base","High","User Defined","Source"]
["Probability that a very low calcium reservoir is invasible",2,"prob_invas_verylowC",{"$f":"INDEX(E48:H48,B48)","v":0.02},0,0.02,0.05,0.8,"This value is uncertain"]
["Probability that a low calcium reservoir is invasible",2,"prob_invas_lowC",{"$f":"INDEX(E49:H49,B49)","v":0.05},0.01,0.05,0.1,0.8,"This value is uncertain"]
["Probability that a moderate calcium reservoir is invasible",2,"prob_invas_modC",{"$f":"INDEX(E50:H50,B50)","v":0.25},0.1,0.25,0.5,0.8,"This value is uncertain"]
["Probability that a high calcium reservoir is invasible",2,"prob_invas_highC",{"$f":"INDEX(E51:H51,B51)","v":0.75},0.5,0.75,1,0.8,"This value is uncertain"]
["Switch for unknown calcium reservoirs","Model as very low calcium","prob_invas_unknownC",{"$f":"IF(B52=\"Model as very low calcium\",prob_invas_verylowC,IF(B52=\"Model as low calcium\",prob_invas_lowC,prob_invas_modC))","v":0.02},null,null,null,null,"Calcium classification are from Whittier2008"]
[]
["Water Body ID","Calcium Level                      {CalciumLevel}","Probability that the reservoir is invasible {Invasibility}"]
[0,"low",{"$f":"IF(B55=\"very low\",prob_invas_verylowC,IF(B55=\"low\",prob_invas_lowC,IF(B55=\"moderate\",prob_invas_modC,IF(B55=\"high\",prob_invas_highC,IF(B55=\"unknown\",prob_invas_unknownC,\"error\")))))","v":0.05}]
[1,"low",0.05]
[2,"very low",0.02]
[3,"very low",0.02]
[4,"very low",0.02]
[5,"unknown",0.02]
[6,"unknown",{"$f":"IF(B61=\"very low\",prob_invas_verylowC,IF(B61=\"low\",prob_invas_lowC,IF(B61=\"moderate\",prob_invas_modC,IF(B61=\"high\",prob_invas_highC,IF(B61=\"unknown\",prob_invas_unknownC,\"error\")))))","v":0.02}]
[7,"unknown",0.02]
[8,"unknown",0.02]
[9,"unknown",0.02]
[10,"very low",0.02]
[11,"very low",0.02]
[12,"high",0.75]
[]
["Propagule Pressure from Infested Boats"]
[]
[null,"Index (1=low, 2=base, 3=high, 4=user defined)","Name","Value In-Use","Low","Base","High","User Defined","Source"]
["Initial Percent of Visiting Boats that are infested",2,"per_infest_0",{"$f":"INDEX(E72:H72,B72)","v":1.7999999999999999E-2},1.0999999999999999E-2,1.7999999999999999E-2,2.9000000000000001E-2,0.2,"From CDOW 2009 boat inspection data: The base case is the percent of entrance inspections that were high risk inspections.\nThe low case is the percent of inspected boats that were required to be decontaminated.  The high case is the percent of inspection that were high risk or decontaminations.\n\n"]
["Percent of Infested Boats that are caught by inspection and get cleaned",2,"per_cleaned",{"$f":"INDEX(E73:H73,B73)","v":0.95},0.9,0.95,1,0.96,"Elizabeth Brown with CDOW thinks that this percent is likely to be close to 100%"]
["alpha shape parameter",2,"a_boat",{"$f":"INDEX(E74:H74,B74)","v":1.03E-4},5.0000000000000002E-5,1.03E-4,5.0000000000000001E-4,null,"Leung2004 "]
["c shape parameter",2,"c_boat",{"$f":"INDEX(E75:H75,B75)","v":1.86},1,1.86,null,null,"Leung2004 "]
["Percent decline in number of boat visits attributable to the boat inspection program",2,"per_decline",{"$f":"INDEX(E76:H76,B76)","v":0.01},0,0.01,0.03,0.01,"2008 Boater Survey Data. Based on Q27 and Q12."]
[]
["Water Body ID","No. of Boat Visits per Year (with inspection program) {BoatVisits_1}","No. of Boat Visits per Year (no inspection program) {BoatVisits_0}","Decline in No. of Boat Visits","Source"]
[0,0,{"$f":"B79/(1-per_decline)","v":0},{"$f":"C79-B79","v":0},"CDOW boat inspection data"]
[1,0,0,0,"*Visit data for Lake Estes provided by Estes Valley Recreation and Park District"]
[2,7404,7478.787878787879,74.787878787878981]
[3,3562,3597.9797979797981,35.97979797979815]
[4,3263,3295.9595959595958,32.959595959595845]
[5,0,0,0]
[6,0,{"$f":"B85/(1-per_decline)","v":0},{"$f":"C85-B85","v":0}]
[7,420,424.24242424242425,4.2424242424242493]
[8,0,0,0]
[9,0,0,0]
[10,48518,49008.080808080806,490.08080808080558]
[11,7982,8062.6262626262624,80.62626262626236]
[12,1700,1717.1717171717171,17.171717171717091]
[]
["Source, Formula, and Assumption Information for this Section"]
["*Bossenbroek and Leung use gravity models to estimate propagule pressure from boats.  I don't have this information.  I have estimated propagule pressure from boats by assuming that a certain percent of boats are infested."]
["*The formula for the probability of establishment comes from Leung2004: prob_E=1-EXP(-1*(a_boat*num_infested)^c_boat)"]
["*The a and c values from Leung2004 are based on a gravity model that predict the number of boats traveling to an uninfested water body from an infested water body.  The number of boats traveling to a water body from an infested water body is not actually a measure of the number of infested boats that arrive at a water body, it is an overestimate.  A similar estimate is used here.  The percent of potentially infested boats is an overestimate of the actual percent of infested boats."]
["Simulation of Increase in Infested Boats Over Time"]
[]
[null,"Index (1=low, 2=base, 3=high, 4=user defined)","Name","Value In-Use","Low","Base","High","User Defined","Source"]
["Max percent infested boats",2,"per_max",{"$f":"INDEX(E100:H100,B100)","v":5.8900000000000001E-2},2.9499999999999998E-2,5.8900000000000001E-2,0.58899999999999997,null,"Whittier2008.\nThe high value is the percent of ecoregions that are at high risk of invasion based on calcium concentrations.  The low value is 5% of this value.  The base value is set at 10% of high risk ecoregions.\n"]
["Maximum percent increase in infested boats per year, base-case scenario",2,"R_max",{"$f":"B101","v":2},{"$f":"0","v":0},5.0000000000000001E-3,5.6000000000000001E-2,{"$f":"0.001","v":1E-3},"Kraft2000.  The base value is set low to reflect a slow invasion. Johnson2006.","Note: Value in-use cell displays the index value rather than the actual value in use."]
["Percent reduction in the maximum percent increase in infested boats per year, preventative management scenario",2,"B_",{"$f":"INDEX(E102:H102,B102)","v":0.5},0.25,0.5,0.75,null,"The affects of the boat inspection program on the rate of infestation are unknown."]
[]
["*The idea to randomly increase the percent of infested boats each year with a random walk comes from Leung2004: Percent infested at time t+1 = percent infested at time t plus a bounded uniform random value.  Leung randomly increases the number of infested boats each year.  I have modified this to randomly increase the percent of infested boats each year."]
[]
["Propagule Pressure from Invaded Upstream Water Body"]
[null,"Index (1=low, 2=base, 3=high, 4=user defined)","Name","Value In-Use","Low","Base","High","User Defined","Source"]
["y-intercept parameter",2,"P_",{"$f":"INDEX(E108:H108,B108)","v":0.80100000000000005},null,0.80100000000000005,null,null,"Horvath1999"]
["decay rate",2,"r_",-0.45,-0.67,-0.45,-0.33,-0.2,"Horvath1999.  Based on density falling to 20% after 10, 15 and 20 km respectively.  From Bobeldke2005, lakes greater than 20km downstream had a lower chance of being invaded.  From Horvath1996 found isolated veligers 12km downstream.  The smaller r is, the lower mortality is.   "]
["Lag time (number of years after upstream establishment before downstream establishment is possible: m=1 means establishment is possible in the following year)",2,"m_",8,6,8,10,2,"Using values 2 years less than those estimated by Burlakova2006."]
["alpha shape parameter",2,"a_stream",0.05,5.0000000000000001E-3,0.05,0.2,null,"There is much uncertainty in how veligers survive and are transported through conveyance systems.  The larger a_stream is, the greater the probability of downstream establishment."]
["c shape parameter",2,"c_stream",{"$f":"INDEX(E112:H112,B112)","v":1},0.5,1,1.86,null,"The high value is from Leung2004; however, this value was used for boat pressure, not stream pressure.  This parameter concerns the presence or absence of an Allee effect, and it is assumed that the value is the same for pressure from flows as it is for pressure from boats.  The larger c_stream is, the quicker the probability of establishment falls from 1 to 0."]
["Mussel density for a very low calcium reservoir",1,"density_vl",22,22,800,7500,null,"Ramcharan1992.  These are the min, mean, and max densities of mussels in European Lakes."]
["Mussel density for a low calcium reservoir",1,"density_l",22,22,800,7500,null,"Ramcharan1992.  These are the min, mean, and max densities of mussels in European Lakes."]
["Mussel density for a moderate calcium reservoir",2,"density_m",800,22,800,7500,null,"Ramcharan1992.  These are the min, mean, and max densities of mussels in European Lakes."]
["Mussel density for a high calcium reservoir",3,"density_h",7500,22,800,7500,null,"Ramcharan1992.  These are the min, mean, and max densities of mussels in European Lakes."]
[]
["Water Body ID","Upstream Water Body (1) {UpConnect1}","Distance Downstream from Upstream Water Body (1) in km {DistUpConnect1}","Density in Upstream Water Body (1) ","Propagule pressure from upstream water body (1) {DensityAlive1}","Upstream Water Body (2) {UpConnect2}","Distance Downstream from Upstream Water Body (2) in km {DistUpConnect2}","Density in Upstream Water Body (2) ","Propagule pressure from upstream water body (2) {DensityAlive2} "]
[0,-999,-999,{"$f":"IF(C119=-999,0,IF(INDEX(CalciumLevel,B119+1)=\"very low\",density_vl,IF(INDEX(CalciumLevel,B119+1)=\"low\",density_l,IF(INDEX(CalciumLevel,B119+1)=\"moderate\",density_m,IF(INDEX(CalciumLevel,B119+1)=\"high\",density_h,IF(AND(INDEX(CalciumLevel,B119+1)=\"unknown\",$B$52=\"Model as very low calcium\"),density_vl,IF(AND(INDEX(CalciumLevel,B119+1)=\"unknown\",$B$52=\"Model as low calcium\"),density_l,IF(AND(INDEX(CalciumLevel,B119+1)=\"unknown\",$B$52=\"Model as moderate calcium\"),density_m,\"error\"))))))))","v":0},{"$f":"IF(C119=-999,-999,P_*EXP(r_*C119)*D119)","v":-999},-999,-999,{"$f":"IF(G119=-999,0,IF(INDEX(CalciumLevel,F119+1)=\"very low\",density_vl,IF(INDEX(CalciumLevel,F119+1)=\"low\",density_l,IF(INDEX(CalciumLevel,F119+1)=\"moderate\",density_m,IF(INDEX(CalciumLevel,F119+1)=\"high\",density_h,IF(AND(INDEX(CalciumLevel,F119+1)=\"unknown\",$B$52=\"Model as very low calcium\"),density_vl,IF(AND(INDEX(CalciumLevel,F119+1)=\"unknown\",$B$52=\"Model as low calcium\"),density_l,IF(AND(INDEX(CalciumLevel,F119+1)=\"unknown\",$B$52=\"Model as moderate calcium\"),density_m,\"error\"))))))))","v":0},{"$f":"IF(G119=-999,-999,P_*EXP(r_*G119)*H119)","v":-999}]
[1,-999,-999,0,-999,-999,-999,0,-999]
[2,0,9.5,22,0.24515812252511873,1,5.5,22,1.4831202143143234]
[3,2,2.9,22,4.7786024125735622,-999,-999,0,-999]
[4,3,0,22,17.622,-999,-999,0,-999]
[5,4,21.1,22,1.3256506565136547E-3,-999,-999,0,-999]
[6,5,2.1,22,6.8493113984306913,-999,-999,0,-999]
[7,6,2.7,22,5.228623871889666,-999,-999,0,-999]
[8,7,15.6,22,1.5750992834983202E-2,-999,-999,0,-999]
[9,8,2.1,22,6.8493113984306913,11,2.2999999999999998,22,6.2597992846594952]
[10,9,21.3,22,1.2115534757631064E-3,-999,-999,0,-999]
[11,8,1.8,22,7.8392888429806682,9,2.2999999999999998,22,6.2597992846594952]
[12,11,36.700000000000003,22,1.1849003514037766E-6,-999,-999,0,-999]
["*Note:-999 means no upstream reservoir, no distance downstream, no propagule pressure"]
[]
["Source, Formula, and Assumption Information for this Section"]
["*The formula for percent living veligers is from Horvath1999: Percent Living=P_*exp(r_*distance downstream)"]
["*Propagule pressure from flows is measured as the density of living veligers entering a downstream reservoir."]
["*The formula for the probability of establishment as a function of propagule pressure comes from Leung2004: prob_E=1-EXP(-1*(a_*DensityAlive)^c_).  In the Leung paper, this formula was used for boat pressure, so the parameter estimates they estimate will be different than those for propagule pressure from flows."]
[]
["Time Horizon"]
[]
[null,"Index (10, 30 or 50 years)","Name","Value In-Use"]
["Time Horizon",50,"horizon",{"$f":"B142","v":50}]
[]
["Source, Formula, and Assumption Information for this Section"]
["* The simulation is run via a macro.  The process is thoroughly described in the accompanying paper."]
["* The joint probability of establishment formula comes from Leung2007: prob of establishment=(prob of invasibility * (1- the product of (1-prob of establishment for location l in period t))"]
["*For each scenario (i.e. no inspection program, with inspection program), 3 Bernouill trials  are conducted for each water body.  The first trial is based on the joint probability of establishment from propagules introduced by boats.  The second trial is based on the joint probability of establishment from propagules introduced from upstream water body (1).  The third is based on the joint probability of establishment from propagules introduced from upstream water body (2).  A water body is deemed established if at least one of the Bernoulli Trials results in establishment.  Established upstream water bodies become possible sources of invasion m years after establishment.  Once established, a water body remains established in all subsequent years."]
[]
["Damage Costs"]
["*Structures are assumes to incur costs n years after the water body directly up stream is established."]
["*All structures downstream of an infested water body are assumed to incur costs.  This may not be a good assumption, because some of the structures are well downstream."]
[]
[null,"Index (1=low, 2=base, 3=high, 4=user defined)","Name","Value In-Use","Low","Base","High","User Defined","Source"]
["Lag Time (Number of years post establishment when damages are first incurred for downstream structures)",2,"n_",{"$f":"INDEX(E154:H154,B154)","v":8},6,8,10,2,"Burlakova2006"]
["Discount Rate",2,"d_rate",{"$f":"INDEX(E155:H155,B155)","v":2.6499999999999999E-2},0,2.6499999999999999E-2,5.2999999999999999E-2,0,"Based on discount factor of .95 to .99"]
["Interest Rate",2,"i_rate",{"$f":"INDEX(E156:H156,B156)","v":4.7500000000000001E-2},0.04,4.7500000000000001E-2,0.05,null,"http://emma.msrb.org\nBased on a sample of 100 bond trades from 6/8/2010.  Low, base, and high values are Q1, median, and Q3, respectively.\n"]
["Loan term length for capital expenditures (years)",2,"term_length",{"$f":"INDEX(E157:H157,B157)","v":20},15,20,30]
["Water treatment costs: use Connelly estimates or a combination of Connelly estimates and Westminster Estimates?","Connelly and Westminster"]
[null,null,null,null,"Total Costs {ControlCostSchedules}"]
[null,null,null,null,"Year of incurred costs (0 means costs incurred in the first affected year)"]
["Structure/Facility Name","Structure/Facility ID","Structure/Facility Classification           {StructureType}","Upstream Water Body {UpConnectStructure}",0,1,2,3,4,5,6,7,8,9,10,11,12,13,14,15,16,17,18,19,20,21,22,23,24,25,26,27,28,29,30,31,32,33,34,35,36,37,38,39,40,41,42,43,44,45,46,47,48,49]
["Windy Gap Pump Plant",0,"pump plant",0,{"$f":"'Control Cost Schedules'!D174","v":8677.1565402964789},{"$f":"'Control Cost Schedules'!E174","v":8677.1565402964789},{"$f":"'Control Cost Schedules'!F174","v":8677.1565402964789},{"$f":"'Control Cost Schedules'!G174","v":8677.1565402964789},{"$f":"'Control Cost Schedules'!H174","v":8677.1565402964789},{"$f":"'Control Cost Schedules'!I174","v":8677.1565402964789},{"$f":"'Control Cost Schedules'!J174","v":8677.1565402964789},{"$f":"'Control Cost Schedules'!K174","v":8677.1565402964789},{"$f":"'Control Cost Schedules'!L174","v":8677.1565402964789},{"$f":"'Control Cost Schedules'!M174","v":8677.1565402964789},{"$f":"'Control Cost Schedules'!N174","v":8677.1565402964789},{"$f":"'Control Cost Schedules'!O174","v":8677.1565402964789},{"$f":"'Control Cost Schedules'!P174","v":8677.1565402964789},{"$f":"'Control Cost Schedules'!Q174","v":8677.1565402964789},{"$f":"'Control Cost Schedules'!R174","v":8677.1565402964789},{"$f":"'Control Cost Schedules'!S174","v":8677.1565402964789},{"$f":"'Control Cost Schedules'!T174","v":8677.1565402964789},{"$f":"'Control Cost Schedules'!U174","v":8677.1565402964789},{"$f":"'Control Cost Schedules'!V174","v":8677.1565402964789},{"$f":"'Control Cost Schedules'!W174","v":8677.1565402964789},{"$f":"'Control Cost Schedules'!X174","v":8677.1565402964789},{"$f":"'Control Cost Schedules'!Y174","v":3375},{"$f":"'Control Cost Schedules'!Z174","v":3375},{"$f":"'Control Cost Schedules'!AA174","v":3375},{"$f":"'Control Cost Schedules'!AB174","v":3375},{"$f":"'Control Cost Schedules'!AC174","v":3375},{"$f":"'Control Cost Schedules'!AD174","v":3375},{"$f":"'Control Cost Schedules'!AE174","v":3375},{"$f":"'Control Cost Schedules'!AF174","v":3375},{"$f":"'Control Cost Schedules'!AG174","v":3375},{"$f":"'Control Cost Schedules'!AH174","v":3375},{"$f":"'Control Cost Schedules'!AI174","v":3375},{"$f":"'Control Cost Schedules'!AJ174","v":3375},{"$f":"'Control Cost Schedules'!AK174","v":3375},{"$f":"'Control Cost Schedules'!AL174","v":3375},{"$f":"'Control Cost Schedules'!AM174","v":3375},{"$f":"'Control Cost Schedules'!AN174","v":3375},{"$f":"'Control Cost Schedules'!AO174","v":3375},{"$f":"'Control Cost Schedules'!AP174","v":3375},{"$f":"'Control Cost Schedules'!AQ174","v":3375},{"$f":"'Control Cost Schedules'!AR174","v":3375},{"$f":"'Control Cost Schedules'!AS174","v":3375},{"$f":"'Control Cost Schedules'!AT174","v":3375},{"$f":"'Control Cost Schedules'!AU174","v":3375},{"$f":"'Control Cost Schedules'!AV174","v":3375},{"$f":"'Control Cost Schedules'!AW174","v":3375},{"$f":"'Control Cost Schedules'!AX174","v":3375},{"$f":"'Control Cost Schedules'!AY174","v":3375},{"$f":"'Control Cost Schedules'!AZ174","v":3375},{"$f":"'Control Cost Schedules'!BA174","v":0}]
["Windy Gap Pipeline",1,"pipeline",0,{"$f":"'Control Cost Schedules'!D175","v":0},{"$f":"'Control Cost Schedules'!E175","v":0},{"$f":"'Control Cost Schedules'!F175","v":0},{"$f":"'Control Cost Schedules'!G175","v":0},{"$f":"'Control Cost Schedules'!H175","v":0},{"$f":"'Control Cost Schedules'!I175","v":0},{"$f":"'Control Cost Schedules'!J175","v":0},{"$f":"'Control Cost Schedules'!K175","v":0},{"$f":"'Control Cost Schedules'!L175","v":0},{"$f":"'Control Cost Schedules'!M175","v":0},{"$f":"'Control Cost Schedules'!N175","v":0},{"$f":"'Control Cost Schedules'!O175","v":0},{"$f":"'Control Cost Schedules'!P175","v":0},{"$f":"'Control Cost Schedules'!Q175","v":0},{"$f":"'Control Cost Schedules'!R175","v":0},{"$f":"'Control Cost Schedules'!S175","v":0},{"$f":"'Control Cost Schedules'!T175","v":0},{"$f":"'Control Cost Schedules'!U175","v":0},{"$f":"'Control Cost Schedules'!V175","v":0},{"$f":"'Control Cost Schedules'!W175","v":0},{"$f":"'Control Cost Schedules'!X175","v":0},{"$f":"'Control Cost Schedules'!Y175","v":0},{"$f":"'Control Cost Schedules'!Z175","v":0},{"$f":"'Control Cost Schedules'!AA175","v":0},{"$f":"'Control Cost Schedules'!AB175","v":0},{"$f":"'Control Cost Schedules'!AC175","v":0},{"$f":"'Control Cost Schedules'!AD175","v":0},{"$f":"'Control Cost Schedules'!AE175","v":0},{"$f":"'Control Cost Schedules'!AF175","v":0},{"$f":"'Control Cost Schedules'!AG175","v":0},{"$f":"'Control Cost Schedules'!AH175","v":0},{"$f":"'Control Cost Schedules'!AI175","v":0},{"$f":"'Control Cost Schedules'!AJ175","v":0},{"$f":"'Control Cost Schedules'!AK175","v":0},{"$f":"'Control Cost Schedules'!AL175","v":0},{"$f":"'Control Cost Schedules'!AM175","v":0},{"$f":"'Control Cost Schedules'!AN175","v":0},{"$f":"'Control Cost Schedules'!AO175","v":0},{"$f":"'Control Cost Schedules'!AP175","v":0},{"$f":"'Control Cost Schedules'!AQ175","v":0},{"$f":"'Control Cost Schedules'!AR175","v":0},{"$f":"'Control Cost Schedules'!AS175","v":0},{"$f":"'Control Cost Schedules'!AT175","v":0},{"$f":"'Control Cost Schedules'!AU175","v":0},{"$f":"'Control Cost Schedules'!AV175","v":0},{"$f":"'Control Cost Schedules'!AW175","v":0},{"$f":"'Control Cost Schedules'!AX175","v":0},{"$f":"'Control Cost Schedules'!AY175","v":0},{"$f":"'Control Cost Schedules'!AZ175","v":0},{"$f":"'Control Cost Schedules'!BA175","v":0}]
["Willow Creek Dam",2,"dam",1,{"$f":"'Control Cost Schedules'!D176","v":125000},{"$f":"'Control Cost Schedules'!E176","v":0},{"$f":"'Control Cost Schedules'!F176","v":0},{"$f":"'Control Cost Schedules'!G176","v":0},{"$f":"'Control Cost Schedules'!H176","v":0},{"$f":"'Control Cost Schedules'!I176","v":125000},{"$f":"'Control Cost Schedules'!J176","v":0},{"$f":"'Control Cost Schedules'!K176","v":0},{"$f":"'Control Cost Schedules'!L176","v":0},{"$f":"'Control Cost Schedules'!M176","v":0},{"$f":"'Control Cost Schedules'!N176","v":125000},{"$f":"'Control Cost Schedules'!O176","v":0},{"$f":"'Control Cost Schedules'!P176","v":0},{"$f":"'Control Cost Schedules'!Q176","v":0},{"$f":"'Control Cost Schedules'!R176","v":0},{"$f":"'Control Cost Schedules'!S176","v":125000},{"$f":"'Control Cost Schedules'!T176","v":0},{"$f":"'Control Cost Schedules'!U176","v":0},{"$f":"'Control Cost Schedules'!V176","v":0},{"$f":"'Control Cost Schedules'!W176","v":0},{"$f":"'Control Cost Schedules'!X176","v":125000},{"$f":"'Control Cost Schedules'!Y176","v":0},{"$f":"'Control Cost Schedules'!Z176","v":0},{"$f":"'Control Cost Schedules'!AA176","v":0},{"$f":"'Control Cost Schedules'!AB176","v":0},{"$f":"'Control Cost Schedules'!AC176","v":125000},{"$f":"'Control Cost Schedules'!AD176","v":0},{"$f":"'Control Cost Schedules'!AE176","v":0},{"$f":"'Control Cost Schedules'!AF176","v":0},{"$f":"'Control Cost Schedules'!AG176","v":0},{"$f":"'Control Cost Schedules'!AH176","v":125000},{"$f":"'Control Cost Schedules'!AI176","v":0},{"$f":"'Control Cost Schedules'!AJ176","v":0},{"$f":"'Control Cost Schedules'!AK176","v":0},{"$f":"'Control Cost Schedules'!AL176","v":0},{"$f":"'Control Cost Schedules'!AM176","v":125000},{"$f":"'Control Cost Schedules'!AN176","v":0},{"$f":"'Control Cost Schedules'!AO176","v":0},{"$f":"'Control Cost Schedules'!AP176","v":0},{"$f":"'Control Cost Schedules'!AQ176","v":0},{"$f":"'Control Cost Schedules'!AR176","v":125000},{"$f":"'Control Cost Schedules'!AS176","v":0},{"$f":"'Control Cost Schedules'!AT176","v":0},{"$f":"'Control Cost Schedules'!AU176","v":0},{"$f":"'Control Cost Schedules'!AV176","v":0},{"$f":"'Control Cost Schedules'!AW176","v":125000},{"$f":"'Control Cost Schedules'!AX176","v":0},{"$f":"'Control Cost Schedules'!AY176","v":0},{"$f":"'Control Cost Schedules'!AZ176","v":0},{"$f":"'Control Cost Schedules'!BA176","v":0}]
["Willow Creek Pump Canal",3,"canal",1,{"$f":"'Control Cost Schedules'!D177","v":0},{"$f":"'Control Cost Schedules'!E177","v":0},{"$f":"'Control Cost Schedules'!F177","v":0},{"$f":"'Control Cost Schedules'!G177","v":0},{"$f":"'Control Cost Schedules'!H177","v":0},{"$f":"'Control Cost Schedules'!I177","v":0},{"$f":"'Control Cost Schedules'!J177","v":0},{"$f":"'Control Cost Schedules'!K177","v":0},{"$f":"'Control Cost Schedules'!L177","v":0},{"$f":"'Control Cost Schedules'!M177","v":0},{"$f":"'Control Cost Schedules'!N177","v":0},{"$f":"'Control Cost Schedules'!O177","v":0},{"$f":"'Control Cost Schedules'!P177","v":0},{"$f":"'Control Cost Schedules'!Q177","v":0},{"$f":"'Control Cost Schedules'!R177","v":0},{"$f":"'Control Cost Schedules'!S177","v":0},{"$f":"'Control Cost Schedules'!T177","v":0},{"$f":"'Control Cost Schedules'!U177","v":0},{"$f":"'Control Cost Schedules'!V177","v":0},{"$f":"'Control Cost Schedules'!W177","v":0},{"$f":"'Control Cost Schedules'!X177","v":0},{"$f":"'Control Cost Schedules'!Y177","v":0},{"$f":"'Control Cost Schedules'!Z177","v":0},{"$f":"'Control Cost Schedules'!AA177","v":0},{"$f":"'Control Cost Schedules'!AB177","v":0},{"$f":"'Control Cost Schedules'!AC177","v":0},{"$f":"'Control Cost Schedules'!AD177","v":0},{"$f":"'Control Cost Schedules'!AE177","v":0},{"$f":"'Control Cost Schedules'!AF177","v":0},{"$f":"'Control Cost Schedules'!AG177","v":0},{"$f":"'Control Cost Schedules'!AH177","v":0},{"$f":"'Control Cost Schedules'!AI177","v":0},{"$f":"'Control Cost Schedules'!AJ177","v":0},{"$f":"'Control Cost Schedules'!AK177","v":0},{"$f":"'Control Cost Schedules'!AL177","v":0},{"$f":"'Control Cost Schedules'!AM177","v":0},{"$f":"'Control Cost Schedules'!AN177","v":0},{"$f":"'Control Cost Schedules'!AO177","v":0},{"$f":"'Control Cost Schedules'!AP177","v":0},{"$f":"'Control Cost Schedules'!AQ177","v":0},{"$f":"'Control Cost Schedules'!AR177","v":0},{"$f":"'Control Cost Schedules'!AS177","v":0},{"$f":"'Control Cost Schedules'!AT177","v":0},{"$f":"'Control Cost Schedules'!AU177","v":0},{"$f":"'Control Cost Schedules'!AV177","v":0},{"$f":"'Control Cost Schedules'!AW177","v":0},{"$f":"'Control Cost Schedules'!AX177","v":0},{"$f":"'Control Cost Schedules'!AY177","v":0},{"$f":"'Control Cost Schedules'!AZ177","v":0},{"$f":"'Control Cost Schedules'!BA177","v":0}]
["Willow Creek Pump Plant",4,"pump plant",1,{"$f":"'Control Cost Schedules'!D178","v":0},{"$f":"'Control Cost Schedules'!E178","v":0},{"$f":"'Control Cost Schedules'!F178","v":0},{"$f":"'Control Cost Schedules'!G178","v":0},{"$f":"'Control Cost Schedules'!H178","v":0},{"$f":"'Control Cost Schedules'!I178","v":0},{"$f":"'Control Cost Schedules'!J178","v":0},{"$f":"'Control Cost Schedules'!K178","v":0},{"$f":"'Control Cost Schedules'!L178","v":0},{"$f":"'Control Cost Schedules'!M178","v":0},{"$f":"'Control Cost Schedules'!N178","v":0},{"$f":"'Control Cost Schedules'!O178","v":0},{"$f":"'Control Cost Schedules'!P178","v":0},{"$f":"'Control Cost Schedules'!Q178","v":0},{"$f":"'Control Cost Schedules'!R178","v":0},{"$f":"'Control Cost Schedules'!S178","v":0},{"$f":"'Control Cost Schedules'!T178","v":0},{"$f":"'Control Cost Schedules'!U178","v":0},{"$f":"'Control Cost Schedules'!V178","v":0},{"$f":"'Control Cost Schedules'!W178","v":0},{"$f":"'Control Cost Schedules'!X178","v":0},{"$f":"'Control Cost Schedules'!Y178","v":0},{"$f":"'Control Cost Schedules'!Z178","v":0},{"$f":"'Control Cost Schedules'!AA178","v":0},{"$f":"'Control Cost Schedules'!AB178","v":0},{"$f":"'Control Cost Schedules'!AC178","v":0},{"$f":"'Control Cost Schedules'!AD178","v":0},{"$f":"'Control Cost Schedules'!AE178","v":0},{"$f":"'Control Cost Schedules'!AF178","v":0},{"$f":"'Control Cost Schedules'!AG178","v":0},{"$f":"'Control Cost Schedules'!AH178","v":0},{"$f":"'Control Cost Schedules'!AI178","v":0},{"$f":"'Control Cost Schedules'!AJ178","v":0},{"$f":"'Control Cost Schedules'!AK178","v":0},{"$f":"'Control Cost Schedules'!AL178","v":0},{"$f":"'Control Cost Schedules'!AM178","v":0},{"$f":"'Control Cost Schedules'!AN178","v":0},{"$f":"'Control Cost Schedules'!AO178","v":0},{"$f":"'Control Cost Schedules'!AP178","v":0},{"$f":"'Control Cost Schedules'!AQ178","v":0},{"$f":"'Control Cost Schedules'!AR178","v":0},{"$f":"'Control Cost Schedules'!AS178","v":0},{"$f":"'Control Cost Schedules'!AT178","v":0},{"$f":"'Control Cost Schedules'!AU178","v":0},{"$f":"'Control Cost Schedules'!AV178","v":0},{"$f":"'Control Cost Schedules'!AW178","v":0},{"$f":"'Control Cost Schedules'!AX178","v":0},{"$f":"'Control Cost Schedules'!AY178","v":0},{"$f":"'Control Cost Schedules'!AZ178","v":0},{"$f":"'Control Cost Schedules'!BA178","v":0}]
["Granby Dam",5,"dam",2,{"$f":"'Control Cost Schedules'!D179","v":125000},{"$f":"'Control Cost Schedules'!E179","v":0},{"$f":"'Control Cost Schedules'!F179","v":0},{"$f":"'Control Cost Schedules'!G179","v":0},{"$f":"'Control Cost Schedules'!H179","v":0},{"$f":"'Control Cost Schedules'!I179","v":125000},{"$f":"'Control Cost Schedules'!J179","v":0},{"$f":"'Control Cost Schedules'!K179","v":0},{"$f":"'Control Cost Schedules'!L179","v":0},{"$f":"'Control Cost Schedules'!M179","v":0},{"$f":"'Control Cost Schedules'!N179","v":125000},{"$f":"'Control Cost Schedules'!O179","v":0},{"$f":"'Control Cost Schedules'!P179","v":0},{"$f":"'Control Cost Schedules'!Q179","v":0},{"$f":"'Control Cost Schedules'!R179","v":0},{"$f":"'Control Cost Schedules'!S179","v":125000},{"$f":"'Control Cost Schedules'!T179","v":0},{"$f":"'Control Cost Schedules'!U179","v":0},{"$f":"'Control Cost Schedules'!V179","v":0},{"$f":"'Control Cost Schedules'!W179","v":0},{"$f":"'Control Cost Schedules'!X179","v":125000},{"$f":"'Control Cost Schedules'!Y179","v":0},{"$f":"'Control Cost Schedules'!Z179","v":0},{"$f":"'Control Cost Schedules'!AA179","v":0},{"$f":"'Control Cost Schedules'!AB179","v":0},{"$f":"'Control Cost Schedules'!AC179","v":125000},{"$f":"'Control Cost Schedules'!AD179","v":0},{"$f":"'Control Cost Schedules'!AE179","v":0},{"$f":"'Control Cost Schedules'!AF179","v":0},{"$f":"'Control Cost Schedules'!AG179","v":0},{"$f":"'Control Cost Schedules'!AH179","v":125000},{"$f":"'Control Cost Schedules'!AI179","v":0},{"$f":"'Control Cost Schedules'!AJ179","v":0},{"$f":"'Control Cost Schedules'!AK179","v":0},{"$f":"'Control Cost Schedules'!AL179","v":0},{"$f":"'Control Cost Schedules'!AM179","v":125000},{"$f":"'Control Cost Schedules'!AN179","v":0},{"$f":"'Control Cost Schedules'!AO179","v":0},{"$f":"'Control Cost Schedules'!AP179","v":0},{"$f":"'Control Cost Schedules'!AQ179","v":0},{"$f":"'Control Cost Schedules'!AR179","v":125000},{"$f":"'Control Cost Schedules'!AS179","v":0},{"$f":"'Control Cost Schedules'!AT179","v":0},{"$f":"'Control Cost Schedules'!AU179","v":0},{"$f":"'Control Cost Schedules'!AV179","v":0},{"$f":"'Control Cost Schedules'!AW179","v":125000},{"$f":"'Control Cost Schedules'!AX179","v":0},{"$f":"'Control Cost Schedules'!AY179","v":0},{"$f":"'Control Cost Schedules'!AZ179","v":0},{"$f":"'Control Cost Schedules'!BA179","v":0}]
["Farr Pumping Plant",6,"pump plant",2,{"$f":"'Control Cost Schedules'!D180","v":8677.1565402964789},{"$f":"'Control Cost Schedules'!E180","v":8677.1565402964789},{"$f":"'Control Cost Schedules'!F180","v":8677.1565402964789},{"$f":"'Control Cost Schedules'!G180","v":8677.1565402964789},{"$f":"'Control Cost Schedules'!H180","v":8677.1565402964789},{"$f":"'Control Cost Schedules'!I180","v":8677.1565402964789},{"$f":"'Control Cost Schedules'!J180","v":8677.1565402964789},{"$f":"'Control Cost Schedules'!K180","v":8677.1565402964789},{"$f":"'Control Cost Schedules'!L180","v":8677.1565402964789},{"$f":"'Control Cost Schedules'!M180","v":8677.1565402964789},{"$f":"'Control Cost Schedules'!N180","v":8677.1565402964789},{"$f":"'Control Cost Schedules'!O180","v":8677.1565402964789},{"$f":"'Control Cost Schedules'!P180","v":8677.1565402964789},{"$f":"'Control Cost Schedules'!Q180","v":8677.1565402964789},{"$f":"'Control Cost Schedules'!R180","v":8677.1565402964789},{"$f":"'Control Cost Schedules'!S180","v":8677.1565402964789},{"$f":"'Control Cost Schedules'!T180","v":8677.1565402964789},{"$f":"'Control Cost Schedules'!U180","v":8677.1565402964789},{"$f":"'Control Cost Schedules'!V180","v":8677.1565402964789},{"$f":"'Control Cost Schedules'!W180","v":8677.1565402964789},{"$f":"'Control Cost Schedules'!X180","v":8677.1565402964789},{"$f":"'Control Cost Schedules'!Y180","v":3375},{"$f":"'Control Cost Schedules'!Z180","v":3375},{"$f":"'Control Cost Schedules'!AA180","v":3375},{"$f":"'Control Cost Schedules'!AB180","v":3375},{"$f":"'Control Cost Schedules'!AC180","v":3375},{"$f":"'Control Cost Schedules'!AD180","v":3375},{"$f":"'Control Cost Schedules'!AE180","v":3375},{"$f":"'Control Cost Schedules'!AF180","v":3375},{"$f":"'Control Cost Schedules'!AG180","v":3375},{"$f":"'Control Cost Schedules'!AH180","v":3375},{"$f":"'Control Cost Schedules'!AI180","v":3375},{"$f":"'Control Cost Schedules'!AJ180","v":3375},{"$f":"'Control Cost Schedules'!AK180","v":3375},{"$f":"'Control Cost Schedules'!AL180","v":3375},{"$f":"'Control Cost Schedules'!AM180","v":3375},{"$f":"'Control Cost Schedules'!AN180","v":3375},{"$f":"'Control Cost Schedules'!AO180","v":3375},{"$f":"'Control Cost Schedules'!AP180","v":3375},{"$f":"'Control Cost Schedules'!AQ180","v":3375},{"$f":"'Control Cost Schedules'!AR180","v":3375},{"$f":"'Control Cost Schedules'!AS180","v":3375},{"$f":"'Control Cost Schedules'!AT180","v":3375},{"$f":"'Control Cost Schedules'!AU180","v":3375},{"$f":"'Control Cost Schedules'!AV180","v":3375},{"$f":"'Control Cost Schedules'!AW180","v":3375},{"$f":"'Control Cost Schedules'!AX180","v":3375},{"$f":"'Control Cost Schedules'!AY180","v":3375},{"$f":"'Control Cost Schedules'!AZ180","v":3375},{"$f":"'Control Cost Schedules'!BA180","v":0}]
["Granby Pump Canal",7,"canal",2,{"$f":"'Control Cost Schedules'!D181","v":0},{"$f":"'Control Cost Schedules'!E181","v":0},{"$f":"'Control Cost Schedules'!F181","v":0},{"$f":"'Control Cost Schedules'!G181","v":0},{"$f":"'Control Cost Schedules'!H181","v":0},{"$f":"'Control Cost Schedules'!I181","v":0},{"$f":"'Control Cost Schedules'!J181","v":0},{"$f":"'Control Cost Schedules'!K181","v":0},{"$f":"'Control Cost Schedules'!L181","v":0},{"$f":"'Control Cost Schedules'!M181","v":0},{"$f":"'Control Cost Schedules'!N181","v":0},{"$f":"'Control Cost Schedules'!O181","v":0},{"$f":"'Control Cost Schedules'!P181","v":0},{"$f":"'Control Cost Schedules'!Q181","v":0},{"$f":"'Control Cost Schedules'!R181","v":0},{"$f":"'Control Cost Schedules'!S181","v":0},{"$f":"'Control Cost Schedules'!T181","v":0},{"$f":"'Control Cost Schedules'!U181","v":0},{"$f":"'Control Cost Schedules'!V181","v":0},{"$f":"'Control Cost Schedules'!W181","v":0},{"$f":"'Control Cost Schedules'!X181","v":0},{"$f":"'Control Cost Schedules'!Y181","v":0},{"$f":"'Control Cost Schedules'!Z181","v":0},{"$f":"'Control Cost Schedules'!AA181","v":0},{"$f":"'Control Cost Schedules'!AB181","v":0},{"$f":"'Control Cost Schedules'!AC181","v":0},{"$f":"'Control Cost Schedules'!AD181","v":0},{"$f":"'Control Cost Schedules'!AE181","v":0},{"$f":"'Control Cost Schedules'!AF181","v":0},{"$f":"'Control Cost Schedules'!AG181","v":0},{"$f":"'Control Cost Schedules'!AH181","v":0},{"$f":"'Control Cost Schedules'!AI181","v":0},{"$f":"'Control Cost Schedules'!AJ181","v":0},{"$f":"'Control Cost Schedules'!AK181","v":0},{"$f":"'Control Cost Schedules'!AL181","v":0},{"$f":"'Control Cost Schedules'!AM181","v":0},{"$f":"'Control Cost Schedules'!AN181","v":0},{"$f":"'Control Cost Schedules'!AO181","v":0},{"$f":"'Control Cost Schedules'!AP181","v":0},{"$f":"'Control Cost Schedules'!AQ181","v":0},{"$f":"'Control Cost Schedules'!AR181","v":0},{"$f":"'Control Cost Schedules'!AS181","v":0},{"$f":"'Control Cost Schedules'!AT181","v":0},{"$f":"'Control Cost Schedules'!AU181","v":0},{"$f":"'Control Cost Schedules'!AV181","v":0},{"$f":"'Control Cost Schedules'!AW181","v":0},{"$f":"'Control Cost Schedules'!AX181","v":0},{"$f":"'Control Cost Schedules'!AY181","v":0},{"$f":"'Control Cost Schedules'!AZ181","v":0},{"$f":"'Control Cost Schedules'!BA181","v":0}]
["Shadow Mountain Dam",8,"dam",3,{"$f":"'Control Cost Schedules'!D182","v":0},{"$f":"'Control Cost Schedules'!E182","v":0},{"$f":"'Control Cost Schedules'!F182","v":0},{"$f":"'Control Cost Schedules'!G182","v":0},{"$f":"'Control Cost Schedules'!H182","v":0},{"$f":"'Control Cost Schedules'!I182","v":0},{"$f":"'Control Cost Schedules'!J182","v":0},{"$f":"'Control Cost Schedules'!K182","v":0},{"$f":"'Control Cost Schedules'!L182","v":0},{"$f":"'Control Cost Schedules'!M182","v":0},{"$f":"'Control Cost Schedules'!N182","v":0},{"$f":"'Control Cost Schedules'!O182","v":0},{"$f":"'Control Cost Schedules'!P182","v":0},{"$f":"'Control Cost Schedules'!Q182","v":0},{"$f":"'Control Cost Schedules'!R182","v":0},{"$f":"'Control Cost Schedules'!S182","v":0},{"$f":"'Control Cost Schedules'!T182","v":0},{"$f":"'Control Cost Schedules'!U182","v":0},{"$f":"'Control Cost Schedules'!V182","v":0},{"$f":"'Control Cost Schedules'!W182","v":0},{"$f":"'Control Cost Schedules'!X182","v":0},{"$f":"'Control Cost Schedules'!Y182","v":0},{"$f":"'Control Cost Schedules'!Z182","v":0},{"$f":"'Control Cost Schedules'!AA182","v":0},{"$f":"'Control Cost Schedules'!AB182","v":0},{"$f":"'Control Cost Schedules'!AC182","v":0},{"$f":"'Control Cost Schedules'!AD182","v":0},{"$f":"'Control Cost Schedules'!AE182","v":0},{"$f":"'Control Cost Schedules'!AF182","v":0},{"$f":"'Control Cost Schedules'!AG182","v":0},{"$f":"'Control Cost Schedules'!AH182","v":0},{"$f":"'Control Cost Schedules'!AI182","v":0},{"$f":"'Control Cost Schedules'!AJ182","v":0},{"$f":"'Control Cost Schedules'!AK182","v":0},{"$f":"'Control Cost Schedules'!AL182","v":0},{"$f":"'Control Cost Schedules'!AM182","v":0},{"$f":"'Control Cost Schedules'!AN182","v":0},{"$f":"'Control Cost Schedules'!AO182","v":0},{"$f":"'Control Cost Schedules'!AP182","v":0},{"$f":"'Control Cost Schedules'!AQ182","v":0},{"$f":"'Control Cost Schedules'!AR182","v":0},{"$f":"'Control Cost Schedules'!AS182","v":0},{"$f":"'Control Cost Schedules'!AT182","v":0},{"$f":"'Control Cost Schedules'!AU182","v":0},{"$f":"'Control Cost Schedules'!AV182","v":0},{"$f":"'Control Cost Schedules'!AW182","v":0},{"$f":"'Control Cost Schedules'!AX182","v":0},{"$f":"'Control Cost Schedules'!AY182","v":0},{"$f":"'Control Cost Schedules'!AZ182","v":0},{"$f":"'Control Cost Schedules'!BA182","v":0}]
["Adams Tunnel",9,"tunnel",4,{"$f":"'Control Cost Schedules'!D183","v":250000},{"$f":"'Control Cost Schedules'!E183","v":0},{"$f":"'Control Cost Schedules'!F183","v":0},{"$f":"'Control Cost Schedules'!G183","v":0},{"$f":"'Control Cost Schedules'!H183","v":0},{"$f":"'Control Cost Schedules'!I183","v":250000},{"$f":"'Control Cost Schedules'!J183","v":0},{"$f":"'Control Cost Schedules'!K183","v":0},{"$f":"'Control Cost Schedules'!L183","v":0},{"$f":"'Control Cost Schedules'!M183","v":0},{"$f":"'Control Cost Schedules'!N183","v":250000},{"$f":"'Control Cost Schedules'!O183","v":0},{"$f":"'Control Cost Schedules'!P183","v":0},{"$f":"'Control Cost Schedules'!Q183","v":0},{"$f":"'Control Cost Schedules'!R183","v":0},{"$f":"'Control Cost Schedules'!S183","v":250000},{"$f":"'Control Cost Schedules'!T183","v":0},{"$f":"'Control Cost Schedules'!U183","v":0},{"$f":"'Control Cost Schedules'!V183","v":0},{"$f":"'Control Cost Schedules'!W183","v":0},{"$f":"'Control Cost Schedules'!X183","v":250000},{"$f":"'Control Cost Schedules'!Y183","v":0},{"$f":"'Control Cost Schedules'!Z183","v":0},{"$f":"'Control Cost Schedules'!AA183","v":0},{"$f":"'Control Cost Schedules'!AB183","v":0},{"$f":"'Control Cost Schedules'!AC183","v":250000},{"$f":"'Control Cost Schedules'!AD183","v":0},{"$f":"'Control Cost Schedules'!AE183","v":0},{"$f":"'Control Cost Schedules'!AF183","v":0},{"$f":"'Control Cost Schedules'!AG183","v":0},{"$f":"'Control Cost Schedules'!AH183","v":250000},{"$f":"'Control Cost Schedules'!AI183","v":0},{"$f":"'Control Cost Schedules'!AJ183","v":0},{"$f":"'Control Cost Schedules'!AK183","v":0},{"$f":"'Control Cost Schedules'!AL183","v":0},{"$f":"'Control Cost Schedules'!AM183","v":250000},{"$f":"'Control Cost Schedules'!AN183","v":0},{"$f":"'Control Cost Schedules'!AO183","v":0},{"$f":"'Control Cost Schedules'!AP183","v":0},{"$f":"'Control Cost Schedules'!AQ183","v":0},{"$f":"'Control Cost Schedules'!AR183","v":250000},{"$f":"'Control Cost Schedules'!AS183","v":0},{"$f":"'Control Cost Schedules'!AT183","v":0},{"$f":"'Control Cost Schedules'!AU183","v":0},{"$f":"'Control Cost Schedules'!AV183","v":0},{"$f":"'Control Cost Schedules'!AW183","v":250000},{"$f":"'Control Cost Schedules'!AX183","v":0},{"$f":"'Control Cost Schedules'!AY183","v":0},{"$f":"'Control Cost Schedules'!AZ183","v":0},{"$f":"'Control Cost Schedules'!BA183","v":0}]
["East Portal Dam",10,"dam",5,{"$f":"'Control Cost Schedules'!D184","v":125000},{"$f":"'Control Cost Schedules'!E184","v":0},{"$f":"'Control Cost Schedules'!F184","v":0},{"$f":"'Control Cost Schedules'!G184","v":0},{"$f":"'Control Cost Schedules'!H184","v":0},{"$f":"'Control Cost Schedules'!I184","v":125000},{"$f":"'Control Cost Schedules'!J184","v":0},{"$f":"'Control Cost Schedules'!K184","v":0},{"$f":"'Control Cost Schedules'!L184","v":0},{"$f":"'Control Cost Schedules'!M184","v":0},{"$f":"'Control Cost Schedules'!N184","v":125000},{"$f":"'Control Cost Schedules'!O184","v":0},{"$f":"'Control Cost Schedules'!P184","v":0},{"$f":"'Control Cost Schedules'!Q184","v":0},{"$f":"'Control Cost Schedules'!R184","v":0},{"$f":"'Control Cost Schedules'!S184","v":125000},{"$f":"'Control Cost Schedules'!T184","v":0},{"$f":"'Control Cost Schedules'!U184","v":0},{"$f":"'Control Cost Schedules'!V184","v":0},{"$f":"'Control Cost Schedules'!W184","v":0},{"$f":"'Control Cost Schedules'!X184","v":125000},{"$f":"'Control Cost Schedules'!Y184","v":0},{"$f":"'Control Cost Schedules'!Z184","v":0},{"$f":"'Control Cost Schedules'!AA184","v":0},{"$f":"'Control Cost Schedules'!AB184","v":0},{"$f":"'Control Cost Schedules'!AC184","v":125000},{"$f":"'Control Cost Schedules'!AD184","v":0},{"$f":"'Control Cost Schedules'!AE184","v":0},{"$f":"'Control Cost Schedules'!AF184","v":0},{"$f":"'Control Cost Schedules'!AG184","v":0},{"$f":"'Control Cost Schedules'!AH184","v":125000},{"$f":"'Control Cost Schedules'!AI184","v":0},{"$f":"'Control Cost Schedules'!AJ184","v":0},{"$f":"'Control Cost Schedules'!AK184","v":0},{"$f":"'Control Cost Schedules'!AL184","v":0},{"$f":"'Control Cost Schedules'!AM184","v":125000},{"$f":"'Control Cost Schedules'!AN184","v":0},{"$f":"'Control Cost Schedules'!AO184","v":0},{"$f":"'Control Cost Schedules'!AP184","v":0},{"$f":"'Control Cost Schedules'!AQ184","v":0},{"$f":"'Control Cost Schedules'!AR184","v":125000},{"$f":"'Control Cost Schedules'!AS184","v":0},{"$f":"'Control Cost Schedules'!AT184","v":0},{"$f":"'Control Cost Schedules'!AU184","v":0},{"$f":"'Control Cost Schedules'!AV184","v":0},{"$f":"'Control Cost Schedules'!AW184","v":125000},{"$f":"'Control Cost Schedules'!AX184","v":0},{"$f":"'Control Cost Schedules'!AY184","v":0},{"$f":"'Control Cost Schedules'!AZ184","v":0},{"$f":"'Control Cost Schedules'!BA184","v":0}]
["Rams Horn Tunnel",11,"tunnel",5,{"$f":"'Control Cost Schedules'!D185","v":0},{"$f":"'Control Cost Schedules'!E185","v":0},{"$f":"'Control Cost Schedules'!F185","v":0},{"$f":"'Control Cost Schedules'!G185","v":0},{"$f":"'Control Cost Schedules'!H185","v":0},{"$f":"'Control Cost Schedules'!I185","v":0},{"$f":"'Control Cost Schedules'!J185","v":0},{"$f":"'Control Cost Schedules'!K185","v":0},{"$f":"'Control Cost Schedules'!L185","v":0},{"$f":"'Control Cost Schedules'!M185","v":0},{"$f":"'Control Cost Schedules'!N185","v":0},{"$f":"'Control Cost Schedules'!O185","v":0},{"$f":"'Control Cost Schedules'!P185","v":0},{"$f":"'Control Cost Schedules'!Q185","v":0},{"$f":"'Control Cost Schedules'!R185","v":0},{"$f":"'Control Cost Schedules'!S185","v":0},{"$f":"'Control Cost Schedules'!T185","v":0},{"$f":"'Control Cost Schedules'!U185","v":0},{"$f":"'Control Cost Schedules'!V185","v":0},{"$f":"'Control Cost Schedules'!W185","v":0},{"$f":"'Control Cost Schedules'!X185","v":0},{"$f":"'Control Cost Schedules'!Y185","v":0},{"$f":"'Control Cost Schedules'!Z185","v":0},{"$f":"'Control Cost Schedules'!AA185","v":0},{"$f":"'Control Cost Schedules'!AB185","v":0},{"$f":"'Control Cost Schedules'!AC185","v":0},{"$f":"'Control Cost Schedules'!AD185","v":0},{"$f":"'Control Cost Schedules'!AE185","v":0},{"$f":"'Control Cost Schedules'!AF185","v":0},{"$f":"'Control Cost Schedules'!AG185","v":0},{"$f":"'Control Cost Schedules'!AH185","v":0},{"$f":"'Control Cost Schedules'!AI185","v":0},{"$f":"'Control Cost Schedules'!AJ185","v":0},{"$f":"'Control Cost Schedules'!AK185","v":0},{"$f":"'Control Cost Schedules'!AL185","v":0},{"$f":"'Control Cost Schedules'!AM185","v":0},{"$f":"'Control Cost Schedules'!AN185","v":0},{"$f":"'Control Cost Schedules'!AO185","v":0},{"$f":"'Control Cost Schedules'!AP185","v":0},{"$f":"'Control Cost Schedules'!AQ185","v":0},{"$f":"'Control Cost Schedules'!AR185","v":0},{"$f":"'Control Cost Schedules'!AS185","v":0},{"$f":"'Control Cost Schedules'!AT185","v":0},{"$f":"'Control Cost Schedules'!AU185","v":0},{"$f":"'Control Cost Schedules'!AV185","v":0},{"$f":"'Control Cost Schedules'!AW185","v":0},{"$f":"'Control Cost Schedules'!AX185","v":0},{"$f":"'Control Cost Schedules'!AY185","v":0},{"$f":"'Control Cost Schedules'!AZ185","v":0},{"$f":"'Control Cost Schedules'!BA185","v":0}]
["Mary's Lake Hydropower Plant",12,"hydropower",5,{"$f":"'Control Cost Schedules'!D186","v":1561.8881772533662},{"$f":"'Control Cost Schedules'!E186","v":1561.8881772533662},{"$f":"'Control Cost Schedules'!F186","v":1561.8881772533662},{"$f":"'Control Cost Schedules'!G186","v":1561.8881772533662},{"$f":"'Control Cost Schedules'!H186","v":1561.8881772533662},{"$f":"'Control Cost Schedules'!I186","v":1561.8881772533662},{"$f":"'Control Cost Schedules'!J186","v":1561.8881772533662},{"$f":"'Control Cost Schedules'!K186","v":1561.8881772533662},{"$f":"'Control Cost Schedules'!L186","v":1561.8881772533662},{"$f":"'Control Cost Schedules'!M186","v":1561.8881772533662},{"$f":"'Control Cost Schedules'!N186","v":1561.8881772533662},{"$f":"'Control Cost Schedules'!O186","v":1561.8881772533662},{"$f":"'Control Cost Schedules'!P186","v":1561.8881772533662},{"$f":"'Control Cost Schedules'!Q186","v":1561.8881772533662},{"$f":"'Control Cost Schedules'!R186","v":1561.8881772533662},{"$f":"'Control Cost Schedules'!S186","v":1561.8881772533662},{"$f":"'Control Cost Schedules'!T186","v":1561.8881772533662},{"$f":"'Control Cost Schedules'!U186","v":1561.8881772533662},{"$f":"'Control Cost Schedules'!V186","v":1561.8881772533662},{"$f":"'Control Cost Schedules'!W186","v":1561.8881772533662},{"$f":"'Control Cost Schedules'!X186","v":1561.8881772533662},{"$f":"'Control Cost Schedules'!Y186","v":607.5},{"$f":"'Control Cost Schedules'!Z186","v":607.5},{"$f":"'Control Cost Schedules'!AA186","v":607.5},{"$f":"'Control Cost Schedules'!AB186","v":607.5},{"$f":"'Control Cost Schedules'!AC186","v":607.5},{"$f":"'Control Cost Schedules'!AD186","v":607.5},{"$f":"'Control Cost Schedules'!AE186","v":607.5},{"$f":"'Control Cost Schedules'!AF186","v":607.5},{"$f":"'Control Cost Schedules'!AG186","v":607.5},{"$f":"'Control Cost Schedules'!AH186","v":607.5},{"$f":"'Control Cost Schedules'!AI186","v":607.5},{"$f":"'Control Cost Schedules'!AJ186","v":607.5},{"$f":"'Control Cost Schedules'!AK186","v":607.5},{"$f":"'Control Cost Schedules'!AL186","v":607.5},{"$f":"'Control Cost Schedules'!AM186","v":607.5},{"$f":"'Control Cost Schedules'!AN186","v":607.5},{"$f":"'Control Cost Schedules'!AO186","v":607.5},{"$f":"'Control Cost Schedules'!AP186","v":607.5},{"$f":"'Control Cost Schedules'!AQ186","v":607.5},{"$f":"'Control Cost Schedules'!AR186","v":607.5},{"$f":"'Control Cost Schedules'!AS186","v":607.5},{"$f":"'Control Cost Schedules'!AT186","v":607.5},{"$f":"'Control Cost Schedules'!AU186","v":607.5},{"$f":"'Control Cost Schedules'!AV186","v":607.5},{"$f":"'Control Cost Schedules'!AW186","v":607.5},{"$f":"'Control Cost Schedules'!AX186","v":607.5},{"$f":"'Control Cost Schedules'!AY186","v":607.5},{"$f":"'Control Cost Schedules'!AZ186","v":607.5},{"$f":"'Control Cost Schedules'!BA186","v":0}]
["Prospect Mountain Tunnel",13,"tunnel",6,{"$f":"'Control Cost Schedules'!D187","v":0},{"$f":"'Control Cost Schedules'!E187","v":0},{"$f":"'Control Cost Schedules'!F187","v":0},{"$f":"'Control Cost Schedules'!G187","v":0},{"$f":"'Control Cost Schedules'!H187","v":0},{"$f":"'Control Cost Schedules'!I187","v":0},{"$f":"'Control Cost Schedules'!J187","v":0},{"$f":"'Control Cost Schedules'!K187","v":0},{"$f":"'Control Cost Schedules'!L187","v":0},{"$f":"'Control Cost Schedules'!M187","v":0},{"$f":"'Control Cost Schedules'!N187","v":0},{"$f":"'Control Cost Schedules'!O187","v":0},{"$f":"'Control Cost Schedules'!P187","v":0},{"$f":"'Control Cost Schedules'!Q187","v":0},{"$f":"'Control Cost Schedules'!R187","v":0},{"$f":"'Control Cost Schedules'!S187","v":0},{"$f":"'Control Cost Schedules'!T187","v":0},{"$f":"'Control Cost Schedules'!U187","v":0},{"$f":"'Control Cost Schedules'!V187","v":0},{"$f":"'Control Cost Schedules'!W187","v":0},{"$f":"'Control Cost Schedules'!X187","v":0},{"$f":"'Control Cost Schedules'!Y187","v":0},{"$f":"'Control Cost Schedules'!Z187","v":0},{"$f":"'Control Cost Schedules'!AA187","v":0},{"$f":"'Control Cost Schedules'!AB187","v":0},{"$f":"'Control Cost Schedules'!AC187","v":0},{"$f":"'Control Cost Schedules'!AD187","v":0},{"$f":"'Control Cost Schedules'!AE187","v":0},{"$f":"'Control Cost Schedules'!AF187","v":0},{"$f":"'Control Cost Schedules'!AG187","v":0},{"$f":"'Control Cost Schedules'!AH187","v":0},{"$f":"'Control Cost Schedules'!AI187","v":0},{"$f":"'Control Cost Schedules'!AJ187","v":0},{"$f":"'Control Cost Schedules'!AK187","v":0},{"$f":"'Control Cost Schedules'!AL187","v":0},{"$f":"'Control Cost Schedules'!AM187","v":0},{"$f":"'Control Cost Schedules'!AN187","v":0},{"$f":"'Control Cost Schedules'!AO187","v":0},{"$f":"'Control Cost Schedules'!AP187","v":0},{"$f":"'Control Cost Schedules'!AQ187","v":0},{"$f":"'Control Cost Schedules'!AR187","v":0},{"$f":"'Control Cost Schedules'!AS187","v":0},{"$f":"'Control Cost Schedules'!AT187","v":0},{"$f":"'Control Cost Schedules'!AU187","v":0},{"$f":"'Control Cost Schedules'!AV187","v":0},{"$f":"'Control Cost Schedules'!AW187","v":0},{"$f":"'Control Cost Schedules'!AX187","v":0},{"$f":"'Control Cost Schedules'!AY187","v":0},{"$f":"'Control Cost Schedules'!AZ187","v":0},{"$f":"'Control Cost Schedules'!BA187","v":0}]
["Estes Hydropower Plant",14,"hydropower",6,{"$f":"'Control Cost Schedules'!D188","v":8677.1565402964789},{"$f":"'Control Cost Schedules'!E188","v":8677.1565402964789},{"$f":"'Control Cost Schedules'!F188","v":8677.1565402964789},{"$f":"'Control Cost Schedules'!G188","v":8677.1565402964789},{"$f":"'Control Cost Schedules'!H188","v":8677.1565402964789},{"$f":"'Control Cost Schedules'!I188","v":8677.1565402964789},{"$f":"'Control Cost Schedules'!J188","v":8677.1565402964789},{"$f":"'Control Cost Schedules'!K188","v":8677.1565402964789},{"$f":"'Control Cost Schedules'!L188","v":8677.1565402964789},{"$f":"'Control Cost Schedules'!M188","v":8677.1565402964789},{"$f":"'Control Cost Schedules'!N188","v":8677.1565402964789},{"$f":"'Control Cost Schedules'!O188","v":8677.1565402964789},{"$f":"'Control Cost Schedules'!P188","v":8677.1565402964789},{"$f":"'Control Cost Schedules'!Q188","v":8677.1565402964789},{"$f":"'Control Cost Schedules'!R188","v":8677.1565402964789},{"$f":"'Control Cost Schedules'!S188","v":8677.1565402964789},{"$f":"'Control Cost Schedules'!T188","v":8677.1565402964789},{"$f":"'Control Cost Schedules'!U188","v":8677.1565402964789},{"$f":"'Control Cost Schedules'!V188","v":8677.1565402964789},{"$f":"'Control Cost Schedules'!W188","v":8677.1565402964789},{"$f":"'Control Cost Schedules'!X188","v":8677.1565402964789},{"$f":"'Control Cost Schedules'!Y188","v":3375},{"$f":"'Control Cost Schedules'!Z188","v":3375},{"$f":"'Control Cost Schedules'!AA188","v":3375},{"$f":"'Control Cost Schedules'!AB188","v":3375},{"$f":"'Control Cost Schedules'!AC188","v":3375},{"$f":"'Control Cost Schedules'!AD188","v":3375},{"$f":"'Control Cost Schedules'!AE188","v":3375},{"$f":"'Control Cost Schedules'!AF188","v":3375},{"$f":"'Control Cost Schedules'!AG188","v":3375},{"$f":"'Control Cost Schedules'!AH188","v":3375},{"$f":"'Control Cost Schedules'!AI188","v":3375},{"$f":"'Control Cost Schedules'!AJ188","v":3375},{"$f":"'Control Cost Schedules'!AK188","v":3375},{"$f":"'Control Cost Schedules'!AL188","v":3375},{"$f":"'Control Cost Schedules'!AM188","v":3375},{"$f":"'Control Cost Schedules'!AN188","v":3375},{"$f":"'Control Cost Schedules'!AO188","v":3375},{"$f":"'Control Cost Schedules'!AP188","v":3375},{"$f":"'Control Cost Schedules'!AQ188","v":3375},{"$f":"'Control Cost Schedules'!AR188","v":3375},{"$f":"'Control Cost Schedules'!AS188","v":3375},{"$f":"'Control Cost Schedules'!AT188","v":3375},{"$f":"'Control Cost Schedules'!AU188","v":3375},{"$f":"'Control Cost Schedules'!AV188","v":3375},{"$f":"'Control Cost Schedules'!AW188","v":3375},{"$f":"'Control Cost Schedules'!AX188","v":3375},{"$f":"'Control Cost Schedules'!AY188","v":3375},{"$f":"'Control Cost Schedules'!AZ188","v":3375},{"$f":"'Control Cost Schedules'!BA188","v":0}]
["Town of Estes",15,"water filter plant",6,{"$f":"'Control Cost Schedules'!D189","v":8249.3047713841261},{"$f":"'Control Cost Schedules'!E189","v":8249.3047713841261},{"$f":"'Control Cost Schedules'!F189","v":8249.3047713841261},{"$f":"'Control Cost Schedules'!G189","v":8249.3047713841261},{"$f":"'Control Cost Schedules'!H189","v":8249.3047713841261},{"$f":"'Control Cost Schedules'!I189","v":8249.3047713841261},{"$f":"'Control Cost Schedules'!J189","v":8249.3047713841261},{"$f":"'Control Cost Schedules'!K189","v":8249.3047713841261},{"$f":"'Control Cost Schedules'!L189","v":8249.3047713841261},{"$f":"'Control Cost Schedules'!M189","v":8249.3047713841261},{"$f":"'Control Cost Schedules'!N189","v":8249.3047713841261},{"$f":"'Control Cost Schedules'!O189","v":8249.3047713841261},{"$f":"'Control Cost Schedules'!P189","v":8249.3047713841261},{"$f":"'Control Cost Schedules'!Q189","v":8249.3047713841261},{"$f":"'Control Cost Schedules'!R189","v":8249.3047713841261},{"$f":"'Control Cost Schedules'!S189","v":8249.3047713841261},{"$f":"'Control Cost Schedules'!T189","v":8249.3047713841261},{"$f":"'Control Cost Schedules'!U189","v":8249.3047713841261},{"$f":"'Control Cost Schedules'!V189","v":8249.3047713841261},{"$f":"'Control Cost Schedules'!W189","v":8249.3047713841261},{"$f":"'Control Cost Schedules'!X189","v":8249.3047713841261},{"$f":"'Control Cost Schedules'!Y189","v":3690},{"$f":"'Control Cost Schedules'!Z189","v":3690},{"$f":"'Control Cost Schedules'!AA189","v":3690},{"$f":"'Control Cost Schedules'!AB189","v":3690},{"$f":"'Control Cost Schedules'!AC189","v":3690},{"$f":"'Control Cost Schedules'!AD189","v":3690},{"$f":"'Control Cost Schedules'!AE189","v":3690},{"$f":"'Control Cost Schedules'!AF189","v":3690},{"$f":"'Control Cost Schedules'!AG189","v":3690},{"$f":"'Control Cost Schedules'!AH189","v":3690},{"$f":"'Control Cost Schedules'!AI189","v":3690},{"$f":"'Control Cost Schedules'!AJ189","v":3690},{"$f":"'Control Cost Schedules'!AK189","v":3690},{"$f":"'Control Cost Schedules'!AL189","v":3690},{"$f":"'Control Cost Schedules'!AM189","v":3690},{"$f":"'Control Cost Schedules'!AN189","v":3690},{"$f":"'Control Cost Schedules'!AO189","v":3690},{"$f":"'Control Cost Schedules'!AP189","v":3690},{"$f":"'Control Cost Schedules'!AQ189","v":3690},{"$f":"'Control Cost Schedules'!AR189","v":3690},{"$f":"'Control Cost Schedules'!AS189","v":3690},{"$f":"'Control Cost Schedules'!AT189","v":3690},{"$f":"'Control Cost Schedules'!AU189","v":3690},{"$f":"'Control Cost Schedules'!AV189","v":3690},{"$f":"'Control Cost Schedules'!AW189","v":3690},{"$f":"'Control Cost Schedules'!AX189","v":3690},{"$f":"'Control Cost Schedules'!AY189","v":3690},{"$f":"'Control Cost Schedules'!AZ189","v":3690},{"$f":"'Control Cost Schedules'!BA189","v":0}]
["Mary's Lake (Town)",16,"water filter plant",6,{"$f":"'Control Cost Schedules'!D190","v":8249.3047713841261},{"$f":"'Control Cost Schedules'!E190","v":8249.3047713841261},{"$f":"'Control Cost Schedules'!F190","v":8249.3047713841261},{"$f":"'Control Cost Schedules'!G190","v":8249.3047713841261},{"$f":"'Control Cost Schedules'!H190","v":8249.3047713841261},{"$f":"'Control Cost Schedules'!I190","v":8249.3047713841261},{"$f":"'Control Cost Schedules'!J190","v":8249.3047713841261},{"$f":"'Control Cost Schedules'!K190","v":8249.3047713841261},{"$f":"'Control Cost Schedules'!L190","v":8249.3047713841261},{"$f":"'Control Cost Schedules'!M190","v":8249.3047713841261},{"$f":"'Control Cost Schedules'!N190","v":8249.3047713841261},{"$f":"'Control Cost Schedules'!O190","v":8249.3047713841261},{"$f":"'Control Cost Schedules'!P190","v":8249.3047713841261},{"$f":"'Control Cost Schedules'!Q190","v":8249.3047713841261},{"$f":"'Control Cost Schedules'!R190","v":8249.3047713841261},{"$f":"'Control Cost Schedules'!S190","v":8249.3047713841261},{"$f":"'Control Cost Schedules'!T190","v":8249.3047713841261},{"$f":"'Control Cost Schedules'!U190","v":8249.3047713841261},{"$f":"'Control Cost Schedules'!V190","v":8249.3047713841261},{"$f":"'Control Cost Schedules'!W190","v":8249.3047713841261},{"$f":"'Control Cost Schedules'!X190","v":8249.3047713841261},{"$f":"'Control Cost Schedules'!Y190","v":3690},{"$f":"'Control Cost Schedules'!Z190","v":3690},{"$f":"'Control Cost Schedules'!AA190","v":3690},{"$f":"'Control Cost Schedules'!AB190","v":3690},{"$f":"'Control Cost Schedules'!AC190","v":3690},{"$f":"'Control Cost Schedules'!AD190","v":3690},{"$f":"'Control Cost Schedules'!AE190","v":3690},{"$f":"'Control Cost Schedules'!AF190","v":3690},{"$f":"'Control Cost Schedules'!AG190","v":3690},{"$f":"'Control Cost Schedules'!AH190","v":3690},{"$f":"'Control Cost Schedules'!AI190","v":3690},{"$f":"'Control Cost Schedules'!AJ190","v":3690},{"$f":"'Control Cost Schedules'!AK190","v":3690},{"$f":"'Control Cost Schedules'!AL190","v":3690},{"$f":"'Control Cost Schedules'!AM190","v":3690},{"$f":"'Control Cost Schedules'!AN190","v":3690},{"$f":"'Control Cost Schedules'!AO190","v":3690},{"$f":"'Control Cost Schedules'!AP190","v":3690},{"$f":"'Control Cost Schedules'!AQ190","v":3690},{"$f":"'Control Cost Schedules'!AR190","v":3690},{"$f":"'Control Cost Schedules'!AS190","v":3690},{"$f":"'Control Cost Schedules'!AT190","v":3690},{"$f":"'Control Cost Schedules'!AU190","v":3690},{"$f":"'Control Cost Schedules'!AV190","v":3690},{"$f":"'Control Cost Schedules'!AW190","v":3690},{"$f":"'Control Cost Schedules'!AX190","v":3690},{"$f":"'Control Cost Schedules'!AY190","v":3690},{"$f":"'Control Cost Schedules'!AZ190","v":3690},{"$f":"'Control Cost Schedules'!BA190","v":0}]
["Olympus Dam",17,"dam",7,{"$f":"'Control Cost Schedules'!D191","v":125000},{"$f":"'Control Cost Schedules'!E191","v":0},{"$f":"'Control Cost Schedules'!F191","v":0},{"$f":"'Control Cost Schedules'!G191","v":0},{"$f":"'Control Cost Schedules'!H191","v":0},{"$f":"'Control Cost Schedules'!I191","v":125000},{"$f":"'Control Cost Schedules'!J191","v":0},{"$f":"'Control Cost Schedules'!K191","v":0},{"$f":"'Control Cost Schedules'!L191","v":0},{"$f":"'Control Cost Schedules'!M191","v":0},{"$f":"'Control Cost Schedules'!N191","v":125000},{"$f":"'Control Cost Schedules'!O191","v":0},{"$f":"'Control Cost Schedules'!P191","v":0},{"$f":"'Control Cost Schedules'!Q191","v":0},{"$f":"'Control Cost Schedules'!R191","v":0},{"$f":"'Control Cost Schedules'!S191","v":125000},{"$f":"'Control Cost Schedules'!T191","v":0},{"$f":"'Control Cost Schedules'!U191","v":0},{"$f":"'Control Cost Schedules'!V191","v":0},{"$f":"'Control Cost Schedules'!W191","v":0},{"$f":"'Control Cost Schedules'!X191","v":125000},{"$f":"'Control Cost Schedules'!Y191","v":0},{"$f":"'Control Cost Schedules'!Z191","v":0},{"$f":"'Control Cost Schedules'!AA191","v":0},{"$f":"'Control Cost Schedules'!AB191","v":0},{"$f":"'Control Cost Schedules'!AC191","v":125000},{"$f":"'Control Cost Schedules'!AD191","v":0},{"$f":"'Control Cost Schedules'!AE191","v":0},{"$f":"'Control Cost Schedules'!AF191","v":0},{"$f":"'Control Cost Schedules'!AG191","v":0},{"$f":"'Control Cost Schedules'!AH191","v":125000},{"$f":"'Control Cost Schedules'!AI191","v":0},{"$f":"'Control Cost Schedules'!AJ191","v":0},{"$f":"'Control Cost Schedules'!AK191","v":0},{"$f":"'Control Cost Schedules'!AL191","v":0},{"$f":"'Control Cost Schedules'!AM191","v":125000},{"$f":"'Control Cost Schedules'!AN191","v":0},{"$f":"'Control Cost Schedules'!AO191","v":0},{"$f":"'Control Cost Schedules'!AP191","v":0},{"$f":"'Control Cost Schedules'!AQ191","v":0},{"$f":"'Control Cost Schedules'!AR191","v":125000},{"$f":"'Control Cost Schedules'!AS191","v":0},{"$f":"'Control Cost Schedules'!AT191","v":0},{"$f":"'Control Cost Schedules'!AU191","v":0},{"$f":"'Control Cost Schedules'!AV191","v":0},{"$f":"'Control Cost Schedules'!AW191","v":125000},{"$f":"'Control Cost Schedules'!AX191","v":0},{"$f":"'Control Cost Schedules'!AY191","v":0},{"$f":"'Control Cost Schedules'!AZ191","v":0},{"$f":"'Control Cost Schedules'!BA191","v":0}]
["Olympus Tunnel",18,"tunnel",7,{"$f":"'Control Cost Schedules'!D192","v":0},{"$f":"'Control Cost Schedules'!E192","v":0},{"$f":"'Control Cost Schedules'!F192","v":0},{"$f":"'Control Cost Schedules'!G192","v":0},{"$f":"'Control Cost Schedules'!H192","v":0},{"$f":"'Control Cost Schedules'!I192","v":0},{"$f":"'Control Cost Schedules'!J192","v":0},{"$f":"'Control Cost Schedules'!K192","v":0},{"$f":"'Control Cost Schedules'!L192","v":0},{"$f":"'Control Cost Schedules'!M192","v":0},{"$f":"'Control Cost Schedules'!N192","v":0},{"$f":"'Control Cost Schedules'!O192","v":0},{"$f":"'Control Cost Schedules'!P192","v":0},{"$f":"'Control Cost Schedules'!Q192","v":0},{"$f":"'Control Cost Schedules'!R192","v":0},{"$f":"'Control Cost Schedules'!S192","v":0},{"$f":"'Control Cost Schedules'!T192","v":0},{"$f":"'Control Cost Schedules'!U192","v":0},{"$f":"'Control Cost Schedules'!V192","v":0},{"$f":"'Control Cost Schedules'!W192","v":0},{"$f":"'Control Cost Schedules'!X192","v":0},{"$f":"'Control Cost Schedules'!Y192","v":0},{"$f":"'Control Cost Schedules'!Z192","v":0},{"$f":"'Control Cost Schedules'!AA192","v":0},{"$f":"'Control Cost Schedules'!AB192","v":0},{"$f":"'Control Cost Schedules'!AC192","v":0},{"$f":"'Control Cost Schedules'!AD192","v":0},{"$f":"'Control Cost Schedules'!AE192","v":0},{"$f":"'Control Cost Schedules'!AF192","v":0},{"$f":"'Control Cost Schedules'!AG192","v":0},{"$f":"'Control Cost Schedules'!AH192","v":0},{"$f":"'Control Cost Schedules'!AI192","v":0},{"$f":"'Control Cost Schedules'!AJ192","v":0},{"$f":"'Control Cost Schedules'!AK192","v":0},{"$f":"'Control Cost Schedules'!AL192","v":0},{"$f":"'Control Cost Schedules'!AM192","v":0},{"$f":"'Control Cost Schedules'!AN192","v":0},{"$f":"'Control Cost Schedules'!AO192","v":0},{"$f":"'Control Cost Schedules'!AP192","v":0},{"$f":"'Control Cost Schedules'!AQ192","v":0},{"$f":"'Control Cost Schedules'!AR192","v":0},{"$f":"'Control Cost Schedules'!AS192","v":0},{"$f":"'Control Cost Schedules'!AT192","v":0},{"$f":"'Control Cost Schedules'!AU192","v":0},{"$f":"'Control Cost Schedules'!AV192","v":0},{"$f":"'Control Cost Schedules'!AW192","v":0},{"$f":"'Control Cost Schedules'!AX192","v":0},{"$f":"'Control Cost Schedules'!AY192","v":0},{"$f":"'Control Cost Schedules'!AZ192","v":0},{"$f":"'Control Cost Schedules'!BA192","v":0}]
["Pole Hill Tunnel",19,"tunnel",7,{"$f":"'Control Cost Schedules'!D193","v":0},{"$f":"'Control Cost Schedules'!E193","v":0},{"$f":"'Control Cost Schedules'!F193","v":0},{"$f":"'Control Cost Schedules'!G193","v":0},{"$f":"'Control Cost Schedules'!H193","v":0},{"$f":"'Control Cost Schedules'!I193","v":0},{"$f":"'Control Cost Schedules'!J193","v":0},{"$f":"'Control Cost Schedules'!K193","v":0},{"$f":"'Control Cost Schedules'!L193","v":0},{"$f":"'Control Cost Schedules'!M193","v":0},{"$f":"'Control Cost Schedules'!N193","v":0},{"$f":"'Control Cost Schedules'!O193","v":0},{"$f":"'Control Cost Schedules'!P193","v":0},{"$f":"'Control Cost Schedules'!Q193","v":0},{"$f":"'Control Cost Schedules'!R193","v":0},{"$f":"'Control Cost Schedules'!S193","v":0},{"$f":"'Control Cost Schedules'!T193","v":0},{"$f":"'Control Cost Schedules'!U193","v":0},{"$f":"'Control Cost Schedules'!V193","v":0},{"$f":"'Control Cost Schedules'!W193","v":0},{"$f":"'Control Cost Schedules'!X193","v":0},{"$f":"'Control Cost Schedules'!Y193","v":0},{"$f":"'Control Cost Schedules'!Z193","v":0},{"$f":"'Control Cost Schedules'!AA193","v":0},{"$f":"'Control Cost Schedules'!AB193","v":0},{"$f":"'Control Cost Schedules'!AC193","v":0},{"$f":"'Control Cost Schedules'!AD193","v":0},{"$f":"'Control Cost Schedules'!AE193","v":0},{"$f":"'Control Cost Schedules'!AF193","v":0},{"$f":"'Control Cost Schedules'!AG193","v":0},{"$f":"'Control Cost Schedules'!AH193","v":0},{"$f":"'Control Cost Schedules'!AI193","v":0},{"$f":"'Control Cost Schedules'!AJ193","v":0},{"$f":"'Control Cost Schedules'!AK193","v":0},{"$f":"'Control Cost Schedules'!AL193","v":0},{"$f":"'Control Cost Schedules'!AM193","v":0},{"$f":"'Control Cost Schedules'!AN193","v":0},{"$f":"'Control Cost Schedules'!AO193","v":0},{"$f":"'Control Cost Schedules'!AP193","v":0},{"$f":"'Control Cost Schedules'!AQ193","v":0},{"$f":"'Control Cost Schedules'!AR193","v":0},{"$f":"'Control Cost Schedules'!AS193","v":0},{"$f":"'Control Cost Schedules'!AT193","v":0},{"$f":"'Control Cost Schedules'!AU193","v":0},{"$f":"'Control Cost Schedules'!AV193","v":0},{"$f":"'Control Cost Schedules'!AW193","v":0},{"$f":"'Control Cost Schedules'!AX193","v":0},{"$f":"'Control Cost Schedules'!AY193","v":0},{"$f":"'Control Cost Schedules'!AZ193","v":0},{"$f":"'Control Cost Schedules'!BA193","v":0}]
["Pole Hill Hydropower Plant",20,"hydropower",7,{"$f":"'Control Cost Schedules'!D194","v":7365.9417742072346},{"$f":"'Control Cost Schedules'!E194","v":7365.9417742072346},{"$f":"'Control Cost Schedules'!F194","v":7365.9417742072346},{"$f":"'Control Cost Schedules'!G194","v":7365.9417742072346},{"$f":"'Control Cost Schedules'!H194","v":7365.9417742072346},{"$f":"'Control Cost Schedules'!I194","v":7365.9417742072346},{"$f":"'Control Cost Schedules'!J194","v":7365.9417742072346},{"$f":"'Control Cost Schedules'!K194","v":7365.9417742072346},{"$f":"'Control Cost Schedules'!L194","v":7365.9417742072346},{"$f":"'Control Cost Schedules'!M194","v":7365.9417742072346},{"$f":"'Control Cost Schedules'!N194","v":7365.9417742072346},{"$f":"'Control Cost Schedules'!O194","v":7365.9417742072346},{"$f":"'Control Cost Schedules'!P194","v":7365.9417742072346},{"$f":"'Control Cost Schedules'!Q194","v":7365.9417742072346},{"$f":"'Control Cost Schedules'!R194","v":7365.9417742072346},{"$f":"'Control Cost Schedules'!S194","v":7365.9417742072346},{"$f":"'Control Cost Schedules'!T194","v":7365.9417742072346},{"$f":"'Control Cost Schedules'!U194","v":7365.9417742072346},{"$f":"'Control Cost Schedules'!V194","v":7365.9417742072346},{"$f":"'Control Cost Schedules'!W194","v":7365.9417742072346},{"$f":"'Control Cost Schedules'!X194","v":7365.9417742072346},{"$f":"'Control Cost Schedules'!Y194","v":2865},{"$f":"'Control Cost Schedules'!Z194","v":2865},{"$f":"'Control Cost Schedules'!AA194","v":2865},{"$f":"'Control Cost Schedules'!AB194","v":2865},{"$f":"'Control Cost Schedules'!AC194","v":2865},{"$f":"'Control Cost Schedules'!AD194","v":2865},{"$f":"'Control Cost Schedules'!AE194","v":2865},{"$f":"'Control Cost Schedules'!AF194","v":2865},{"$f":"'Control Cost Schedules'!AG194","v":2865},{"$f":"'Control Cost Schedules'!AH194","v":2865},{"$f":"'Control Cost Schedules'!AI194","v":2865},{"$f":"'Control Cost Schedules'!AJ194","v":2865},{"$f":"'Control Cost Schedules'!AK194","v":2865},{"$f":"'Control Cost Schedules'!AL194","v":2865},{"$f":"'Control Cost Schedules'!AM194","v":2865},{"$f":"'Control Cost Schedules'!AN194","v":2865},{"$f":"'Control Cost Schedules'!AO194","v":2865},{"$f":"'Control Cost Schedules'!AP194","v":2865},{"$f":"'Control Cost Schedules'!AQ194","v":2865},{"$f":"'Control Cost Schedules'!AR194","v":2865},{"$f":"'Control Cost Schedules'!AS194","v":2865},{"$f":"'Control Cost Schedules'!AT194","v":2865},{"$f":"'Control Cost Schedules'!AU194","v":2865},{"$f":"'Control Cost Schedules'!AV194","v":2865},{"$f":"'Control Cost Schedules'!AW194","v":2865},{"$f":"'Control Cost Schedules'!AX194","v":2865},{"$f":"'Control Cost Schedules'!AY194","v":2865},{"$f":"'Control Cost Schedules'!AZ194","v":2865},{"$f":"'Control Cost Schedules'!BA194","v":0}]
["Rattlesnake Tunnel",21,"tunnel",7,{"$f":"'Control Cost Schedules'!D195","v":0},{"$f":"'Control Cost Schedules'!E195","v":0},{"$f":"'Control Cost Schedules'!F195","v":0},{"$f":"'Control Cost Schedules'!G195","v":0},{"$f":"'Control Cost Schedules'!H195","v":0},{"$f":"'Control Cost Schedules'!I195","v":0},{"$f":"'Control Cost Schedules'!J195","v":0},{"$f":"'Control Cost Schedules'!K195","v":0},{"$f":"'Control Cost Schedules'!L195","v":0},{"$f":"'Control Cost Schedules'!M195","v":0},{"$f":"'Control Cost Schedules'!N195","v":0},{"$f":"'Control Cost Schedules'!O195","v":0},{"$f":"'Control Cost Schedules'!P195","v":0},{"$f":"'Control Cost Schedules'!Q195","v":0},{"$f":"'Control Cost Schedules'!R195","v":0},{"$f":"'Control Cost Schedules'!S195","v":0},{"$f":"'Control Cost Schedules'!T195","v":0},{"$f":"'Control Cost Schedules'!U195","v":0},{"$f":"'Control Cost Schedules'!V195","v":0},{"$f":"'Control Cost Schedules'!W195","v":0},{"$f":"'Control Cost Schedules'!X195","v":0},{"$f":"'Control Cost Schedules'!Y195","v":0},{"$f":"'Control Cost Schedules'!Z195","v":0},{"$f":"'Control Cost Schedules'!AA195","v":0},{"$f":"'Control Cost Schedules'!AB195","v":0},{"$f":"'Control Cost Schedules'!AC195","v":0},{"$f":"'Control Cost Schedules'!AD195","v":0},{"$f":"'Control Cost Schedules'!AE195","v":0},{"$f":"'Control Cost Schedules'!AF195","v":0},{"$f":"'Control Cost Schedules'!AG195","v":0},{"$f":"'Control Cost Schedules'!AH195","v":0},{"$f":"'Control Cost Schedules'!AI195","v":0},{"$f":"'Control Cost Schedules'!AJ195","v":0},{"$f":"'Control Cost Schedules'!AK195","v":0},{"$f":"'Control Cost Schedules'!AL195","v":0},{"$f":"'Control Cost Schedules'!AM195","v":0},{"$f":"'Control Cost Schedules'!AN195","v":0},{"$f":"'Control Cost Schedules'!AO195","v":0},{"$f":"'Control Cost Schedules'!AP195","v":0},{"$f":"'Control Cost Schedules'!AQ195","v":0},{"$f":"'Control Cost Schedules'!AR195","v":0},{"$f":"'Control Cost Schedules'!AS195","v":0},{"$f":"'Control Cost Schedules'!AT195","v":0},{"$f":"'Control Cost Schedules'!AU195","v":0},{"$f":"'Control Cost Schedules'!AV195","v":0},{"$f":"'Control Cost Schedules'!AW195","v":0},{"$f":"'Control Cost Schedules'!AX195","v":0},{"$f":"'Control Cost Schedules'!AY195","v":0},{"$f":"'Control Cost Schedules'!AZ195","v":0},{"$f":"'Control Cost Schedules'!BA195","v":0}]
["Rattlesnake Dam",22,"dam",8,{"$f":"'Control Cost Schedules'!D196","v":125000},{"$f":"'Control Cost Schedules'!E196","v":0},{"$f":"'Control Cost Schedules'!F196","v":0},{"$f":"'Control Cost Schedules'!G196","v":0},{"$f":"'Control Cost Schedules'!H196","v":0},{"$f":"'Control Cost Schedules'!I196","v":125000},{"$f":"'Control Cost Schedules'!J196","v":0},{"$f":"'Control Cost Schedules'!K196","v":0},{"$f":"'Control Cost Schedules'!L196","v":0},{"$f":"'Control Cost Schedules'!M196","v":0},{"$f":"'Control Cost Schedules'!N196","v":125000},{"$f":"'Control Cost Schedules'!O196","v":0},{"$f":"'Control Cost Schedules'!P196","v":0},{"$f":"'Control Cost Schedules'!Q196","v":0},{"$f":"'Control Cost Schedules'!R196","v":0},{"$f":"'Control Cost Schedules'!S196","v":125000},{"$f":"'Control Cost Schedules'!T196","v":0},{"$f":"'Control Cost Schedules'!U196","v":0},{"$f":"'Control Cost Schedules'!V196","v":0},{"$f":"'Control Cost Schedules'!W196","v":0},{"$f":"'Control Cost Schedules'!X196","v":125000},{"$f":"'Control Cost Schedules'!Y196","v":0},{"$f":"'Control Cost Schedules'!Z196","v":0},{"$f":"'Control Cost Schedules'!AA196","v":0},{"$f":"'Control Cost Schedules'!AB196","v":0},{"$f":"'Control Cost Schedules'!AC196","v":125000},{"$f":"'Control Cost Schedules'!AD196","v":0},{"$f":"'Control Cost Schedules'!AE196","v":0},{"$f":"'Control Cost Schedules'!AF196","v":0},{"$f":"'Control Cost Schedules'!AG196","v":0},{"$f":"'Control Cost Schedules'!AH196","v":125000},{"$f":"'Control Cost Schedules'!AI196","v":0},{"$f":"'Control Cost Schedules'!AJ196","v":0},{"$f":"'Control Cost Schedules'!AK196","v":0},{"$f":"'Control Cost Schedules'!AL196","v":0},{"$f":"'Control Cost Schedules'!AM196","v":125000},{"$f":"'Control Cost Schedules'!AN196","v":0},{"$f":"'Control Cost Schedules'!AO196","v":0},{"$f":"'Control Cost Schedules'!AP196","v":0},{"$f":"'Control Cost Schedules'!AQ196","v":0},{"$f":"'Control Cost Schedules'!AR196","v":125000},{"$f":"'Control Cost Schedules'!AS196","v":0},{"$f":"'Control Cost Schedules'!AT196","v":0},{"$f":"'Control Cost Schedules'!AU196","v":0},{"$f":"'Control Cost Schedules'!AV196","v":0},{"$f":"'Control Cost Schedules'!AW196","v":125000},{"$f":"'Control Cost Schedules'!AX196","v":0},{"$f":"'Control Cost Schedules'!AY196","v":0},{"$f":"'Control Cost Schedules'!AZ196","v":0},{"$f":"'Control Cost Schedules'!BA196","v":0}]
["Bald Mountain Tunnel",23,"tunnel",8,{"$f":"'Control Cost Schedules'!D197","v":0},{"$f":"'Control Cost Schedules'!E197","v":0},{"$f":"'Control Cost Schedules'!F197","v":0},{"$f":"'Control Cost Schedules'!G197","v":0},{"$f":"'Control Cost Schedules'!H197","v":0},{"$f":"'Control Cost Schedules'!I197","v":0},{"$f":"'Control Cost Schedules'!J197","v":0},{"$f":"'Control Cost Schedules'!K197","v":0},{"$f":"'Control Cost Schedules'!L197","v":0},{"$f":"'Control Cost Schedules'!M197","v":0},{"$f":"'Control Cost Schedules'!N197","v":0},{"$f":"'Control Cost Schedules'!O197","v":0},{"$f":"'Control Cost Schedules'!P197","v":0},{"$f":"'Control Cost Schedules'!Q197","v":0},{"$f":"'Control Cost Schedules'!R197","v":0},{"$f":"'Control Cost Schedules'!S197","v":0},{"$f":"'Control Cost Schedules'!T197","v":0},{"$f":"'Control Cost Schedules'!U197","v":0},{"$f":"'Control Cost Schedules'!V197","v":0},{"$f":"'Control Cost Schedules'!W197","v":0},{"$f":"'Control Cost Schedules'!X197","v":0},{"$f":"'Control Cost Schedules'!Y197","v":0},{"$f":"'Control Cost Schedules'!Z197","v":0},{"$f":"'Control Cost Schedules'!AA197","v":0},{"$f":"'Control Cost Schedules'!AB197","v":0},{"$f":"'Control Cost Schedules'!AC197","v":0},{"$f":"'Control Cost Schedules'!AD197","v":0},{"$f":"'Control Cost Schedules'!AE197","v":0},{"$f":"'Control Cost Schedules'!AF197","v":0},{"$f":"'Control Cost Schedules'!AG197","v":0},{"$f":"'Control Cost Schedules'!AH197","v":0},{"$f":"'Control Cost Schedules'!AI197","v":0},{"$f":"'Control Cost Schedules'!AJ197","v":0},{"$f":"'Control Cost Schedules'!AK197","v":0},{"$f":"'Control Cost Schedules'!AL197","v":0},{"$f":"'Control Cost Schedules'!AM197","v":0},{"$f":"'Control Cost Schedules'!AN197","v":0},{"$f":"'Control Cost Schedules'!AO197","v":0},{"$f":"'Control Cost Schedules'!AP197","v":0},{"$f":"'Control Cost Schedules'!AQ197","v":0},{"$f":"'Control Cost Schedules'!AR197","v":0},{"$f":"'Control Cost Schedules'!AS197","v":0},{"$f":"'Control Cost Schedules'!AT197","v":0},{"$f":"'Control Cost Schedules'!AU197","v":0},{"$f":"'Control Cost Schedules'!AV197","v":0},{"$f":"'Control Cost Schedules'!AW197","v":0},{"$f":"'Control Cost Schedules'!AX197","v":0},{"$f":"'Control Cost Schedules'!AY197","v":0},{"$f":"'Control Cost Schedules'!AZ197","v":0},{"$f":"'Control Cost Schedules'!BA197","v":0}]
["Flatiron Hydropower Plant",24,"hydropower",8,{"$f":"'Control Cost Schedules'!D198","v":18222.028734622607},{"$f":"'Control Cost Schedules'!E198","v":18222.028734622607},{"$f":"'Control Cost Schedules'!F198","v":18222.028734622607},{"$f":"'Control Cost Schedules'!G198","v":18222.028734622607},{"$f":"'Control Cost Schedules'!H198","v":18222.028734622607},{"$f":"'Control Cost Schedules'!I198","v":18222.028734622607},{"$f":"'Control Cost Schedules'!J198","v":18222.028734622607},{"$f":"'Control Cost Schedules'!K198","v":18222.028734622607},{"$f":"'Control Cost Schedules'!L198","v":18222.028734622607},{"$f":"'Control Cost Schedules'!M198","v":18222.028734622607},{"$f":"'Control Cost Schedules'!N198","v":18222.028734622607},{"$f":"'Control Cost Schedules'!O198","v":18222.028734622607},{"$f":"'Control Cost Schedules'!P198","v":18222.028734622607},{"$f":"'Control Cost Schedules'!Q198","v":18222.028734622607},{"$f":"'Control Cost Schedules'!R198","v":18222.028734622607},{"$f":"'Control Cost Schedules'!S198","v":18222.028734622607},{"$f":"'Control Cost Schedules'!T198","v":18222.028734622607},{"$f":"'Control Cost Schedules'!U198","v":18222.028734622607},{"$f":"'Control Cost Schedules'!V198","v":18222.028734622607},{"$f":"'Control Cost Schedules'!W198","v":18222.028734622607},{"$f":"'Control Cost Schedules'!X198","v":18222.028734622607},{"$f":"'Control Cost Schedules'!Y198","v":7087.5},{"$f":"'Control Cost Schedules'!Z198","v":7087.5},{"$f":"'Control Cost Schedules'!AA198","v":7087.5},{"$f":"'Control Cost Schedules'!AB198","v":7087.5},{"$f":"'Control Cost Schedules'!AC198","v":7087.5},{"$f":"'Control Cost Schedules'!AD198","v":7087.5},{"$f":"'Control Cost Schedules'!AE198","v":7087.5},{"$f":"'Control Cost Schedules'!AF198","v":7087.5},{"$f":"'Control Cost Schedules'!AG198","v":7087.5},{"$f":"'Control Cost Schedules'!AH198","v":7087.5},{"$f":"'Control Cost Schedules'!AI198","v":7087.5},{"$f":"'Control Cost Schedules'!AJ198","v":7087.5},{"$f":"'Control Cost Schedules'!AK198","v":7087.5},{"$f":"'Control Cost Schedules'!AL198","v":7087.5},{"$f":"'Control Cost Schedules'!AM198","v":7087.5},{"$f":"'Control Cost Schedules'!AN198","v":7087.5},{"$f":"'Control Cost Schedules'!AO198","v":7087.5},{"$f":"'Control Cost Schedules'!AP198","v":7087.5},{"$f":"'Control Cost Schedules'!AQ198","v":7087.5},{"$f":"'Control Cost Schedules'!AR198","v":7087.5},{"$f":"'Control Cost Schedules'!AS198","v":7087.5},{"$f":"'Control Cost Schedules'!AT198","v":7087.5},{"$f":"'Control Cost Schedules'!AU198","v":7087.5},{"$f":"'Control Cost Schedules'!AV198","v":7087.5},{"$f":"'Control Cost Schedules'!AW198","v":7087.5},{"$f":"'Control Cost Schedules'!AX198","v":7087.5},{"$f":"'Control Cost Schedules'!AY198","v":7087.5},{"$f":"'Control Cost Schedules'!AZ198","v":7087.5},{"$f":"'Control Cost Schedules'!BA198","v":0}]
["Newell Warnock",25,"water filter plant",8,{"$f":"'Control Cost Schedules'!D199","v":8610.4896453902966},{"$f":"'Control Cost Schedules'!E199","v":8610.4896453902966},{"$f":"'Control Cost Schedules'!F199","v":8610.4896453902966},{"$f":"'Control Cost Schedules'!G199","v":8610.4896453902966},{"$f":"'Control Cost Schedules'!H199","v":8610.4896453902966},{"$f":"'Control Cost Schedules'!I199","v":8610.4896453902966},{"$f":"'Control Cost Schedules'!J199","v":8610.4896453902966},{"$f":"'Control Cost Schedules'!K199","v":8610.4896453902966},{"$f":"'Control Cost Schedules'!L199","v":8610.4896453902966},{"$f":"'Control Cost Schedules'!M199","v":8610.4896453902966},{"$f":"'Control Cost Schedules'!N199","v":8610.4896453902966},{"$f":"'Control Cost Schedules'!O199","v":8610.4896453902966},{"$f":"'Control Cost Schedules'!P199","v":8610.4896453902966},{"$f":"'Control Cost Schedules'!Q199","v":8610.4896453902966},{"$f":"'Control Cost Schedules'!R199","v":8610.4896453902966},{"$f":"'Control Cost Schedules'!S199","v":8610.4896453902966},{"$f":"'Control Cost Schedules'!T199","v":8610.4896453902966},{"$f":"'Control Cost Schedules'!U199","v":8610.4896453902966},{"$f":"'Control Cost Schedules'!V199","v":8610.4896453902966},{"$f":"'Control Cost Schedules'!W199","v":8610.4896453902966},{"$f":"'Control Cost Schedules'!X199","v":8610.4896453902966},{"$f":"'Control Cost Schedules'!Y199","v":4576.6875},{"$f":"'Control Cost Schedules'!Z199","v":4576.6875},{"$f":"'Control Cost Schedules'!AA199","v":4576.6875},{"$f":"'Control Cost Schedules'!AB199","v":4576.6875},{"$f":"'Control Cost Schedules'!AC199","v":4576.6875},{"$f":"'Control Cost Schedules'!AD199","v":4576.6875},{"$f":"'Control Cost Schedules'!AE199","v":4576.6875},{"$f":"'Control Cost Schedules'!AF199","v":4576.6875},{"$f":"'Control Cost Schedules'!AG199","v":4576.6875},{"$f":"'Control Cost Schedules'!AH199","v":4576.6875},{"$f":"'Control Cost Schedules'!AI199","v":4576.6875},{"$f":"'Control Cost Schedules'!AJ199","v":4576.6875},{"$f":"'Control Cost Schedules'!AK199","v":4576.6875},{"$f":"'Control Cost Schedules'!AL199","v":4576.6875},{"$f":"'Control Cost Schedules'!AM199","v":4576.6875},{"$f":"'Control Cost Schedules'!AN199","v":4576.6875},{"$f":"'Control Cost Schedules'!AO199","v":4576.6875},{"$f":"'Control Cost Schedules'!AP199","v":4576.6875},{"$f":"'Control Cost Schedules'!AQ199","v":4576.6875},{"$f":"'Control Cost Schedules'!AR199","v":4576.6875},{"$f":"'Control Cost Schedules'!AS199","v":4576.6875},{"$f":"'Control Cost Schedules'!AT199","v":4576.6875},{"$f":"'Control Cost Schedules'!AU199","v":4576.6875},{"$f":"'Control Cost Schedules'!AV199","v":4576.6875},{"$f":"'Control Cost Schedules'!AW199","v":4576.6875},{"$f":"'Control Cost Schedules'!AX199","v":4576.6875},{"$f":"'Control Cost Schedules'!AY199","v":4576.6875},{"$f":"'Control Cost Schedules'!AZ199","v":4576.6875},{"$f":"'Control Cost Schedules'!BA199","v":0}]
["Flatiron Reversible Pump",26,"pump plant",9,{"$f":"'Control Cost Schedules'!D200","v":0},{"$f":"'Control Cost Schedules'!E200","v":0},{"$f":"'Control Cost Schedules'!F200","v":0},{"$f":"'Control Cost Schedules'!G200","v":0},{"$f":"'Control Cost Schedules'!H200","v":0},{"$f":"'Control Cost Schedules'!I200","v":0},{"$f":"'Control Cost Schedules'!J200","v":0},{"$f":"'Control Cost Schedules'!K200","v":0},{"$f":"'Control Cost Schedules'!L200","v":0},{"$f":"'Control Cost Schedules'!M200","v":0},{"$f":"'Control Cost Schedules'!N200","v":0},{"$f":"'Control Cost Schedules'!O200","v":0},{"$f":"'Control Cost Schedules'!P200","v":0},{"$f":"'Control Cost Schedules'!Q200","v":0},{"$f":"'Control Cost Schedules'!R200","v":0},{"$f":"'Control Cost Schedules'!S200","v":0},{"$f":"'Control Cost Schedules'!T200","v":0},{"$f":"'Control Cost Schedules'!U200","v":0},{"$f":"'Control Cost Schedules'!V200","v":0},{"$f":"'Control Cost Schedules'!W200","v":0},{"$f":"'Control Cost Schedules'!X200","v":0},{"$f":"'Control Cost Schedules'!Y200","v":0},{"$f":"'Control Cost Schedules'!Z200","v":0},{"$f":"'Control Cost Schedules'!AA200","v":0},{"$f":"'Control Cost Schedules'!AB200","v":0},{"$f":"'Control Cost Schedules'!AC200","v":0},{"$f":"'Control Cost Schedules'!AD200","v":0},{"$f":"'Control Cost Schedules'!AE200","v":0},{"$f":"'Control Cost Schedules'!AF200","v":0},{"$f":"'Control Cost Schedules'!AG200","v":0},{"$f":"'Control Cost Schedules'!AH200","v":0},{"$f":"'Control Cost Schedules'!AI200","v":0},{"$f":"'Control Cost Schedules'!AJ200","v":0},{"$f":"'Control Cost Schedules'!AK200","v":0},{"$f":"'Control Cost Schedules'!AL200","v":0},{"$f":"'Control Cost Schedules'!AM200","v":0},{"$f":"'Control Cost Schedules'!AN200","v":0},{"$f":"'Control Cost Schedules'!AO200","v":0},{"$f":"'Control Cost Schedules'!AP200","v":0},{"$f":"'Control Cost Schedules'!AQ200","v":0},{"$f":"'Control Cost Schedules'!AR200","v":0},{"$f":"'Control Cost Schedules'!AS200","v":0},{"$f":"'Control Cost Schedules'!AT200","v":0},{"$f":"'Control Cost Schedules'!AU200","v":0},{"$f":"'Control Cost Schedules'!AV200","v":0},{"$f":"'Control Cost Schedules'!AW200","v":0},{"$f":"'Control Cost Schedules'!AX200","v":0},{"$f":"'Control Cost Schedules'!AY200","v":0},{"$f":"'Control Cost Schedules'!AZ200","v":0},{"$f":"'Control Cost Schedules'!BA200","v":0}]
["Flatiron Dam",27,"dam",9,{"$f":"'Control Cost Schedules'!D201","v":125000},{"$f":"'Control Cost Schedules'!E201","v":0},{"$f":"'Control Cost Schedules'!F201","v":0},{"$f":"'Control Cost Schedules'!G201","v":0},{"$f":"'Control Cost Schedules'!H201","v":0},{"$f":"'Control Cost Schedules'!I201","v":125000},{"$f":"'Control Cost Schedules'!J201","v":0},{"$f":"'Control Cost Schedules'!K201","v":0},{"$f":"'Control Cost Schedules'!L201","v":0},{"$f":"'Control Cost Schedules'!M201","v":0},{"$f":"'Control Cost Schedules'!N201","v":125000},{"$f":"'Control Cost Schedules'!O201","v":0},{"$f":"'Control Cost Schedules'!P201","v":0},{"$f":"'Control Cost Schedules'!Q201","v":0},{"$f":"'Control Cost Schedules'!R201","v":0},{"$f":"'Control Cost Schedules'!S201","v":125000},{"$f":"'Control Cost Schedules'!T201","v":0},{"$f":"'Control Cost Schedules'!U201","v":0},{"$f":"'Control Cost Schedules'!V201","v":0},{"$f":"'Control Cost Schedules'!W201","v":0},{"$f":"'Control Cost Schedules'!X201","v":125000},{"$f":"'Control Cost Schedules'!Y201","v":0},{"$f":"'Control Cost Schedules'!Z201","v":0},{"$f":"'Control Cost Schedules'!AA201","v":0},{"$f":"'Control Cost Schedules'!AB201","v":0},{"$f":"'Control Cost Schedules'!AC201","v":125000},{"$f":"'Control Cost Schedules'!AD201","v":0},{"$f":"'Control Cost Schedules'!AE201","v":0},{"$f":"'Control Cost Schedules'!AF201","v":0},{"$f":"'Control Cost Schedules'!AG201","v":0},{"$f":"'Control Cost Schedules'!AH201","v":125000},{"$f":"'Control Cost Schedules'!AI201","v":0},{"$f":"'Control Cost Schedules'!AJ201","v":0},{"$f":"'Control Cost Schedules'!AK201","v":0},{"$f":"'Control Cost Schedules'!AL201","v":0},{"$f":"'Control Cost Schedules'!AM201","v":125000},{"$f":"'Control Cost Schedules'!AN201","v":0},{"$f":"'Control Cost Schedules'!AO201","v":0},{"$f":"'Control Cost Schedules'!AP201","v":0},{"$f":"'Control Cost Schedules'!AQ201","v":0},{"$f":"'Control Cost Schedules'!AR201","v":125000},{"$f":"'Control Cost Schedules'!AS201","v":0},{"$f":"'Control Cost Schedules'!AT201","v":0},{"$f":"'Control Cost Schedules'!AU201","v":0},{"$f":"'Control Cost Schedules'!AV201","v":0},{"$f":"'Control Cost Schedules'!AW201","v":125000},{"$f":"'Control Cost Schedules'!AX201","v":0},{"$f":"'Control Cost Schedules'!AY201","v":0},{"$f":"'Control Cost Schedules'!AZ201","v":0},{"$f":"'Control Cost Schedules'!BA201","v":0}]
["Carter Lake Pressure Tunnel",28,"tunnel",9,{"$f":"'Control Cost Schedules'!D202","v":0},{"$f":"'Control Cost Schedules'!E202","v":0},{"$f":"'Control Cost Schedules'!F202","v":0},{"$f":"'Control Cost Schedules'!G202","v":0},{"$f":"'Control Cost Schedules'!H202","v":0},{"$f":"'Control Cost Schedules'!I202","v":0},{"$f":"'Control Cost Schedules'!J202","v":0},{"$f":"'Control Cost Schedules'!K202","v":0},{"$f":"'Control Cost Schedules'!L202","v":0},{"$f":"'Control Cost Schedules'!M202","v":0},{"$f":"'Control Cost Schedules'!N202","v":0},{"$f":"'Control Cost Schedules'!O202","v":0},{"$f":"'Control Cost Schedules'!P202","v":0},{"$f":"'Control Cost Schedules'!Q202","v":0},{"$f":"'Control Cost Schedules'!R202","v":0},{"$f":"'Control Cost Schedules'!S202","v":0},{"$f":"'Control Cost Schedules'!T202","v":0},{"$f":"'Control Cost Schedules'!U202","v":0},{"$f":"'Control Cost Schedules'!V202","v":0},{"$f":"'Control Cost Schedules'!W202","v":0},{"$f":"'Control Cost Schedules'!X202","v":0},{"$f":"'Control Cost Schedules'!Y202","v":0},{"$f":"'Control Cost Schedules'!Z202","v":0},{"$f":"'Control Cost Schedules'!AA202","v":0},{"$f":"'Control Cost Schedules'!AB202","v":0},{"$f":"'Control Cost Schedules'!AC202","v":0},{"$f":"'Control Cost Schedules'!AD202","v":0},{"$f":"'Control Cost Schedules'!AE202","v":0},{"$f":"'Control Cost Schedules'!AF202","v":0},{"$f":"'Control Cost Schedules'!AG202","v":0},{"$f":"'Control Cost Schedules'!AH202","v":0},{"$f":"'Control Cost Schedules'!AI202","v":0},{"$f":"'Control Cost Schedules'!AJ202","v":0},{"$f":"'Control Cost Schedules'!AK202","v":0},{"$f":"'Control Cost Schedules'!AL202","v":0},{"$f":"'Control Cost Schedules'!AM202","v":0},{"$f":"'Control Cost Schedules'!AN202","v":0},{"$f":"'Control Cost Schedules'!AO202","v":0},{"$f":"'Control Cost Schedules'!AP202","v":0},{"$f":"'Control Cost Schedules'!AQ202","v":0},{"$f":"'Control Cost Schedules'!AR202","v":0},{"$f":"'Control Cost Schedules'!AS202","v":0},{"$f":"'Control Cost Schedules'!AT202","v":0},{"$f":"'Control Cost Schedules'!AU202","v":0},{"$f":"'Control Cost Schedules'!AV202","v":0},{"$f":"'Control Cost Schedules'!AW202","v":0},{"$f":"'Control Cost Schedules'!AX202","v":0},{"$f":"'Control Cost Schedules'!AY202","v":0},{"$f":"'Control Cost Schedules'!AZ202","v":0},{"$f":"'Control Cost Schedules'!BA202","v":0}]
["Big Thompson Hydropower Plant",29,"hydropower",9,{"$f":"'Control Cost Schedules'!D203","v":867.71565402964802},{"$f":"'Control Cost Schedules'!E203","v":867.71565402964802},{"$f":"'Control Cost Schedules'!F203","v":867.71565402964802},{"$f":"'Control Cost Schedules'!G203","v":867.71565402964802},{"$f":"'Control Cost Schedules'!H203","v":867.71565402964802},{"$f":"'Control Cost Schedules'!I203","v":867.71565402964802},{"$f":"'Control Cost Schedules'!J203","v":867.71565402964802},{"$f":"'Control Cost Schedules'!K203","v":867.71565402964802},{"$f":"'Control Cost Schedules'!L203","v":867.71565402964802},{"$f":"'Control Cost Schedules'!M203","v":867.71565402964802},{"$f":"'Control Cost Schedules'!N203","v":867.71565402964802},{"$f":"'Control Cost Schedules'!O203","v":867.71565402964802},{"$f":"'Control Cost Schedules'!P203","v":867.71565402964802},{"$f":"'Control Cost Schedules'!Q203","v":867.71565402964802},{"$f":"'Control Cost Schedules'!R203","v":867.71565402964802},{"$f":"'Control Cost Schedules'!S203","v":867.71565402964802},{"$f":"'Control Cost Schedules'!T203","v":867.71565402964802},{"$f":"'Control Cost Schedules'!U203","v":867.71565402964802},{"$f":"'Control Cost Schedules'!V203","v":867.71565402964802},{"$f":"'Control Cost Schedules'!W203","v":867.71565402964802},{"$f":"'Control Cost Schedules'!X203","v":867.71565402964802},{"$f":"'Control Cost Schedules'!Y203","v":337.5},{"$f":"'Control Cost Schedules'!Z203","v":337.5},{"$f":"'Control Cost Schedules'!AA203","v":337.5},{"$f":"'Control Cost Schedules'!AB203","v":337.5},{"$f":"'Control Cost Schedules'!AC203","v":337.5},{"$f":"'Control Cost Schedules'!AD203","v":337.5},{"$f":"'Control Cost Schedules'!AE203","v":337.5},{"$f":"'Control Cost Schedules'!AF203","v":337.5},{"$f":"'Control Cost Schedules'!AG203","v":337.5},{"$f":"'Control Cost Schedules'!AH203","v":337.5},{"$f":"'Control Cost Schedules'!AI203","v":337.5},{"$f":"'Control Cost Schedules'!AJ203","v":337.5},{"$f":"'Control Cost Schedules'!AK203","v":337.5},{"$f":"'Control Cost Schedules'!AL203","v":337.5},{"$f":"'Control Cost Schedules'!AM203","v":337.5},{"$f":"'Control Cost Schedules'!AN203","v":337.5},{"$f":"'Control Cost Schedules'!AO203","v":337.5},{"$f":"'Control Cost Schedules'!AP203","v":337.5},{"$f":"'Control Cost Schedules'!AQ203","v":337.5},{"$f":"'Control Cost Schedules'!AR203","v":337.5},{"$f":"'Control Cost Schedules'!AS203","v":337.5},{"$f":"'Control Cost Schedules'!AT203","v":337.5},{"$f":"'Control Cost Schedules'!AU203","v":337.5},{"$f":"'Control Cost Schedules'!AV203","v":337.5},{"$f":"'Control Cost Schedules'!AW203","v":337.5},{"$f":"'Control Cost Schedules'!AX203","v":337.5},{"$f":"'Control Cost Schedules'!AY203","v":337.5},{"$f":"'Control Cost Schedules'!AZ203","v":337.5},{"$f":"'Control Cost Schedules'!BA203","v":0}]
["Hansen Feeder Canal",30,"canal",9,{"$f":"'Control Cost Schedules'!D204","v":0},{"$f":"'Control Cost Schedules'!E204","v":0},{"$f":"'Control Cost Schedules'!F204","v":0},{"$f":"'Control Cost Schedules'!G204","v":0},{"$f":"'Control Cost Schedules'!H204","v":0},{"$f":"'Control Cost Schedules'!I204","v":0},{"$f":"'Control Cost Schedules'!J204","v":0},{"$f":"'Control Cost Schedules'!K204","v":0},{"$f":"'Control Cost Schedules'!L204","v":0},{"$f":"'Control Cost Schedules'!M204","v":0},{"$f":"'Control Cost Schedules'!N204","v":0},{"$f":"'Control Cost Schedules'!O204","v":0},{"$f":"'Control Cost Schedules'!P204","v":0},{"$f":"'Control Cost Schedules'!Q204","v":0},{"$f":"'Control Cost Schedules'!R204","v":0},{"$f":"'Control Cost Schedules'!S204","v":0},{"$f":"'Control Cost Schedules'!T204","v":0},{"$f":"'Control Cost Schedules'!U204","v":0},{"$f":"'Control Cost Schedules'!V204","v":0},{"$f":"'Control Cost Schedules'!W204","v":0},{"$f":"'Control Cost Schedules'!X204","v":0},{"$f":"'Control Cost Schedules'!Y204","v":0},{"$f":"'Control Cost Schedules'!Z204","v":0},{"$f":"'Control Cost Schedules'!AA204","v":0},{"$f":"'Control Cost Schedules'!AB204","v":0},{"$f":"'Control Cost Schedules'!AC204","v":0},{"$f":"'Control Cost Schedules'!AD204","v":0},{"$f":"'Control Cost Schedules'!AE204","v":0},{"$f":"'Control Cost Schedules'!AF204","v":0},{"$f":"'Control Cost Schedules'!AG204","v":0},{"$f":"'Control Cost Schedules'!AH204","v":0},{"$f":"'Control Cost Schedules'!AI204","v":0},{"$f":"'Control Cost Schedules'!AJ204","v":0},{"$f":"'Control Cost Schedules'!AK204","v":0},{"$f":"'Control Cost Schedules'!AL204","v":0},{"$f":"'Control Cost Schedules'!AM204","v":0},{"$f":"'Control Cost Schedules'!AN204","v":0},{"$f":"'Control Cost Schedules'!AO204","v":0},{"$f":"'Control Cost Schedules'!AP204","v":0},{"$f":"'Control Cost Schedules'!AQ204","v":0},{"$f":"'Control Cost Schedules'!AR204","v":0},{"$f":"'Control Cost Schedules'!AS204","v":0},{"$f":"'Control Cost Schedules'!AT204","v":0},{"$f":"'Control Cost Schedules'!AU204","v":0},{"$f":"'Control Cost Schedules'!AV204","v":0},{"$f":"'Control Cost Schedules'!AW204","v":0},{"$f":"'Control Cost Schedules'!AX204","v":0},{"$f":"'Control Cost Schedules'!AY204","v":0},{"$f":"'Control Cost Schedules'!AZ204","v":0},{"$f":"'Control Cost Schedules'!BA204","v":0}]
["City of Loveland",31,"water filter plant",9,{"$f":"'Control Cost Schedules'!D205","v":32491.753047463433},{"$f":"'Control Cost Schedules'!E205","v":32491.753047463433},{"$f":"'Control Cost Schedules'!F205","v":32491.753047463433},{"$f":"'Control Cost Schedules'!G205","v":32491.753047463433},{"$f":"'Control Cost Schedules'!H205","v":32491.753047463433},{"$f":"'Control Cost Schedules'!I205","v":32491.753047463433},{"$f":"'Control Cost Schedules'!J205","v":32491.753047463433},{"$f":"'Control Cost Schedules'!K205","v":32491.753047463433},{"$f":"'Control Cost Schedules'!L205","v":32491.753047463433},{"$f":"'Control Cost Schedules'!M205","v":32491.753047463433},{"$f":"'Control Cost Schedules'!N205","v":32491.753047463433},{"$f":"'Control Cost Schedules'!O205","v":32491.753047463433},{"$f":"'Control Cost Schedules'!P205","v":32491.753047463433},{"$f":"'Control Cost Schedules'!Q205","v":32491.753047463433},{"$f":"'Control Cost Schedules'!R205","v":32491.753047463433},{"$f":"'Control Cost Schedules'!S205","v":32491.753047463433},{"$f":"'Control Cost Schedules'!T205","v":32491.753047463433},{"$f":"'Control Cost Schedules'!U205","v":32491.753047463433},{"$f":"'Control Cost Schedules'!V205","v":32491.753047463433},{"$f":"'Control Cost Schedules'!W205","v":32491.753047463433},{"$f":"'Control Cost Schedules'!X205","v":32491.753047463433},{"$f":"'Control Cost Schedules'!Y205","v":17808},{"$f":"'Control Cost Schedules'!Z205","v":17808},{"$f":"'Control Cost Schedules'!AA205","v":17808},{"$f":"'Control Cost Schedules'!AB205","v":17808},{"$f":"'Control Cost Schedules'!AC205","v":17808},{"$f":"'Control Cost Schedules'!AD205","v":17808},{"$f":"'Control Cost Schedules'!AE205","v":17808},{"$f":"'Control Cost Schedules'!AF205","v":17808},{"$f":"'Control Cost Schedules'!AG205","v":17808},{"$f":"'Control Cost Schedules'!AH205","v":17808},{"$f":"'Control Cost Schedules'!AI205","v":17808},{"$f":"'Control Cost Schedules'!AJ205","v":17808},{"$f":"'Control Cost Schedules'!AK205","v":17808},{"$f":"'Control Cost Schedules'!AL205","v":17808},{"$f":"'Control Cost Schedules'!AM205","v":17808},{"$f":"'Control Cost Schedules'!AN205","v":17808},{"$f":"'Control Cost Schedules'!AO205","v":17808},{"$f":"'Control Cost Schedules'!AP205","v":17808},{"$f":"'Control Cost Schedules'!AQ205","v":17808},{"$f":"'Control Cost Schedules'!AR205","v":17808},{"$f":"'Control Cost Schedules'!AS205","v":17808},{"$f":"'Control Cost Schedules'!AT205","v":17808},{"$f":"'Control Cost Schedules'!AU205","v":17808},{"$f":"'Control Cost Schedules'!AV205","v":17808},{"$f":"'Control Cost Schedules'!AW205","v":17808},{"$f":"'Control Cost Schedules'!AX205","v":17808},{"$f":"'Control Cost Schedules'!AY205","v":17808},{"$f":"'Control Cost Schedules'!AZ205","v":17808},{"$f":"'Control Cost Schedules'!BA205","v":0}]
["Emissaries of Divine Light",32,"water filter plant",9,{"$f":"'Control Cost Schedules'!D206","v":8610.4896453902966},{"$f":"'Control Cost Schedules'!E206","v":8610.4896453902966},{"$f":"'Control Cost Schedules'!F206","v":8610.4896453902966},{"$f":"'Control Cost Schedules'!G206","v":8610.4896453902966},{"$f":"'Control Cost Schedules'!H206","v":8610.4896453902966},{"$f":"'Control Cost Schedules'!I206","v":8610.4896453902966},{"$f":"'Control Cost Schedules'!J206","v":8610.4896453902966},{"$f":"'Control Cost Schedules'!K206","v":8610.4896453902966},{"$f":"'Control Cost Schedules'!L206","v":8610.4896453902966},{"$f":"'Control Cost Schedules'!M206","v":8610.4896453902966},{"$f":"'Control Cost Schedules'!N206","v":8610.4896453902966},{"$f":"'Control Cost Schedules'!O206","v":8610.4896453902966},{"$f":"'Control Cost Schedules'!P206","v":8610.4896453902966},{"$f":"'Control Cost Schedules'!Q206","v":8610.4896453902966},{"$f":"'Control Cost Schedules'!R206","v":8610.4896453902966},{"$f":"'Control Cost Schedules'!S206","v":8610.4896453902966},{"$f":"'Control Cost Schedules'!T206","v":8610.4896453902966},{"$f":"'Control Cost Schedules'!U206","v":8610.4896453902966},{"$f":"'Control Cost Schedules'!V206","v":8610.4896453902966},{"$f":"'Control Cost Schedules'!W206","v":8610.4896453902966},{"$f":"'Control Cost Schedules'!X206","v":8610.4896453902966},{"$f":"'Control Cost Schedules'!Y206","v":4576.6875},{"$f":"'Control Cost Schedules'!Z206","v":4576.6875},{"$f":"'Control Cost Schedules'!AA206","v":4576.6875},{"$f":"'Control Cost Schedules'!AB206","v":4576.6875},{"$f":"'Control Cost Schedules'!AC206","v":4576.6875},{"$f":"'Control Cost Schedules'!AD206","v":4576.6875},{"$f":"'Control Cost Schedules'!AE206","v":4576.6875},{"$f":"'Control Cost Schedules'!AF206","v":4576.6875},{"$f":"'Control Cost Schedules'!AG206","v":4576.6875},{"$f":"'Control Cost Schedules'!AH206","v":4576.6875},{"$f":"'Control Cost Schedules'!AI206","v":4576.6875},{"$f":"'Control Cost Schedules'!AJ206","v":4576.6875},{"$f":"'Control Cost Schedules'!AK206","v":4576.6875},{"$f":"'Control Cost Schedules'!AL206","v":4576.6875},{"$f":"'Control Cost Schedules'!AM206","v":4576.6875},{"$f":"'Control Cost Schedules'!AN206","v":4576.6875},{"$f":"'Control Cost Schedules'!AO206","v":4576.6875},{"$f":"'Control Cost Schedules'!AP206","v":4576.6875},{"$f":"'Control Cost Schedules'!AQ206","v":4576.6875},{"$f":"'Control Cost Schedules'!AR206","v":4576.6875},{"$f":"'Control Cost Schedules'!AS206","v":4576.6875},{"$f":"'Control Cost Schedules'!AT206","v":4576.6875},{"$f":"'Control Cost Schedules'!AU206","v":4576.6875},{"$f":"'Control Cost Schedules'!AV206","v":4576.6875},{"$f":"'Control Cost Schedules'!AW206","v":4576.6875},{"$f":"'Control Cost Schedules'!AX206","v":4576.6875},{"$f":"'Control Cost Schedules'!AY206","v":4576.6875},{"$f":"'Control Cost Schedules'!AZ206","v":4576.6875},{"$f":"'Control Cost Schedules'!BA206","v":0}]
["Eden Valley",33,"water filter plant",9,{"$f":"'Control Cost Schedules'!D207","v":8610.4896453902966},{"$f":"'Control Cost Schedules'!E207","v":8610.4896453902966},{"$f":"'Control Cost Schedules'!F207","v":8610.4896453902966},{"$f":"'Control Cost Schedules'!G207","v":8610.4896453902966},{"$f":"'Control Cost Schedules'!H207","v":8610.4896453902966},{"$f":"'Control Cost Schedules'!I207","v":8610.4896453902966},{"$f":"'Control Cost Schedules'!J207","v":8610.4896453902966},{"$f":"'Control Cost Schedules'!K207","v":8610.4896453902966},{"$f":"'Control Cost Schedules'!L207","v":8610.4896453902966},{"$f":"'Control Cost Schedules'!M207","v":8610.4896453902966},{"$f":"'Control Cost Schedules'!N207","v":8610.4896453902966},{"$f":"'Control Cost Schedules'!O207","v":8610.4896453902966},{"$f":"'Control Cost Schedules'!P207","v":8610.4896453902966},{"$f":"'Control Cost Schedules'!Q207","v":8610.4896453902966},{"$f":"'Control Cost Schedules'!R207","v":8610.4896453902966},{"$f":"'Control Cost Schedules'!S207","v":8610.4896453902966},{"$f":"'Control Cost Schedules'!T207","v":8610.4896453902966},{"$f":"'Control Cost Schedules'!U207","v":8610.4896453902966},{"$f":"'Control Cost Schedules'!V207","v":8610.4896453902966},{"$f":"'Control Cost Schedules'!W207","v":8610.4896453902966},{"$f":"'Control Cost Schedules'!X207","v":8610.4896453902966},{"$f":"'Control Cost Schedules'!Y207","v":4576.6875},{"$f":"'Control Cost Schedules'!Z207","v":4576.6875},{"$f":"'Control Cost Schedules'!AA207","v":4576.6875},{"$f":"'Control Cost Schedules'!AB207","v":4576.6875},{"$f":"'Control Cost Schedules'!AC207","v":4576.6875},{"$f":"'Control Cost Schedules'!AD207","v":4576.6875},{"$f":"'Control Cost Schedules'!AE207","v":4576.6875},{"$f":"'Control Cost Schedules'!AF207","v":4576.6875},{"$f":"'Control Cost Schedules'!AG207","v":4576.6875},{"$f":"'Control Cost Schedules'!AH207","v":4576.6875},{"$f":"'Control Cost Schedules'!AI207","v":4576.6875},{"$f":"'Control Cost Schedules'!AJ207","v":4576.6875},{"$f":"'Control Cost Schedules'!AK207","v":4576.6875},{"$f":"'Control Cost Schedules'!AL207","v":4576.6875},{"$f":"'Control Cost Schedules'!AM207","v":4576.6875},{"$f":"'Control Cost Schedules'!AN207","v":4576.6875},{"$f":"'Control Cost Schedules'!AO207","v":4576.6875},{"$f":"'Control Cost Schedules'!AP207","v":4576.6875},{"$f":"'Control Cost Schedules'!AQ207","v":4576.6875},{"$f":"'Control Cost Schedules'!AR207","v":4576.6875},{"$f":"'Control Cost Schedules'!AS207","v":4576.6875},{"$f":"'Control Cost Schedules'!AT207","v":4576.6875},{"$f":"'Control Cost Schedules'!AU207","v":4576.6875},{"$f":"'Control Cost Schedules'!AV207","v":4576.6875},{"$f":"'Control Cost Schedules'!AW207","v":4576.6875},{"$f":"'Control Cost Schedules'!AX207","v":4576.6875},{"$f":"'Control Cost Schedules'!AY207","v":4576.6875},{"$f":"'Control Cost Schedules'!AZ207","v":4576.6875},{"$f":"'Control Cost Schedules'!BA207","v":0}]
["Spring Canyon",34,"water filter plant",9,{"$f":"'Control Cost Schedules'!D208","v":8610.4896453902966},{"$f":"'Control Cost Schedules'!E208","v":8610.4896453902966},{"$f":"'Control Cost Schedules'!F208","v":8610.4896453902966},{"$f":"'Control Cost Schedules'!G208","v":8610.4896453902966},{"$f":"'Control Cost Schedules'!H208","v":8610.4896453902966},{"$f":"'Control Cost Schedules'!I208","v":8610.4896453902966},{"$f":"'Control Cost Schedules'!J208","v":8610.4896453902966},{"$f":"'Control Cost Schedules'!K208","v":8610.4896453902966},{"$f":"'Control Cost Schedules'!L208","v":8610.4896453902966},{"$f":"'Control Cost Schedules'!M208","v":8610.4896453902966},{"$f":"'Control Cost Schedules'!N208","v":8610.4896453902966},{"$f":"'Control Cost Schedules'!O208","v":8610.4896453902966},{"$f":"'Control Cost Schedules'!P208","v":8610.4896453902966},{"$f":"'Control Cost Schedules'!Q208","v":8610.4896453902966},{"$f":"'Control Cost Schedules'!R208","v":8610.4896453902966},{"$f":"'Control Cost Schedules'!S208","v":8610.4896453902966},{"$f":"'Control Cost Schedules'!T208","v":8610.4896453902966},{"$f":"'Control Cost Schedules'!U208","v":8610.4896453902966},{"$f":"'Control Cost Schedules'!V208","v":8610.4896453902966},{"$f":"'Control Cost Schedules'!W208","v":8610.4896453902966},{"$f":"'Control Cost Schedules'!X208","v":8610.4896453902966},{"$f":"'Control Cost Schedules'!Y208","v":4576.6875},{"$f":"'Control Cost Schedules'!Z208","v":4576.6875},{"$f":"'Control Cost Schedules'!AA208","v":4576.6875},{"$f":"'Control Cost Schedules'!AB208","v":4576.6875},{"$f":"'Control Cost Schedules'!AC208","v":4576.6875},{"$f":"'Control Cost Schedules'!AD208","v":4576.6875},{"$f":"'Control Cost Schedules'!AE208","v":4576.6875},{"$f":"'Control Cost Schedules'!AF208","v":4576.6875},{"$f":"'Control Cost Schedules'!AG208","v":4576.6875},{"$f":"'Control Cost Schedules'!AH208","v":4576.6875},{"$f":"'Control Cost Schedules'!AI208","v":4576.6875},{"$f":"'Control Cost Schedules'!AJ208","v":4576.6875},{"$f":"'Control Cost Schedules'!AK208","v":4576.6875},{"$f":"'Control Cost Schedules'!AL208","v":4576.6875},{"$f":"'Control Cost Schedules'!AM208","v":4576.6875},{"$f":"'Control Cost Schedules'!AN208","v":4576.6875},{"$f":"'Control Cost Schedules'!AO208","v":4576.6875},{"$f":"'Control Cost Schedules'!AP208","v":4576.6875},{"$f":"'Control Cost Schedules'!AQ208","v":4576.6875},{"$f":"'Control Cost Schedules'!AR208","v":4576.6875},{"$f":"'Control Cost Schedules'!AS208","v":4576.6875},{"$f":"'Control Cost Schedules'!AT208","v":4576.6875},{"$f":"'Control Cost Schedules'!AU208","v":4576.6875},{"$f":"'Control Cost Schedules'!AV208","v":4576.6875},{"$f":"'Control Cost Schedules'!AW208","v":4576.6875},{"$f":"'Control Cost Schedules'!AX208","v":4576.6875},{"$f":"'Control Cost Schedules'!AY208","v":4576.6875},{"$f":"'Control Cost Schedules'!AZ208","v":4576.6875},{"$f":"'Control Cost Schedules'!BA208","v":0}]
["Horsetooth Dam",35,"dam",10,{"$f":"'Control Cost Schedules'!D209","v":125000},{"$f":"'Control Cost Schedules'!E209","v":0},{"$f":"'Control Cost Schedules'!F209","v":0},{"$f":"'Control Cost Schedules'!G209","v":0},{"$f":"'Control Cost Schedules'!H209","v":0},{"$f":"'Control Cost Schedules'!I209","v":125000},{"$f":"'Control Cost Schedules'!J209","v":0},{"$f":"'Control Cost Schedules'!K209","v":0},{"$f":"'Control Cost Schedules'!L209","v":0},{"$f":"'Control Cost Schedules'!M209","v":0},{"$f":"'Control Cost Schedules'!N209","v":125000},{"$f":"'Control Cost Schedules'!O209","v":0},{"$f":"'Control Cost Schedules'!P209","v":0},{"$f":"'Control Cost Schedules'!Q209","v":0},{"$f":"'Control Cost Schedules'!R209","v":0},{"$f":"'Control Cost Schedules'!S209","v":125000},{"$f":"'Control Cost Schedules'!T209","v":0},{"$f":"'Control Cost Schedules'!U209","v":0},{"$f":"'Control Cost Schedules'!V209","v":0},{"$f":"'Control Cost Schedules'!W209","v":0},{"$f":"'Control Cost Schedules'!X209","v":125000},{"$f":"'Control Cost Schedules'!Y209","v":0},{"$f":"'Control Cost Schedules'!Z209","v":0},{"$f":"'Control Cost Schedules'!AA209","v":0},{"$f":"'Control Cost Schedules'!AB209","v":0},{"$f":"'Control Cost Schedules'!AC209","v":125000},{"$f":"'Control Cost Schedules'!AD209","v":0},{"$f":"'Control Cost Schedules'!AE209","v":0},{"$f":"'Control Cost Schedules'!AF209","v":0},{"$f":"'Control Cost Schedules'!AG209","v":0},{"$f":"'Control Cost Schedules'!AH209","v":125000},{"$f":"'Control Cost Schedules'!AI209","v":0},{"$f":"'Control Cost Schedules'!AJ209","v":0},{"$f":"'Control Cost Schedules'!AK209","v":0},{"$f":"'Control Cost Schedules'!AL209","v":0},{"$f":"'Control Cost Schedules'!AM209","v":125000},{"$f":"'Control Cost Schedules'!AN209","v":0},{"$f":"'Control Cost Schedules'!AO209","v":0},{"$f":"'Control Cost Schedules'!AP209","v":0},{"$f":"'Control Cost Schedules'!AQ209","v":0},{"$f":"'Control Cost Schedules'!AR209","v":125000},{"$f":"'Control Cost Schedules'!AS209","v":0},{"$f":"'Control Cost Schedules'!AT209","v":0},{"$f":"'Control Cost Schedules'!AU209","v":0},{"$f":"'Control Cost Schedules'!AV209","v":0},{"$f":"'Control Cost Schedules'!AW209","v":125000},{"$f":"'Control Cost Schedules'!AX209","v":0},{"$f":"'Control Cost Schedules'!AY209","v":0},{"$f":"'Control Cost Schedules'!AZ209","v":0},{"$f":"'Control Cost Schedules'!BA209","v":0}]
["Soldier Dam",36,"dam",10,{"$f":"'Control Cost Schedules'!D210","v":125000},{"$f":"'Control Cost Schedules'!E210","v":0},{"$f":"'Control Cost Schedules'!F210","v":0},{"$f":"'Control Cost Schedules'!G210","v":0},{"$f":"'Control Cost Schedules'!H210","v":0},{"$f":"'Control Cost Schedules'!I210","v":125000},{"$f":"'Control Cost Schedules'!J210","v":0},{"$f":"'Control Cost Schedules'!K210","v":0},{"$f":"'Control Cost Schedules'!L210","v":0},{"$f":"'Control Cost Schedules'!M210","v":0},{"$f":"'Control Cost Schedules'!N210","v":125000},{"$f":"'Control Cost Schedules'!O210","v":0},{"$f":"'Control Cost Schedules'!P210","v":0},{"$f":"'Control Cost Schedules'!Q210","v":0},{"$f":"'Control Cost Schedules'!R210","v":0},{"$f":"'Control Cost Schedules'!S210","v":125000},{"$f":"'Control Cost Schedules'!T210","v":0},{"$f":"'Control Cost Schedules'!U210","v":0},{"$f":"'Control Cost Schedules'!V210","v":0},{"$f":"'Control Cost Schedules'!W210","v":0},{"$f":"'Control Cost Schedules'!X210","v":125000},{"$f":"'Control Cost Schedules'!Y210","v":0},{"$f":"'Control Cost Schedules'!Z210","v":0},{"$f":"'Control Cost Schedules'!AA210","v":0},{"$f":"'Control Cost Schedules'!AB210","v":0},{"$f":"'Control Cost Schedules'!AC210","v":125000},{"$f":"'Control Cost Schedules'!AD210","v":0},{"$f":"'Control Cost Schedules'!AE210","v":0},{"$f":"'Control Cost Schedules'!AF210","v":0},{"$f":"'Control Cost Schedules'!AG210","v":0},{"$f":"'Control Cost Schedules'!AH210","v":125000},{"$f":"'Control Cost Schedules'!AI210","v":0},{"$f":"'Control Cost Schedules'!AJ210","v":0},{"$f":"'Control Cost Schedules'!AK210","v":0},{"$f":"'Control Cost Schedules'!AL210","v":0},{"$f":"'Control Cost Schedules'!AM210","v":125000},{"$f":"'Control Cost Schedules'!AN210","v":0},{"$f":"'Control Cost Schedules'!AO210","v":0},{"$f":"'Control Cost Schedules'!AP210","v":0},{"$f":"'Control Cost Schedules'!AQ210","v":0},{"$f":"'Control Cost Schedules'!AR210","v":125000},{"$f":"'Control Cost Schedules'!AS210","v":0},{"$f":"'Control Cost Schedules'!AT210","v":0},{"$f":"'Control Cost Schedules'!AU210","v":0},{"$f":"'Control Cost Schedules'!AV210","v":0},{"$f":"'Control Cost Schedules'!AW210","v":125000},{"$f":"'Control Cost Schedules'!AX210","v":0},{"$f":"'Control Cost Schedules'!AY210","v":0},{"$f":"'Control Cost Schedules'!AZ210","v":0},{"$f":"'Control Cost Schedules'!BA210","v":0}]
["Dixon Dam",37,"dam",10,{"$f":"'Control Cost Schedules'!D211","v":0},{"$f":"'Control Cost Schedules'!E211","v":0},{"$f":"'Control Cost Schedules'!F211","v":0},{"$f":"'Control Cost Schedules'!G211","v":0},{"$f":"'Control Cost Schedules'!H211","v":0},{"$f":"'Control Cost Schedules'!I211","v":0},{"$f":"'Control Cost Schedules'!J211","v":0},{"$f":"'Control Cost Schedules'!K211","v":0},{"$f":"'Control Cost Schedules'!L211","v":0},{"$f":"'Control Cost Schedules'!M211","v":0},{"$f":"'Control Cost Schedules'!N211","v":0},{"$f":"'Control Cost Schedules'!O211","v":0},{"$f":"'Control Cost Schedules'!P211","v":0},{"$f":"'Control Cost Schedules'!Q211","v":0},{"$f":"'Control Cost Schedules'!R211","v":0},{"$f":"'Control Cost Schedules'!S211","v":0},{"$f":"'Control Cost Schedules'!T211","v":0},{"$f":"'Control Cost Schedules'!U211","v":0},{"$f":"'Control Cost Schedules'!V211","v":0},{"$f":"'Control Cost Schedules'!W211","v":0},{"$f":"'Control Cost Schedules'!X211","v":0},{"$f":"'Control Cost Schedules'!Y211","v":0},{"$f":"'Control Cost Schedules'!Z211","v":0},{"$f":"'Control Cost Schedules'!AA211","v":0},{"$f":"'Control Cost Schedules'!AB211","v":0},{"$f":"'Control Cost Schedules'!AC211","v":0},{"$f":"'Control Cost Schedules'!AD211","v":0},{"$f":"'Control Cost Schedules'!AE211","v":0},{"$f":"'Control Cost Schedules'!AF211","v":0},{"$f":"'Control Cost Schedules'!AG211","v":0},{"$f":"'Control Cost Schedules'!AH211","v":0},{"$f":"'Control Cost Schedules'!AI211","v":0},{"$f":"'Control Cost Schedules'!AJ211","v":0},{"$f":"'Control Cost Schedules'!AK211","v":0},{"$f":"'Control Cost Schedules'!AL211","v":0},{"$f":"'Control Cost Schedules'!AM211","v":0},{"$f":"'Control Cost Schedules'!AN211","v":0},{"$f":"'Control Cost Schedules'!AO211","v":0},{"$f":"'Control Cost Schedules'!AP211","v":0},{"$f":"'Control Cost Schedules'!AQ211","v":0},{"$f":"'Control Cost Schedules'!AR211","v":0},{"$f":"'Control Cost Schedules'!AS211","v":0},{"$f":"'Control Cost Schedules'!AT211","v":0},{"$f":"'Control Cost Schedules'!AU211","v":0},{"$f":"'Control Cost Schedules'!AV211","v":0},{"$f":"'Control Cost Schedules'!AW211","v":0},{"$f":"'Control Cost Schedules'!AX211","v":0},{"$f":"'Control Cost Schedules'!AY211","v":0},{"$f":"'Control Cost Schedules'!AZ211","v":0},{"$f":"'Control Cost Schedules'!BA211","v":0}]
["Spring Canyon Dam",38,"dam",10,{"$f":"'Control Cost Schedules'!D212","v":0},{"$f":"'Control Cost Schedules'!E212","v":0},{"$f":"'Control Cost Schedules'!F212","v":0},{"$f":"'Control Cost Schedules'!G212","v":0},{"$f":"'Control Cost Schedules'!H212","v":0},{"$f":"'Control Cost Schedules'!I212","v":0},{"$f":"'Control Cost Schedules'!J212","v":0},{"$f":"'Control Cost Schedules'!K212","v":0},{"$f":"'Control Cost Schedules'!L212","v":0},{"$f":"'Control Cost Schedules'!M212","v":0},{"$f":"'Control Cost Schedules'!N212","v":0},{"$f":"'Control Cost Schedules'!O212","v":0},{"$f":"'Control Cost Schedules'!P212","v":0},{"$f":"'Control Cost Schedules'!Q212","v":0},{"$f":"'Control Cost Schedules'!R212","v":0},{"$f":"'Control Cost Schedules'!S212","v":0},{"$f":"'Control Cost Schedules'!T212","v":0},{"$f":"'Control Cost Schedules'!U212","v":0},{"$f":"'Control Cost Schedules'!V212","v":0},{"$f":"'Control Cost Schedules'!W212","v":0},{"$f":"'Control Cost Schedules'!X212","v":0},{"$f":"'Control Cost Schedules'!Y212","v":0},{"$f":"'Control Cost Schedules'!Z212","v":0},{"$f":"'Control Cost Schedules'!AA212","v":0},{"$f":"'Control Cost Schedules'!AB212","v":0},{"$f":"'Control Cost Schedules'!AC212","v":0},{"$f":"'Control Cost Schedules'!AD212","v":0},{"$f":"'Control Cost Schedules'!AE212","v":0},{"$f":"'Control Cost Schedules'!AF212","v":0},{"$f":"'Control Cost Schedules'!AG212","v":0},{"$f":"'Control Cost Schedules'!AH212","v":0},{"$f":"'Control Cost Schedules'!AI212","v":0},{"$f":"'Control Cost Schedules'!AJ212","v":0},{"$f":"'Control Cost Schedules'!AK212","v":0},{"$f":"'Control Cost Schedules'!AL212","v":0},{"$f":"'Control Cost Schedules'!AM212","v":0},{"$f":"'Control Cost Schedules'!AN212","v":0},{"$f":"'Control Cost Schedules'!AO212","v":0},{"$f":"'Control Cost Schedules'!AP212","v":0},{"$f":"'Control Cost Schedules'!AQ212","v":0},{"$f":"'Control Cost Schedules'!AR212","v":0},{"$f":"'Control Cost Schedules'!AS212","v":0},{"$f":"'Control Cost Schedules'!AT212","v":0},{"$f":"'Control Cost Schedules'!AU212","v":0},{"$f":"'Control Cost Schedules'!AV212","v":0},{"$f":"'Control Cost Schedules'!AW212","v":0},{"$f":"'Control Cost Schedules'!AX212","v":0},{"$f":"'Control Cost Schedules'!AY212","v":0},{"$f":"'Control Cost Schedules'!AZ212","v":0},{"$f":"'Control Cost Schedules'!BA212","v":0}]
["Charles Hansen Supply Canal",39,"canal",10,{"$f":"'Control Cost Schedules'!D213","v":0},{"$f":"'Control Cost Schedules'!E213","v":0},{"$f":"'Control Cost Schedules'!F213","v":0},{"$f":"'Control Cost Schedules'!G213","v":0},{"$f":"'Control Cost Schedules'!H213","v":0},{"$f":"'Control Cost Schedules'!I213","v":0},{"$f":"'Control Cost Schedules'!J213","v":0},{"$f":"'Control Cost Schedules'!K213","v":0},{"$f":"'Control Cost Schedules'!L213","v":0},{"$f":"'Control Cost Schedules'!M213","v":0},{"$f":"'Control Cost Schedules'!N213","v":0},{"$f":"'Control Cost Schedules'!O213","v":0},{"$f":"'Control Cost Schedules'!P213","v":0},{"$f":"'Control Cost Schedules'!Q213","v":0},{"$f":"'Control Cost Schedules'!R213","v":0},{"$f":"'Control Cost Schedules'!S213","v":0},{"$f":"'Control Cost Schedules'!T213","v":0},{"$f":"'Control Cost Schedules'!U213","v":0},{"$f":"'Control Cost Schedules'!V213","v":0},{"$f":"'Control Cost Schedules'!W213","v":0},{"$f":"'Control Cost Schedules'!X213","v":0},{"$f":"'Control Cost Schedules'!Y213","v":0},{"$f":"'Control Cost Schedules'!Z213","v":0},{"$f":"'Control Cost Schedules'!AA213","v":0},{"$f":"'Control Cost Schedules'!AB213","v":0},{"$f":"'Control Cost Schedules'!AC213","v":0},{"$f":"'Control Cost Schedules'!AD213","v":0},{"$f":"'Control Cost Schedules'!AE213","v":0},{"$f":"'Control Cost Schedules'!AF213","v":0},{"$f":"'Control Cost Schedules'!AG213","v":0},{"$f":"'Control Cost Schedules'!AH213","v":0},{"$f":"'Control Cost Schedules'!AI213","v":0},{"$f":"'Control Cost Schedules'!AJ213","v":0},{"$f":"'Control Cost Schedules'!AK213","v":0},{"$f":"'Control Cost Schedules'!AL213","v":0},{"$f":"'Control Cost Schedules'!AM213","v":0},{"$f":"'Control Cost Schedules'!AN213","v":0},{"$f":"'Control Cost Schedules'!AO213","v":0},{"$f":"'Control Cost Schedules'!AP213","v":0},{"$f":"'Control Cost Schedules'!AQ213","v":0},{"$f":"'Control Cost Schedules'!AR213","v":0},{"$f":"'Control Cost Schedules'!AS213","v":0},{"$f":"'Control Cost Schedules'!AT213","v":0},{"$f":"'Control Cost Schedules'!AU213","v":0},{"$f":"'Control Cost Schedules'!AV213","v":0},{"$f":"'Control Cost Schedules'!AW213","v":0},{"$f":"'Control Cost Schedules'!AX213","v":0},{"$f":"'Control Cost Schedules'!AY213","v":0},{"$f":"'Control Cost Schedules'!AZ213","v":0},{"$f":"'Control Cost Schedules'!BA213","v":0}]
["Northern Poudre Supply Canal",40,"canal",10,{"$f":"'Control Cost Schedules'!D214","v":0},{"$f":"'Control Cost Schedules'!E214","v":0},{"$f":"'Control Cost Schedules'!F214","v":0},{"$f":"'Control Cost Schedules'!G214","v":0},{"$f":"'Control Cost Schedules'!H214","v":0},{"$f":"'Control Cost Schedules'!I214","v":0},{"$f":"'Control Cost Schedules'!J214","v":0},{"$f":"'Control Cost Schedules'!K214","v":0},{"$f":"'Control Cost Schedules'!L214","v":0},{"$f":"'Control Cost Schedules'!M214","v":0},{"$f":"'Control Cost Schedules'!N214","v":0},{"$f":"'Control Cost Schedules'!O214","v":0},{"$f":"'Control Cost Schedules'!P214","v":0},{"$f":"'Control Cost Schedules'!Q214","v":0},{"$f":"'Control Cost Schedules'!R214","v":0},{"$f":"'Control Cost Schedules'!S214","v":0},{"$f":"'Control Cost Schedules'!T214","v":0},{"$f":"'Control Cost Schedules'!U214","v":0},{"$f":"'Control Cost Schedules'!V214","v":0},{"$f":"'Control Cost Schedules'!W214","v":0},{"$f":"'Control Cost Schedules'!X214","v":0},{"$f":"'Control Cost Schedules'!Y214","v":0},{"$f":"'Control Cost Schedules'!Z214","v":0},{"$f":"'Control Cost Schedules'!AA214","v":0},{"$f":"'Control Cost Schedules'!AB214","v":0},{"$f":"'Control Cost Schedules'!AC214","v":0},{"$f":"'Control Cost Schedules'!AD214","v":0},{"$f":"'Control Cost Schedules'!AE214","v":0},{"$f":"'Control Cost Schedules'!AF214","v":0},{"$f":"'Control Cost Schedules'!AG214","v":0},{"$f":"'Control Cost Schedules'!AH214","v":0},{"$f":"'Control Cost Schedules'!AI214","v":0},{"$f":"'Control Cost Schedules'!AJ214","v":0},{"$f":"'Control Cost Schedules'!AK214","v":0},{"$f":"'Control Cost Schedules'!AL214","v":0},{"$f":"'Control Cost Schedules'!AM214","v":0},{"$f":"'Control Cost Schedules'!AN214","v":0},{"$f":"'Control Cost Schedules'!AO214","v":0},{"$f":"'Control Cost Schedules'!AP214","v":0},{"$f":"'Control Cost Schedules'!AQ214","v":0},{"$f":"'Control Cost Schedules'!AR214","v":0},{"$f":"'Control Cost Schedules'!AS214","v":0},{"$f":"'Control Cost Schedules'!AT214","v":0},{"$f":"'Control Cost Schedules'!AU214","v":0},{"$f":"'Control Cost Schedules'!AV214","v":0},{"$f":"'Control Cost Schedules'!AW214","v":0},{"$f":"'Control Cost Schedules'!AX214","v":0},{"$f":"'Control Cost Schedules'!AY214","v":0},{"$f":"'Control Cost Schedules'!AZ214","v":0},{"$f":"'Control Cost Schedules'!BA214","v":0}]
["Fort Collins",41,"water filter plant",10,{"$f":"'Control Cost Schedules'!D215","v":1049608.9531992539},{"$f":"'Control Cost Schedules'!E215","v":1049608.9531992539},{"$f":"'Control Cost Schedules'!F215","v":1049608.9531992539},{"$f":"'Control Cost Schedules'!G215","v":1049608.9531992539},{"$f":"'Control Cost Schedules'!H215","v":1049608.9531992539},{"$f":"'Control Cost Schedules'!I215","v":1049608.9531992539},{"$f":"'Control Cost Schedules'!J215","v":1049608.9531992539},{"$f":"'Control Cost Schedules'!K215","v":1049608.9531992539},{"$f":"'Control Cost Schedules'!L215","v":1049608.9531992539},{"$f":"'Control Cost Schedules'!M215","v":1049608.9531992539},{"$f":"'Control Cost Schedules'!N215","v":1049608.9531992539},{"$f":"'Control Cost Schedules'!O215","v":1049608.9531992539},{"$f":"'Control Cost Schedules'!P215","v":1049608.9531992539},{"$f":"'Control Cost Schedules'!Q215","v":1049608.9531992539},{"$f":"'Control Cost Schedules'!R215","v":1049608.9531992539},{"$f":"'Control Cost Schedules'!S215","v":1049608.9531992539},{"$f":"'Control Cost Schedules'!T215","v":1049608.9531992539},{"$f":"'Control Cost Schedules'!U215","v":1049608.9531992539},{"$f":"'Control Cost Schedules'!V215","v":1049608.9531992539},{"$f":"'Control Cost Schedules'!W215","v":1049608.9531992539},{"$f":"'Control Cost Schedules'!X215","v":1049608.9531992539},{"$f":"'Control Cost Schedules'!Y215","v":833333.33333333337},{"$f":"'Control Cost Schedules'!Z215","v":833333.33333333337},{"$f":"'Control Cost Schedules'!AA215","v":833333.33333333337},{"$f":"'Control Cost Schedules'!AB215","v":833333.33333333337},{"$f":"'Control Cost Schedules'!AC215","v":833333.33333333337},{"$f":"'Control Cost Schedules'!AD215","v":833333.33333333337},{"$f":"'Control Cost Schedules'!AE215","v":833333.33333333337},{"$f":"'Control Cost Schedules'!AF215","v":833333.33333333337},{"$f":"'Control Cost Schedules'!AG215","v":833333.33333333337},{"$f":"'Control Cost Schedules'!AH215","v":833333.33333333337},{"$f":"'Control Cost Schedules'!AI215","v":833333.33333333337},{"$f":"'Control Cost Schedules'!AJ215","v":833333.33333333337},{"$f":"'Control Cost Schedules'!AK215","v":833333.33333333337},{"$f":"'Control Cost Schedules'!AL215","v":833333.33333333337},{"$f":"'Control Cost Schedules'!AM215","v":833333.33333333337},{"$f":"'Control Cost Schedules'!AN215","v":833333.33333333337},{"$f":"'Control Cost Schedules'!AO215","v":833333.33333333337},{"$f":"'Control Cost Schedules'!AP215","v":833333.33333333337},{"$f":"'Control Cost Schedules'!AQ215","v":833333.33333333337},{"$f":"'Control Cost Schedules'!AR215","v":833333.33333333337},{"$f":"'Control Cost Schedules'!AS215","v":833333.33333333337},{"$f":"'Control Cost Schedules'!AT215","v":833333.33333333337},{"$f":"'Control Cost Schedules'!AU215","v":833333.33333333337},{"$f":"'Control Cost Schedules'!AV215","v":833333.33333333337},{"$f":"'Control Cost Schedules'!AW215","v":833333.33333333337},{"$f":"'Control Cost Schedules'!AX215","v":833333.33333333337},{"$f":"'Control Cost Schedules'!AY215","v":833333.33333333337},{"$f":"'Control Cost Schedules'!AZ215","v":833333.33333333337},{"$f":"'Control Cost Schedules'!BA215","v":0}]
["Soldier Canyon",42,"water filter plant",10,{"$f":"'Control Cost Schedules'!D216","v":1049608.9531992539},{"$f":"'Control Cost Schedules'!E216","v":1049608.9531992539},{"$f":"'Control Cost Schedules'!F216","v":1049608.9531992539},{"$f":"'Control Cost Schedules'!G216","v":1049608.9531992539},{"$f":"'Control Cost Schedules'!H216","v":1049608.9531992539},{"$f":"'Control Cost Schedules'!I216","v":1049608.9531992539},{"$f":"'Control Cost Schedules'!J216","v":1049608.9531992539},{"$f":"'Control Cost Schedules'!K216","v":1049608.9531992539},{"$f":"'Control Cost Schedules'!L216","v":1049608.9531992539},{"$f":"'Control Cost Schedules'!M216","v":1049608.9531992539},{"$f":"'Control Cost Schedules'!N216","v":1049608.9531992539},{"$f":"'Control Cost Schedules'!O216","v":1049608.9531992539},{"$f":"'Control Cost Schedules'!P216","v":1049608.9531992539},{"$f":"'Control Cost Schedules'!Q216","v":1049608.9531992539},{"$f":"'Control Cost Schedules'!R216","v":1049608.9531992539},{"$f":"'Control Cost Schedules'!S216","v":1049608.9531992539},{"$f":"'Control Cost Schedules'!T216","v":1049608.9531992539},{"$f":"'Control Cost Schedules'!U216","v":1049608.9531992539},{"$f":"'Control Cost Schedules'!V216","v":1049608.9531992539},{"$f":"'Control Cost Schedules'!W216","v":1049608.9531992539},{"$f":"'Control Cost Schedules'!X216","v":1049608.9531992539},{"$f":"'Control Cost Schedules'!Y216","v":833333.33333333337},{"$f":"'Control Cost Schedules'!Z216","v":833333.33333333337},{"$f":"'Control Cost Schedules'!AA216","v":833333.33333333337},{"$f":"'Control Cost Schedules'!AB216","v":833333.33333333337},{"$f":"'Control Cost Schedules'!AC216","v":833333.33333333337},{"$f":"'Control Cost Schedules'!AD216","v":833333.33333333337},{"$f":"'Control Cost Schedules'!AE216","v":833333.33333333337},{"$f":"'Control Cost Schedules'!AF216","v":833333.33333333337},{"$f":"'Control Cost Schedules'!AG216","v":833333.33333333337},{"$f":"'Control Cost Schedules'!AH216","v":833333.33333333337},{"$f":"'Control Cost Schedules'!AI216","v":833333.33333333337},{"$f":"'Control Cost Schedules'!AJ216","v":833333.33333333337},{"$f":"'Control Cost Schedules'!AK216","v":833333.33333333337},{"$f":"'Control Cost Schedules'!AL216","v":833333.33333333337},{"$f":"'Control Cost Schedules'!AM216","v":833333.33333333337},{"$f":"'Control Cost Schedules'!AN216","v":833333.33333333337},{"$f":"'Control Cost Schedules'!AO216","v":833333.33333333337},{"$f":"'Control Cost Schedules'!AP216","v":833333.33333333337},{"$f":"'Control Cost Schedules'!AQ216","v":833333.33333333337},{"$f":"'Control Cost Schedules'!AR216","v":833333.33333333337},{"$f":"'Control Cost Schedules'!AS216","v":833333.33333333337},{"$f":"'Control Cost Schedules'!AT216","v":833333.33333333337},{"$f":"'Control Cost Schedules'!AU216","v":833333.33333333337},{"$f":"'Control Cost Schedules'!AV216","v":833333.33333333337},{"$f":"'Control Cost Schedules'!AW216","v":833333.33333333337},{"$f":"'Control Cost Schedules'!AX216","v":833333.33333333337},{"$f":"'Control Cost Schedules'!AY216","v":833333.33333333337},{"$f":"'Control Cost Schedules'!AZ216","v":833333.33333333337},{"$f":"'Control Cost Schedules'!BA216","v":0}]
["Greeley",43,"water filter plant",10,{"$f":"'Control Cost Schedules'!D217","v":1049608.9531992539},{"$f":"'Control Cost Schedules'!E217","v":1049608.9531992539},{"$f":"'Control Cost Schedules'!F217","v":1049608.9531992539},{"$f":"'Control Cost Schedules'!G217","v":1049608.9531992539},{"$f":"'Control Cost Schedules'!H217","v":1049608.9531992539},{"$f":"'Control Cost Schedules'!I217","v":1049608.9531992539},{"$f":"'Control Cost Schedules'!J217","v":1049608.9531992539},{"$f":"'Control Cost Schedules'!K217","v":1049608.9531992539},{"$f":"'Control Cost Schedules'!L217","v":1049608.9531992539},{"$f":"'Control Cost Schedules'!M217","v":1049608.9531992539},{"$f":"'Control Cost Schedules'!N217","v":1049608.9531992539},{"$f":"'Control Cost Schedules'!O217","v":1049608.9531992539},{"$f":"'Control Cost Schedules'!P217","v":1049608.9531992539},{"$f":"'Control Cost Schedules'!Q217","v":1049608.9531992539},{"$f":"'Control Cost Schedules'!R217","v":1049608.9531992539},{"$f":"'Control Cost Schedules'!S217","v":1049608.9531992539},{"$f":"'Control Cost Schedules'!T217","v":1049608.9531992539},{"$f":"'Control Cost Schedules'!U217","v":1049608.9531992539},{"$f":"'Control Cost Schedules'!V217","v":1049608.9531992539},{"$f":"'Control Cost Schedules'!W217","v":1049608.9531992539},{"$f":"'Control Cost Schedules'!X217","v":1049608.9531992539},{"$f":"'Control Cost Schedules'!Y217","v":833333.33333333337},{"$f":"'Control Cost Schedules'!Z217","v":833333.33333333337},{"$f":"'Control Cost Schedules'!AA217","v":833333.33333333337},{"$f":"'Control Cost Schedules'!AB217","v":833333.33333333337},{"$f":"'Control Cost Schedules'!AC217","v":833333.33333333337},{"$f":"'Control Cost Schedules'!AD217","v":833333.33333333337},{"$f":"'Control Cost Schedules'!AE217","v":833333.33333333337},{"$f":"'Control Cost Schedules'!AF217","v":833333.33333333337},{"$f":"'Control Cost Schedules'!AG217","v":833333.33333333337},{"$f":"'Control Cost Schedules'!AH217","v":833333.33333333337},{"$f":"'Control Cost Schedules'!AI217","v":833333.33333333337},{"$f":"'Control Cost Schedules'!AJ217","v":833333.33333333337},{"$f":"'Control Cost Schedules'!AK217","v":833333.33333333337},{"$f":"'Control Cost Schedules'!AL217","v":833333.33333333337},{"$f":"'Control Cost Schedules'!AM217","v":833333.33333333337},{"$f":"'Control Cost Schedules'!AN217","v":833333.33333333337},{"$f":"'Control Cost Schedules'!AO217","v":833333.33333333337},{"$f":"'Control Cost Schedules'!AP217","v":833333.33333333337},{"$f":"'Control Cost Schedules'!AQ217","v":833333.33333333337},{"$f":"'Control Cost Schedules'!AR217","v":833333.33333333337},{"$f":"'Control Cost Schedules'!AS217","v":833333.33333333337},{"$f":"'Control Cost Schedules'!AT217","v":833333.33333333337},{"$f":"'Control Cost Schedules'!AU217","v":833333.33333333337},{"$f":"'Control Cost Schedules'!AV217","v":833333.33333333337},{"$f":"'Control Cost Schedules'!AW217","v":833333.33333333337},{"$f":"'Control Cost Schedules'!AX217","v":833333.33333333337},{"$f":"'Control Cost Schedules'!AY217","v":833333.33333333337},{"$f":"'Control Cost Schedules'!AZ217","v":833333.33333333337},{"$f":"'Control Cost Schedules'!BA217","v":0}]
["Carter Lake Dam 1",44,"dam",11,{"$f":"'Control Cost Schedules'!D218","v":125000},{"$f":"'Control Cost Schedules'!E218","v":0},{"$f":"'Control Cost Schedules'!F218","v":0},{"$f":"'Control Cost Schedules'!G218","v":0},{"$f":"'Control Cost Schedules'!H218","v":0},{"$f":"'Control Cost Schedules'!I218","v":125000},{"$f":"'Control Cost Schedules'!J218","v":0},{"$f":"'Control Cost Schedules'!K218","v":0},{"$f":"'Control Cost Schedules'!L218","v":0},{"$f":"'Control Cost Schedules'!M218","v":0},{"$f":"'Control Cost Schedules'!N218","v":125000},{"$f":"'Control Cost Schedules'!O218","v":0},{"$f":"'Control Cost Schedules'!P218","v":0},{"$f":"'Control Cost Schedules'!Q218","v":0},{"$f":"'Control Cost Schedules'!R218","v":0},{"$f":"'Control Cost Schedules'!S218","v":125000},{"$f":"'Control Cost Schedules'!T218","v":0},{"$f":"'Control Cost Schedules'!U218","v":0},{"$f":"'Control Cost Schedules'!V218","v":0},{"$f":"'Control Cost Schedules'!W218","v":0},{"$f":"'Control Cost Schedules'!X218","v":125000},{"$f":"'Control Cost Schedules'!Y218","v":0},{"$f":"'Control Cost Schedules'!Z218","v":0},{"$f":"'Control Cost Schedules'!AA218","v":0},{"$f":"'Control Cost Schedules'!AB218","v":0},{"$f":"'Control Cost Schedules'!AC218","v":125000},{"$f":"'Control Cost Schedules'!AD218","v":0},{"$f":"'Control Cost Schedules'!AE218","v":0},{"$f":"'Control Cost Schedules'!AF218","v":0},{"$f":"'Control Cost Schedules'!AG218","v":0},{"$f":"'Control Cost Schedules'!AH218","v":125000},{"$f":"'Control Cost Schedules'!AI218","v":0},{"$f":"'Control Cost Schedules'!AJ218","v":0},{"$f":"'Control Cost Schedules'!AK218","v":0},{"$f":"'Control Cost Schedules'!AL218","v":0},{"$f":"'Control Cost Schedules'!AM218","v":125000},{"$f":"'Control Cost Schedules'!AN218","v":0},{"$f":"'Control Cost Schedules'!AO218","v":0},{"$f":"'Control Cost Schedules'!AP218","v":0},{"$f":"'Control Cost Schedules'!AQ218","v":0},{"$f":"'Control Cost Schedules'!AR218","v":125000},{"$f":"'Control Cost Schedules'!AS218","v":0},{"$f":"'Control Cost Schedules'!AT218","v":0},{"$f":"'Control Cost Schedules'!AU218","v":0},{"$f":"'Control Cost Schedules'!AV218","v":0},{"$f":"'Control Cost Schedules'!AW218","v":125000},{"$f":"'Control Cost Schedules'!AX218","v":0},{"$f":"'Control Cost Schedules'!AY218","v":0},{"$f":"'Control Cost Schedules'!AZ218","v":0},{"$f":"'Control Cost Schedules'!BA218","v":0}]
["Carter Lake Dam 2",45,"dam",11,{"$f":"'Control Cost Schedules'!D219","v":0},{"$f":"'Control Cost Schedules'!E219","v":0},{"$f":"'Control Cost Schedules'!F219","v":0},{"$f":"'Control Cost Schedules'!G219","v":0},{"$f":"'Control Cost Schedules'!H219","v":0},{"$f":"'Control Cost Schedules'!I219","v":0},{"$f":"'Control Cost Schedules'!J219","v":0},{"$f":"'Control Cost Schedules'!K219","v":0},{"$f":"'Control Cost Schedules'!L219","v":0},{"$f":"'Control Cost Schedules'!M219","v":0},{"$f":"'Control Cost Schedules'!N219","v":0},{"$f":"'Control Cost Schedules'!O219","v":0},{"$f":"'Control Cost Schedules'!P219","v":0},{"$f":"'Control Cost Schedules'!Q219","v":0},{"$f":"'Control Cost Schedules'!R219","v":0},{"$f":"'Control Cost Schedules'!S219","v":0},{"$f":"'Control Cost Schedules'!T219","v":0},{"$f":"'Control Cost Schedules'!U219","v":0},{"$f":"'Control Cost Schedules'!V219","v":0},{"$f":"'Control Cost Schedules'!W219","v":0},{"$f":"'Control Cost Schedules'!X219","v":0},{"$f":"'Control Cost Schedules'!Y219","v":0},{"$f":"'Control Cost Schedules'!Z219","v":0},{"$f":"'Control Cost Schedules'!AA219","v":0},{"$f":"'Control Cost Schedules'!AB219","v":0},{"$f":"'Control Cost Schedules'!AC219","v":0},{"$f":"'Control Cost Schedules'!AD219","v":0},{"$f":"'Control Cost Schedules'!AE219","v":0},{"$f":"'Control Cost Schedules'!AF219","v":0},{"$f":"'Control Cost Schedules'!AG219","v":0},{"$f":"'Control Cost Schedules'!AH219","v":0},{"$f":"'Control Cost Schedules'!AI219","v":0},{"$f":"'Control Cost Schedules'!AJ219","v":0},{"$f":"'Control Cost Schedules'!AK219","v":0},{"$f":"'Control Cost Schedules'!AL219","v":0},{"$f":"'Control Cost Schedules'!AM219","v":0},{"$f":"'Control Cost Schedules'!AN219","v":0},{"$f":"'Control Cost Schedules'!AO219","v":0},{"$f":"'Control Cost Schedules'!AP219","v":0},{"$f":"'Control Cost Schedules'!AQ219","v":0},{"$f":"'Control Cost Schedules'!AR219","v":0},{"$f":"'Control Cost Schedules'!AS219","v":0},{"$f":"'Control Cost Schedules'!AT219","v":0},{"$f":"'Control Cost Schedules'!AU219","v":0},{"$f":"'Control Cost Schedules'!AV219","v":0},{"$f":"'Control Cost Schedules'!AW219","v":0},{"$f":"'Control Cost Schedules'!AX219","v":0},{"$f":"'Control Cost Schedules'!AY219","v":0},{"$f":"'Control Cost Schedules'!AZ219","v":0},{"$f":"'Control Cost Schedules'!BA219","v":0}]
["Carter Lake Dam 3",46,"dam",11,{"$f":"'Control Cost Schedules'!D220","v":0},{"$f":"'Control Cost Schedules'!E220","v":0},{"$f":"'Control Cost Schedules'!F220","v":0},{"$f":"'Control Cost Schedules'!G220","v":0},{"$f":"'Control Cost Schedules'!H220","v":0},{"$f":"'Control Cost Schedules'!I220","v":0},{"$f":"'Control Cost Schedules'!J220","v":0},{"$f":"'Control Cost Schedules'!K220","v":0},{"$f":"'Control Cost Schedules'!L220","v":0},{"$f":"'Control Cost Schedules'!M220","v":0},{"$f":"'Control Cost Schedules'!N220","v":0},{"$f":"'Control Cost Schedules'!O220","v":0},{"$f":"'Control Cost Schedules'!P220","v":0},{"$f":"'Control Cost Schedules'!Q220","v":0},{"$f":"'Control Cost Schedules'!R220","v":0},{"$f":"'Control Cost Schedules'!S220","v":0},{"$f":"'Control Cost Schedules'!T220","v":0},{"$f":"'Control Cost Schedules'!U220","v":0},{"$f":"'Control Cost Schedules'!V220","v":0},{"$f":"'Control Cost Schedules'!W220","v":0},{"$f":"'Control Cost Schedules'!X220","v":0},{"$f":"'Control Cost Schedules'!Y220","v":0},{"$f":"'Control Cost Schedules'!Z220","v":0},{"$f":"'Control Cost Schedules'!AA220","v":0},{"$f":"'Control Cost Schedules'!AB220","v":0},{"$f":"'Control Cost Schedules'!AC220","v":0},{"$f":"'Control Cost Schedules'!AD220","v":0},{"$f":"'Control Cost Schedules'!AE220","v":0},{"$f":"'Control Cost Schedules'!AF220","v":0},{"$f":"'Control Cost Schedules'!AG220","v":0},{"$f":"'Control Cost Schedules'!AH220","v":0},{"$f":"'Control Cost Schedules'!AI220","v":0},{"$f":"'Control Cost Schedules'!AJ220","v":0},{"$f":"'Control Cost Schedules'!AK220","v":0},{"$f":"'Control Cost Schedules'!AL220","v":0},{"$f":"'Control Cost Schedules'!AM220","v":0},{"$f":"'Control Cost Schedules'!AN220","v":0},{"$f":"'Control Cost Schedules'!AO220","v":0},{"$f":"'Control Cost Schedules'!AP220","v":0},{"$f":"'Control Cost Schedules'!AQ220","v":0},{"$f":"'Control Cost Schedules'!AR220","v":0},{"$f":"'Control Cost Schedules'!AS220","v":0},{"$f":"'Control Cost Schedules'!AT220","v":0},{"$f":"'Control Cost Schedules'!AU220","v":0},{"$f":"'Control Cost Schedules'!AV220","v":0},{"$f":"'Control Cost Schedules'!AW220","v":0},{"$f":"'Control Cost Schedules'!AX220","v":0},{"$f":"'Control Cost Schedules'!AY220","v":0},{"$f":"'Control Cost Schedules'!AZ220","v":0},{"$f":"'Control Cost Schedules'!BA220","v":0}]
["Carter Lake Filter Plant 1",47,"water filter plant",11,{"$f":"'Control Cost Schedules'!D221","v":32491.753047463433},{"$f":"'Control Cost Schedules'!E221","v":32491.753047463433},{"$f":"'Control Cost Schedules'!F221","v":32491.753047463433},{"$f":"'Control Cost Schedules'!G221","v":32491.753047463433},{"$f":"'Control Cost Schedules'!H221","v":32491.753047463433},{"$f":"'Control Cost Schedules'!I221","v":32491.753047463433},{"$f":"'Control Cost Schedules'!J221","v":32491.753047463433},{"$f":"'Control Cost Schedules'!K221","v":32491.753047463433},{"$f":"'Control Cost Schedules'!L221","v":32491.753047463433},{"$f":"'Control Cost Schedules'!M221","v":32491.753047463433},{"$f":"'Control Cost Schedules'!N221","v":32491.753047463433},{"$f":"'Control Cost Schedules'!O221","v":32491.753047463433},{"$f":"'Control Cost Schedules'!P221","v":32491.753047463433},{"$f":"'Control Cost Schedules'!Q221","v":32491.753047463433},{"$f":"'Control Cost Schedules'!R221","v":32491.753047463433},{"$f":"'Control Cost Schedules'!S221","v":32491.753047463433},{"$f":"'Control Cost Schedules'!T221","v":32491.753047463433},{"$f":"'Control Cost Schedules'!U221","v":32491.753047463433},{"$f":"'Control Cost Schedules'!V221","v":32491.753047463433},{"$f":"'Control Cost Schedules'!W221","v":32491.753047463433},{"$f":"'Control Cost Schedules'!X221","v":32491.753047463433},{"$f":"'Control Cost Schedules'!Y221","v":17808},{"$f":"'Control Cost Schedules'!Z221","v":17808},{"$f":"'Control Cost Schedules'!AA221","v":17808},{"$f":"'Control Cost Schedules'!AB221","v":17808},{"$f":"'Control Cost Schedules'!AC221","v":17808},{"$f":"'Control Cost Schedules'!AD221","v":17808},{"$f":"'Control Cost Schedules'!AE221","v":17808},{"$f":"'Control Cost Schedules'!AF221","v":17808},{"$f":"'Control Cost Schedules'!AG221","v":17808},{"$f":"'Control Cost Schedules'!AH221","v":17808},{"$f":"'Control Cost Schedules'!AI221","v":17808},{"$f":"'Control Cost Schedules'!AJ221","v":17808},{"$f":"'Control Cost Schedules'!AK221","v":17808},{"$f":"'Control Cost Schedules'!AL221","v":17808},{"$f":"'Control Cost Schedules'!AM221","v":17808},{"$f":"'Control Cost Schedules'!AN221","v":17808},{"$f":"'Control Cost Schedules'!AO221","v":17808},{"$f":"'Control Cost Schedules'!AP221","v":17808},{"$f":"'Control Cost Schedules'!AQ221","v":17808},{"$f":"'Control Cost Schedules'!AR221","v":17808},{"$f":"'Control Cost Schedules'!AS221","v":17808},{"$f":"'Control Cost Schedules'!AT221","v":17808},{"$f":"'Control Cost Schedules'!AU221","v":17808},{"$f":"'Control Cost Schedules'!AV221","v":17808},{"$f":"'Control Cost Schedules'!AW221","v":17808},{"$f":"'Control Cost Schedules'!AX221","v":17808},{"$f":"'Control Cost Schedules'!AY221","v":17808},{"$f":"'Control Cost Schedules'!AZ221","v":17808},{"$f":"'Control Cost Schedules'!BA221","v":0}]
["Carter Lake Filter Plant 2",48,"water filter plant",11,{"$f":"'Control Cost Schedules'!D222","v":32491.753047463433},{"$f":"'Control Cost Schedules'!E222","v":32491.753047463433},{"$f":"'Control Cost Schedules'!F222","v":32491.753047463433},{"$f":"'Control Cost Schedules'!G222","v":32491.753047463433},{"$f":"'Control Cost Schedules'!H222","v":32491.753047463433},{"$f":"'Control Cost Schedules'!I222","v":32491.753047463433},{"$f":"'Control Cost Schedules'!J222","v":32491.753047463433},{"$f":"'Control Cost Schedules'!K222","v":32491.753047463433},{"$f":"'Control Cost Schedules'!L222","v":32491.753047463433},{"$f":"'Control Cost Schedules'!M222","v":32491.753047463433},{"$f":"'Control Cost Schedules'!N222","v":32491.753047463433},{"$f":"'Control Cost Schedules'!O222","v":32491.753047463433},{"$f":"'Control Cost Schedules'!P222","v":32491.753047463433},{"$f":"'Control Cost Schedules'!Q222","v":32491.753047463433},{"$f":"'Control Cost Schedules'!R222","v":32491.753047463433},{"$f":"'Control Cost Schedules'!S222","v":32491.753047463433},{"$f":"'Control Cost Schedules'!T222","v":32491.753047463433},{"$f":"'Control Cost Schedules'!U222","v":32491.753047463433},{"$f":"'Control Cost Schedules'!V222","v":32491.753047463433},{"$f":"'Control Cost Schedules'!W222","v":32491.753047463433},{"$f":"'Control Cost Schedules'!X222","v":32491.753047463433},{"$f":"'Control Cost Schedules'!Y222","v":17808},{"$f":"'Control Cost Schedules'!Z222","v":17808},{"$f":"'Control Cost Schedules'!AA222","v":17808},{"$f":"'Control Cost Schedules'!AB222","v":17808},{"$f":"'Control Cost Schedules'!AC222","v":17808},{"$f":"'Control Cost Schedules'!AD222","v":17808},{"$f":"'Control Cost Schedules'!AE222","v":17808},{"$f":"'Control Cost Schedules'!AF222","v":17808},{"$f":"'Control Cost Schedules'!AG222","v":17808},{"$f":"'Control Cost Schedules'!AH222","v":17808},{"$f":"'Control Cost Schedules'!AI222","v":17808},{"$f":"'Control Cost Schedules'!AJ222","v":17808},{"$f":"'Control Cost Schedules'!AK222","v":17808},{"$f":"'Control Cost Schedules'!AL222","v":17808},{"$f":"'Control Cost Schedules'!AM222","v":17808},{"$f":"'Control Cost Schedules'!AN222","v":17808},{"$f":"'Control Cost Schedules'!AO222","v":17808},{"$f":"'Control Cost Schedules'!AP222","v":17808},{"$f":"'Control Cost Schedules'!AQ222","v":17808},{"$f":"'Control Cost Schedules'!AR222","v":17808},{"$f":"'Control Cost Schedules'!AS222","v":17808},{"$f":"'Control Cost Schedules'!AT222","v":17808},{"$f":"'Control Cost Schedules'!AU222","v":17808},{"$f":"'Control Cost Schedules'!AV222","v":17808},{"$f":"'Control Cost Schedules'!AW222","v":17808},{"$f":"'Control Cost Schedules'!AX222","v":17808},{"$f":"'Control Cost Schedules'!AY222","v":17808},{"$f":"'Control Cost Schedules'!AZ222","v":17808},{"$f":"'Control Cost Schedules'!BA222","v":0}]
["St. Vrain Supply Canal",49,"canal",11,{"$f":"'Control Cost Schedules'!D223","v":0},{"$f":"'Control Cost Schedules'!E223","v":0},{"$f":"'Control Cost Schedules'!F223","v":0},{"$f":"'Control Cost Schedules'!G223","v":0},{"$f":"'Control Cost Schedules'!H223","v":0},{"$f":"'Control Cost Schedules'!I223","v":0},{"$f":"'Control Cost Schedules'!J223","v":0},{"$f":"'Control Cost Schedules'!K223","v":0},{"$f":"'Control Cost Schedules'!L223","v":0},{"$f":"'Control Cost Schedules'!M223","v":0},{"$f":"'Control Cost Schedules'!N223","v":0},{"$f":"'Control Cost Schedules'!O223","v":0},{"$f":"'Control Cost Schedules'!P223","v":0},{"$f":"'Control Cost Schedules'!Q223","v":0},{"$f":"'Control Cost Schedules'!R223","v":0},{"$f":"'Control Cost Schedules'!S223","v":0},{"$f":"'Control Cost Schedules'!T223","v":0},{"$f":"'Control Cost Schedules'!U223","v":0},{"$f":"'Control Cost Schedules'!V223","v":0},{"$f":"'Control Cost Schedules'!W223","v":0},{"$f":"'Control Cost Schedules'!X223","v":0},{"$f":"'Control Cost Schedules'!Y223","v":0},{"$f":"'Control Cost Schedules'!Z223","v":0},{"$f":"'Control Cost Schedules'!AA223","v":0},{"$f":"'Control Cost Schedules'!AB223","v":0},{"$f":"'Control Cost Schedules'!AC223","v":0},{"$f":"'Control Cost Schedules'!AD223","v":0},{"$f":"'Control Cost Schedules'!AE223","v":0},{"$f":"'Control Cost Schedules'!AF223","v":0},{"$f":"'Control Cost Schedules'!AG223","v":0},{"$f":"'Control Cost Schedules'!AH223","v":0},{"$f":"'Control Cost Schedules'!AI223","v":0},{"$f":"'Control Cost Schedules'!AJ223","v":0},{"$f":"'Control Cost Schedules'!AK223","v":0},{"$f":"'Control Cost Schedules'!AL223","v":0},{"$f":"'Control Cost Schedules'!AM223","v":0},{"$f":"'Control Cost Schedules'!AN223","v":0},{"$f":"'Control Cost Schedules'!AO223","v":0},{"$f":"'Control Cost Schedules'!AP223","v":0},{"$f":"'Control Cost Schedules'!AQ223","v":0},{"$f":"'Control Cost Schedules'!AR223","v":0},{"$f":"'Control Cost Schedules'!AS223","v":0},{"$f":"'Control Cost Schedules'!AT223","v":0},{"$f":"'Control Cost Schedules'!AU223","v":0},{"$f":"'Control Cost Schedules'!AV223","v":0},{"$f":"'Control Cost Schedules'!AW223","v":0},{"$f":"'Control Cost Schedules'!AX223","v":0},{"$f":"'Control Cost Schedules'!AY223","v":0},{"$f":"'Control Cost Schedules'!AZ223","v":0},{"$f":"'Control Cost Schedules'!BA223","v":0}]
["Boulder Feeder Canal",50,"canal",11,{"$f":"'Control Cost Schedules'!D224","v":0},{"$f":"'Control Cost Schedules'!E224","v":0},{"$f":"'Control Cost Schedules'!F224","v":0},{"$f":"'Control Cost Schedules'!G224","v":0},{"$f":"'Control Cost Schedules'!H224","v":0},{"$f":"'Control Cost Schedules'!I224","v":0},{"$f":"'Control Cost Schedules'!J224","v":0},{"$f":"'Control Cost Schedules'!K224","v":0},{"$f":"'Control Cost Schedules'!L224","v":0},{"$f":"'Control Cost Schedules'!M224","v":0},{"$f":"'Control Cost Schedules'!N224","v":0},{"$f":"'Control Cost Schedules'!O224","v":0},{"$f":"'Control Cost Schedules'!P224","v":0},{"$f":"'Control Cost Schedules'!Q224","v":0},{"$f":"'Control Cost Schedules'!R224","v":0},{"$f":"'Control Cost Schedules'!S224","v":0},{"$f":"'Control Cost Schedules'!T224","v":0},{"$f":"'Control Cost Schedules'!U224","v":0},{"$f":"'Control Cost Schedules'!V224","v":0},{"$f":"'Control Cost Schedules'!W224","v":0},{"$f":"'Control Cost Schedules'!X224","v":0},{"$f":"'Control Cost Schedules'!Y224","v":0},{"$f":"'Control Cost Schedules'!Z224","v":0},{"$f":"'Control Cost Schedules'!AA224","v":0},{"$f":"'Control Cost Schedules'!AB224","v":0},{"$f":"'Control Cost Schedules'!AC224","v":0},{"$f":"'Control Cost Schedules'!AD224","v":0},{"$f":"'Control Cost Schedules'!AE224","v":0},{"$f":"'Control Cost Schedules'!AF224","v":0},{"$f":"'Control Cost Schedules'!AG224","v":0},{"$f":"'Control Cost Schedules'!AH224","v":0},{"$f":"'Control Cost Schedules'!AI224","v":0},{"$f":"'Control Cost Schedules'!AJ224","v":0},{"$f":"'Control Cost Schedules'!AK224","v":0},{"$f":"'Control Cost Schedules'!AL224","v":0},{"$f":"'Control Cost Schedules'!AM224","v":0},{"$f":"'Control Cost Schedules'!AN224","v":0},{"$f":"'Control Cost Schedules'!AO224","v":0},{"$f":"'Control Cost Schedules'!AP224","v":0},{"$f":"'Control Cost Schedules'!AQ224","v":0},{"$f":"'Control Cost Schedules'!AR224","v":0},{"$f":"'Control Cost Schedules'!AS224","v":0},{"$f":"'Control Cost Schedules'!AT224","v":0},{"$f":"'Control Cost Schedules'!AU224","v":0},{"$f":"'Control Cost Schedules'!AV224","v":0},{"$f":"'Control Cost Schedules'!AW224","v":0},{"$f":"'Control Cost Schedules'!AX224","v":0},{"$f":"'Control Cost Schedules'!AY224","v":0},{"$f":"'Control Cost Schedules'!AZ224","v":0},{"$f":"'Control Cost Schedules'!BA224","v":0}]
["Southern Water Supply Project Pipeline",51,"pipeline",11,{"$f":"'Control Cost Schedules'!D225","v":0},{"$f":"'Control Cost Schedules'!E225","v":0},{"$f":"'Control Cost Schedules'!F225","v":0},{"$f":"'Control Cost Schedules'!G225","v":0},{"$f":"'Control Cost Schedules'!H225","v":0},{"$f":"'Control Cost Schedules'!I225","v":0},{"$f":"'Control Cost Schedules'!J225","v":0},{"$f":"'Control Cost Schedules'!K225","v":0},{"$f":"'Control Cost Schedules'!L225","v":0},{"$f":"'Control Cost Schedules'!M225","v":0},{"$f":"'Control Cost Schedules'!N225","v":0},{"$f":"'Control Cost Schedules'!O225","v":0},{"$f":"'Control Cost Schedules'!P225","v":0},{"$f":"'Control Cost Schedules'!Q225","v":0},{"$f":"'Control Cost Schedules'!R225","v":0},{"$f":"'Control Cost Schedules'!S225","v":0},{"$f":"'Control Cost Schedules'!T225","v":0},{"$f":"'Control Cost Schedules'!U225","v":0},{"$f":"'Control Cost Schedules'!V225","v":0},{"$f":"'Control Cost Schedules'!W225","v":0},{"$f":"'Control Cost Schedules'!X225","v":0},{"$f":"'Control Cost Schedules'!Y225","v":0},{"$f":"'Control Cost Schedules'!Z225","v":0},{"$f":"'Control Cost Schedules'!AA225","v":0},{"$f":"'Control Cost Schedules'!AB225","v":0},{"$f":"'Control Cost Schedules'!AC225","v":0},{"$f":"'Control Cost Schedules'!AD225","v":0},{"$f":"'Control Cost Schedules'!AE225","v":0},{"$f":"'Control Cost Schedules'!AF225","v":0},{"$f":"'Control Cost Schedules'!AG225","v":0},{"$f":"'Control Cost Schedules'!AH225","v":0},{"$f":"'Control Cost Schedules'!AI225","v":0},{"$f":"'Control Cost Schedules'!AJ225","v":0},{"$f":"'Control Cost Schedules'!AK225","v":0},{"$f":"'Control Cost Schedules'!AL225","v":0},{"$f":"'Control Cost Schedules'!AM225","v":0},{"$f":"'Control Cost Schedules'!AN225","v":0},{"$f":"'Control Cost Schedules'!AO225","v":0},{"$f":"'Control Cost Schedules'!AP225","v":0},{"$f":"'Control Cost Schedules'!AQ225","v":0},{"$f":"'Control Cost Schedules'!AR225","v":0},{"$f":"'Control Cost Schedules'!AS225","v":0},{"$f":"'Control Cost Schedules'!AT225","v":0},{"$f":"'Control Cost Schedules'!AU225","v":0},{"$f":"'Control Cost Schedules'!AV225","v":0},{"$f":"'Control Cost Schedules'!AW225","v":0},{"$f":"'Control Cost Schedules'!AX225","v":0},{"$f":"'Control Cost Schedules'!AY225","v":0},{"$f":"'Control Cost Schedules'!AZ225","v":0},{"$f":"'Control Cost Schedules'!BA225","v":0}]
["West Longmont Pumping Plant",52,"pump plant",11,{"$f":"'Control Cost Schedules'!D226","v":8677.1565402964789},{"$f":"'Control Cost Schedules'!E226","v":8677.1565402964789},{"$f":"'Control Cost Schedules'!F226","v":8677.1565402964789},{"$f":"'Control Cost Schedules'!G226","v":8677.1565402964789},{"$f":"'Control Cost Schedules'!H226","v":8677.1565402964789},{"$f":"'Control Cost Schedules'!I226","v":8677.1565402964789},{"$f":"'Control Cost Schedules'!J226","v":8677.1565402964789},{"$f":"'Control Cost Schedules'!K226","v":8677.1565402964789},{"$f":"'Control Cost Schedules'!L226","v":8677.1565402964789},{"$f":"'Control Cost Schedules'!M226","v":8677.1565402964789},{"$f":"'Control Cost Schedules'!N226","v":8677.1565402964789},{"$f":"'Control Cost Schedules'!O226","v":8677.1565402964789},{"$f":"'Control Cost Schedules'!P226","v":8677.1565402964789},{"$f":"'Control Cost Schedules'!Q226","v":8677.1565402964789},{"$f":"'Control Cost Schedules'!R226","v":8677.1565402964789},{"$f":"'Control Cost Schedules'!S226","v":8677.1565402964789},{"$f":"'Control Cost Schedules'!T226","v":8677.1565402964789},{"$f":"'Control Cost Schedules'!U226","v":8677.1565402964789},{"$f":"'Control Cost Schedules'!V226","v":8677.1565402964789},{"$f":"'Control Cost Schedules'!W226","v":8677.1565402964789},{"$f":"'Control Cost Schedules'!X226","v":8677.1565402964789},{"$f":"'Control Cost Schedules'!Y226","v":3375},{"$f":"'Control Cost Schedules'!Z226","v":3375},{"$f":"'Control Cost Schedules'!AA226","v":3375},{"$f":"'Control Cost Schedules'!AB226","v":3375},{"$f":"'Control Cost Schedules'!AC226","v":3375},{"$f":"'Control Cost Schedules'!AD226","v":3375},{"$f":"'Control Cost Schedules'!AE226","v":3375},{"$f":"'Control Cost Schedules'!AF226","v":3375},{"$f":"'Control Cost Schedules'!AG226","v":3375},{"$f":"'Control Cost Schedules'!AH226","v":3375},{"$f":"'Control Cost Schedules'!AI226","v":3375},{"$f":"'Control Cost Schedules'!AJ226","v":3375},{"$f":"'Control Cost Schedules'!AK226","v":3375},{"$f":"'Control Cost Schedules'!AL226","v":3375},{"$f":"'Control Cost Schedules'!AM226","v":3375},{"$f":"'Control Cost Schedules'!AN226","v":3375},{"$f":"'Control Cost Schedules'!AO226","v":3375},{"$f":"'Control Cost Schedules'!AP226","v":3375},{"$f":"'Control Cost Schedules'!AQ226","v":3375},{"$f":"'Control Cost Schedules'!AR226","v":3375},{"$f":"'Control Cost Schedules'!AS226","v":3375},{"$f":"'Control Cost Schedules'!AT226","v":3375},{"$f":"'Control Cost Schedules'!AU226","v":3375},{"$f":"'Control Cost Schedules'!AV226","v":3375},{"$f":"'Control Cost Schedules'!AW226","v":3375},{"$f":"'Control Cost Schedules'!AX226","v":3375},{"$f":"'Control Cost Schedules'!AY226","v":3375},{"$f":"'Control Cost Schedules'!AZ226","v":3375},{"$f":"'Control Cost Schedules'!BA226","v":0}]
["Louisville/Superior Pumping Plant",53,"pump plant",11,{"$f":"'Control Cost Schedules'!D227","v":8677.1565402964789},{"$f":"'Control Cost Schedules'!E227","v":8677.1565402964789},{"$f":"'Control Cost Schedules'!F227","v":8677.1565402964789},{"$f":"'Control Cost Schedules'!G227","v":8677.1565402964789},{"$f":"'Control Cost Schedules'!H227","v":8677.1565402964789},{"$f":"'Control Cost Schedules'!I227","v":8677.1565402964789},{"$f":"'Control Cost Schedules'!J227","v":8677.1565402964789},{"$f":"'Control Cost Schedules'!K227","v":8677.1565402964789},{"$f":"'Control Cost Schedules'!L227","v":8677.1565402964789},{"$f":"'Control Cost Schedules'!M227","v":8677.1565402964789},{"$f":"'Control Cost Schedules'!N227","v":8677.1565402964789},{"$f":"'Control Cost Schedules'!O227","v":8677.1565402964789},{"$f":"'Control Cost Schedules'!P227","v":8677.1565402964789},{"$f":"'Control Cost Schedules'!Q227","v":8677.1565402964789},{"$f":"'Control Cost Schedules'!R227","v":8677.1565402964789},{"$f":"'Control Cost Schedules'!S227","v":8677.1565402964789},{"$f":"'Control Cost Schedules'!T227","v":8677.1565402964789},{"$f":"'Control Cost Schedules'!U227","v":8677.1565402964789},{"$f":"'Control Cost Schedules'!V227","v":8677.1565402964789},{"$f":"'Control Cost Schedules'!W227","v":8677.1565402964789},{"$f":"'Control Cost Schedules'!X227","v":8677.1565402964789},{"$f":"'Control Cost Schedules'!Y227","v":3375},{"$f":"'Control Cost Schedules'!Z227","v":3375},{"$f":"'Control Cost Schedules'!AA227","v":3375},{"$f":"'Control Cost Schedules'!AB227","v":3375},{"$f":"'Control Cost Schedules'!AC227","v":3375},{"$f":"'Control Cost Schedules'!AD227","v":3375},{"$f":"'Control Cost Schedules'!AE227","v":3375},{"$f":"'Control Cost Schedules'!AF227","v":3375},{"$f":"'Control Cost Schedules'!AG227","v":3375},{"$f":"'Control Cost Schedules'!AH227","v":3375},{"$f":"'Control Cost Schedules'!AI227","v":3375},{"$f":"'Control Cost Schedules'!AJ227","v":3375},{"$f":"'Control Cost Schedules'!AK227","v":3375},{"$f":"'Control Cost Schedules'!AL227","v":3375},{"$f":"'Control Cost Schedules'!AM227","v":3375},{"$f":"'Control Cost Schedules'!AN227","v":3375},{"$f":"'Control Cost Schedules'!AO227","v":3375},{"$f":"'Control Cost Schedules'!AP227","v":3375},{"$f":"'Control Cost Schedules'!AQ227","v":3375},{"$f":"'Control Cost Schedules'!AR227","v":3375},{"$f":"'Control Cost Schedules'!AS227","v":3375},{"$f":"'Control Cost Schedules'!AT227","v":3375},{"$f":"'Control Cost Schedules'!AU227","v":3375},{"$f":"'Control Cost Schedules'!AV227","v":3375},{"$f":"'Control Cost Schedules'!AW227","v":3375},{"$f":"'Control Cost Schedules'!AX227","v":3375},{"$f":"'Control Cost Schedules'!AY227","v":3375},{"$f":"'Control Cost Schedules'!AZ227","v":3375},{"$f":"'Control Cost Schedules'!BA227","v":0}]
["Town of Berthoud",54,"water filter plant",11,{"$f":"'Control Cost Schedules'!D228","v":314882.68595977616},{"$f":"'Control Cost Schedules'!E228","v":314882.68595977616},{"$f":"'Control Cost Schedules'!F228","v":314882.68595977616},{"$f":"'Control Cost Schedules'!G228","v":314882.68595977616},{"$f":"'Control Cost Schedules'!H228","v":314882.68595977616},{"$f":"'Control Cost Schedules'!I228","v":314882.68595977616},{"$f":"'Control Cost Schedules'!J228","v":314882.68595977616},{"$f":"'Control Cost Schedules'!K228","v":314882.68595977616},{"$f":"'Control Cost Schedules'!L228","v":314882.68595977616},{"$f":"'Control Cost Schedules'!M228","v":314882.68595977616},{"$f":"'Control Cost Schedules'!N228","v":314882.68595977616},{"$f":"'Control Cost Schedules'!O228","v":314882.68595977616},{"$f":"'Control Cost Schedules'!P228","v":314882.68595977616},{"$f":"'Control Cost Schedules'!Q228","v":314882.68595977616},{"$f":"'Control Cost Schedules'!R228","v":314882.68595977616},{"$f":"'Control Cost Schedules'!S228","v":314882.68595977616},{"$f":"'Control Cost Schedules'!T228","v":314882.68595977616},{"$f":"'Control Cost Schedules'!U228","v":314882.68595977616},{"$f":"'Control Cost Schedules'!V228","v":314882.68595977616},{"$f":"'Control Cost Schedules'!W228","v":314882.68595977616},{"$f":"'Control Cost Schedules'!X228","v":314882.68595977616},{"$f":"'Control Cost Schedules'!Y228","v":250000},{"$f":"'Control Cost Schedules'!Z228","v":250000},{"$f":"'Control Cost Schedules'!AA228","v":250000},{"$f":"'Control Cost Schedules'!AB228","v":250000},{"$f":"'Control Cost Schedules'!AC228","v":250000},{"$f":"'Control Cost Schedules'!AD228","v":250000},{"$f":"'Control Cost Schedules'!AE228","v":250000},{"$f":"'Control Cost Schedules'!AF228","v":250000},{"$f":"'Control Cost Schedules'!AG228","v":250000},{"$f":"'Control Cost Schedules'!AH228","v":250000},{"$f":"'Control Cost Schedules'!AI228","v":250000},{"$f":"'Control Cost Schedules'!AJ228","v":250000},{"$f":"'Control Cost Schedules'!AK228","v":250000},{"$f":"'Control Cost Schedules'!AL228","v":250000},{"$f":"'Control Cost Schedules'!AM228","v":250000},{"$f":"'Control Cost Schedules'!AN228","v":250000},{"$f":"'Control Cost Schedules'!AO228","v":250000},{"$f":"'Control Cost Schedules'!AP228","v":250000},{"$f":"'Control Cost Schedules'!AQ228","v":250000},{"$f":"'Control Cost Schedules'!AR228","v":250000},{"$f":"'Control Cost Schedules'!AS228","v":250000},{"$f":"'Control Cost Schedules'!AT228","v":250000},{"$f":"'Control Cost Schedules'!AU228","v":250000},{"$f":"'Control Cost Schedules'!AV228","v":250000},{"$f":"'Control Cost Schedules'!AW228","v":250000},{"$f":"'Control Cost Schedules'!AX228","v":250000},{"$f":"'Control Cost Schedules'!AY228","v":250000},{"$f":"'Control Cost Schedules'!AZ228","v":250000},{"$f":"'Control Cost Schedules'!BA228","v":0}]
["City of Longmont 1",55,"water filter plant",11,{"$f":"'Control Cost Schedules'!D229","v":314882.68595977616},{"$f":"'Control Cost Schedules'!E229","v":314882.68595977616},{"$f":"'Control Cost Schedules'!F229","v":314882.68595977616},{"$f":"'Control Cost Schedules'!G229","v":314882.68595977616},{"$f":"'Control Cost Schedules'!H229","v":314882.68595977616},{"$f":"'Control Cost Schedules'!I229","v":314882.68595977616},{"$f":"'Control Cost Schedules'!J229","v":314882.68595977616},{"$f":"'Control Cost Schedules'!K229","v":314882.68595977616},{"$f":"'Control Cost Schedules'!L229","v":314882.68595977616},{"$f":"'Control Cost Schedules'!M229","v":314882.68595977616},{"$f":"'Control Cost Schedules'!N229","v":314882.68595977616},{"$f":"'Control Cost Schedules'!O229","v":314882.68595977616},{"$f":"'Control Cost Schedules'!P229","v":314882.68595977616},{"$f":"'Control Cost Schedules'!Q229","v":314882.68595977616},{"$f":"'Control Cost Schedules'!R229","v":314882.68595977616},{"$f":"'Control Cost Schedules'!S229","v":314882.68595977616},{"$f":"'Control Cost Schedules'!T229","v":314882.68595977616},{"$f":"'Control Cost Schedules'!U229","v":314882.68595977616},{"$f":"'Control Cost Schedules'!V229","v":314882.68595977616},{"$f":"'Control Cost Schedules'!W229","v":314882.68595977616},{"$f":"'Control Cost Schedules'!X229","v":314882.68595977616},{"$f":"'Control Cost Schedules'!Y229","v":250000},{"$f":"'Control Cost Schedules'!Z229","v":250000},{"$f":"'Control Cost Schedules'!AA229","v":250000},{"$f":"'Control Cost Schedules'!AB229","v":250000},{"$f":"'Control Cost Schedules'!AC229","v":250000},{"$f":"'Control Cost Schedules'!AD229","v":250000},{"$f":"'Control Cost Schedules'!AE229","v":250000},{"$f":"'Control Cost Schedules'!AF229","v":250000},{"$f":"'Control Cost Schedules'!AG229","v":250000},{"$f":"'Control Cost Schedules'!AH229","v":250000},{"$f":"'Control Cost Schedules'!AI229","v":250000},{"$f":"'Control Cost Schedules'!AJ229","v":250000},{"$f":"'Control Cost Schedules'!AK229","v":250000},{"$f":"'Control Cost Schedules'!AL229","v":250000},{"$f":"'Control Cost Schedules'!AM229","v":250000},{"$f":"'Control Cost Schedules'!AN229","v":250000},{"$f":"'Control Cost Schedules'!AO229","v":250000},{"$f":"'Control Cost Schedules'!AP229","v":250000},{"$f":"'Control Cost Schedules'!AQ229","v":250000},{"$f":"'Control Cost Schedules'!AR229","v":250000},{"$f":"'Control Cost Schedules'!AS229","v":250000},{"$f":"'Control Cost Schedules'!AT229","v":250000},{"$f":"'Control Cost Schedules'!AU229","v":250000},{"$f":"'Control Cost Schedules'!AV229","v":250000},{"$f":"'Control Cost Schedules'!AW229","v":250000},{"$f":"'Control Cost Schedules'!AX229","v":250000},{"$f":"'Control Cost Schedules'!AY229","v":250000},{"$f":"'Control Cost Schedules'!AZ229","v":250000},{"$f":"'Control Cost Schedules'!BA229","v":0}]
["City of Longmont 2",56,"water filter plant",11,{"$f":"'Control Cost Schedules'!D230","v":314882.68595977616},{"$f":"'Control Cost Schedules'!E230","v":314882.68595977616},{"$f":"'Control Cost Schedules'!F230","v":314882.68595977616},{"$f":"'Control Cost Schedules'!G230","v":314882.68595977616},{"$f":"'Control Cost Schedules'!H230","v":314882.68595977616},{"$f":"'Control Cost Schedules'!I230","v":314882.68595977616},{"$f":"'Control Cost Schedules'!J230","v":314882.68595977616},{"$f":"'Control Cost Schedules'!K230","v":314882.68595977616},{"$f":"'Control Cost Schedules'!L230","v":314882.68595977616},{"$f":"'Control Cost Schedules'!M230","v":314882.68595977616},{"$f":"'Control Cost Schedules'!N230","v":314882.68595977616},{"$f":"'Control Cost Schedules'!O230","v":314882.68595977616},{"$f":"'Control Cost Schedules'!P230","v":314882.68595977616},{"$f":"'Control Cost Schedules'!Q230","v":314882.68595977616},{"$f":"'Control Cost Schedules'!R230","v":314882.68595977616},{"$f":"'Control Cost Schedules'!S230","v":314882.68595977616},{"$f":"'Control Cost Schedules'!T230","v":314882.68595977616},{"$f":"'Control Cost Schedules'!U230","v":314882.68595977616},{"$f":"'Control Cost Schedules'!V230","v":314882.68595977616},{"$f":"'Control Cost Schedules'!W230","v":314882.68595977616},{"$f":"'Control Cost Schedules'!X230","v":314882.68595977616},{"$f":"'Control Cost Schedules'!Y230","v":250000},{"$f":"'Control Cost Schedules'!Z230","v":250000},{"$f":"'Control Cost Schedules'!AA230","v":250000},{"$f":"'Control Cost Schedules'!AB230","v":250000},{"$f":"'Control Cost Schedules'!AC230","v":250000},{"$f":"'Control Cost Schedules'!AD230","v":250000},{"$f":"'Control Cost Schedules'!AE230","v":250000},{"$f":"'Control Cost Schedules'!AF230","v":250000},{"$f":"'Control Cost Schedules'!AG230","v":250000},{"$f":"'Control Cost Schedules'!AH230","v":250000},{"$f":"'Control Cost Schedules'!AI230","v":250000},{"$f":"'Control Cost Schedules'!AJ230","v":250000},{"$f":"'Control Cost Schedules'!AK230","v":250000},{"$f":"'Control Cost Schedules'!AL230","v":250000},{"$f":"'Control Cost Schedules'!AM230","v":250000},{"$f":"'Control Cost Schedules'!AN230","v":250000},{"$f":"'Control Cost Schedules'!AO230","v":250000},{"$f":"'Control Cost Schedules'!AP230","v":250000},{"$f":"'Control Cost Schedules'!AQ230","v":250000},{"$f":"'Control Cost Schedules'!AR230","v":250000},{"$f":"'Control Cost Schedules'!AS230","v":250000},{"$f":"'Control Cost Schedules'!AT230","v":250000},{"$f":"'Control Cost Schedules'!AU230","v":250000},{"$f":"'Control Cost Schedules'!AV230","v":250000},{"$f":"'Control Cost Schedules'!AW230","v":250000},{"$f":"'Control Cost Schedules'!AX230","v":250000},{"$f":"'Control Cost Schedules'!AY230","v":250000},{"$f":"'Control Cost Schedules'!AZ230","v":250000},{"$f":"'Control Cost Schedules'!BA230","v":0}]
["Louisville 1",57,"water filter plant",11,{"$f":"'Control Cost Schedules'!D231","v":314882.68595977616},{"$f":"'Control Cost Schedules'!E231","v":314882.68595977616},{"$f":"'Control Cost Schedules'!F231","v":314882.68595977616},{"$f":"'Control Cost Schedules'!G231","v":314882.68595977616},{"$f":"'Control Cost Schedules'!H231","v":314882.68595977616},{"$f":"'Control Cost Schedules'!I231","v":314882.68595977616},{"$f":"'Control Cost Schedules'!J231","v":314882.68595977616},{"$f":"'Control Cost Schedules'!K231","v":314882.68595977616},{"$f":"'Control Cost Schedules'!L231","v":314882.68595977616},{"$f":"'Control Cost Schedules'!M231","v":314882.68595977616},{"$f":"'Control Cost Schedules'!N231","v":314882.68595977616},{"$f":"'Control Cost Schedules'!O231","v":314882.68595977616},{"$f":"'Control Cost Schedules'!P231","v":314882.68595977616},{"$f":"'Control Cost Schedules'!Q231","v":314882.68595977616},{"$f":"'Control Cost Schedules'!R231","v":314882.68595977616},{"$f":"'Control Cost Schedules'!S231","v":314882.68595977616},{"$f":"'Control Cost Schedules'!T231","v":314882.68595977616},{"$f":"'Control Cost Schedules'!U231","v":314882.68595977616},{"$f":"'Control Cost Schedules'!V231","v":314882.68595977616},{"$f":"'Control Cost Schedules'!W231","v":314882.68595977616},{"$f":"'Control Cost Schedules'!X231","v":314882.68595977616},{"$f":"'Control Cost Schedules'!Y231","v":250000},{"$f":"'Control Cost Schedules'!Z231","v":250000},{"$f":"'Control Cost Schedules'!AA231","v":250000},{"$f":"'Control Cost Schedules'!AB231","v":250000},{"$f":"'Control Cost Schedules'!AC231","v":250000},{"$f":"'Control Cost Schedules'!AD231","v":250000},{"$f":"'Control Cost Schedules'!AE231","v":250000},{"$f":"'Control Cost Schedules'!AF231","v":250000},{"$f":"'Control Cost Schedules'!AG231","v":250000},{"$f":"'Control Cost Schedules'!AH231","v":250000},{"$f":"'Control Cost Schedules'!AI231","v":250000},{"$f":"'Control Cost Schedules'!AJ231","v":250000},{"$f":"'Control Cost Schedules'!AK231","v":250000},{"$f":"'Control Cost Schedules'!AL231","v":250000},{"$f":"'Control Cost Schedules'!AM231","v":250000},{"$f":"'Control Cost Schedules'!AN231","v":250000},{"$f":"'Control Cost Schedules'!AO231","v":250000},{"$f":"'Control Cost Schedules'!AP231","v":250000},{"$f":"'Control Cost Schedules'!AQ231","v":250000},{"$f":"'Control Cost Schedules'!AR231","v":250000},{"$f":"'Control Cost Schedules'!AS231","v":250000},{"$f":"'Control Cost Schedules'!AT231","v":250000},{"$f":"'Control Cost Schedules'!AU231","v":250000},{"$f":"'Control Cost Schedules'!AV231","v":250000},{"$f":"'Control Cost Schedules'!AW231","v":250000},{"$f":"'Control Cost Schedules'!AX231","v":250000},{"$f":"'Control Cost Schedules'!AY231","v":250000},{"$f":"'Control Cost Schedules'!AZ231","v":250000},{"$f":"'Control Cost Schedules'!BA231","v":0}]
["Louisville 2",58,null,11,{"$f":"'Control Cost Schedules'!D232","v":314882.68595977616},{"$f":"'Control Cost Schedules'!E232","v":314882.68595977616},{"$f":"'Control Cost Schedules'!F232","v":314882.68595977616},{"$f":"'Control Cost Schedules'!G232","v":314882.68595977616},{"$f":"'Control Cost Schedules'!H232","v":314882.68595977616},{"$f":"'Control Cost Schedules'!I232","v":314882.68595977616},{"$f":"'Control Cost Schedules'!J232","v":314882.68595977616},{"$f":"'Control Cost Schedules'!K232","v":314882.68595977616},{"$f":"'Control Cost Schedules'!L232","v":314882.68595977616},{"$f":"'Control Cost Schedules'!M232","v":314882.68595977616},{"$f":"'Control Cost Schedules'!N232","v":314882.68595977616},{"$f":"'Control Cost Schedules'!O232","v":314882.68595977616},{"$f":"'Control Cost Schedules'!P232","v":314882.68595977616},{"$f":"'Control Cost Schedules'!Q232","v":314882.68595977616},{"$f":"'Control Cost Schedules'!R232","v":314882.68595977616},{"$f":"'Control Cost Schedules'!S232","v":314882.68595977616},{"$f":"'Control Cost Schedules'!T232","v":314882.68595977616},{"$f":"'Control Cost Schedules'!U232","v":314882.68595977616},{"$f":"'Control Cost Schedules'!V232","v":314882.68595977616},{"$f":"'Control Cost Schedules'!W232","v":314882.68595977616},{"$f":"'Control Cost Schedules'!X232","v":314882.68595977616},{"$f":"'Control Cost Schedules'!Y232","v":250000},{"$f":"'Control Cost Schedules'!Z232","v":250000},{"$f":"'Control Cost Schedules'!AA232","v":250000},{"$f":"'Control Cost Schedules'!AB232","v":250000},{"$f":"'Control Cost Schedules'!AC232","v":250000},{"$f":"'Control Cost Schedules'!AD232","v":250000},{"$f":"'Control Cost Schedules'!AE232","v":250000},{"$f":"'Control Cost Schedules'!AF232","v":250000},{"$f":"'Control Cost Schedules'!AG232","v":250000},{"$f":"'Control Cost Schedules'!AH232","v":250000},{"$f":"'Control Cost Schedules'!AI232","v":250000},{"$f":"'Control Cost Schedules'!AJ232","v":250000},{"$f":"'Control Cost Schedules'!AK232","v":250000},{"$f":"'Control Cost Schedules'!AL232","v":250000},{"$f":"'Control Cost Schedules'!AM232","v":250000},{"$f":"'Control Cost Schedules'!AN232","v":250000},{"$f":"'Control Cost Schedules'!AO232","v":250000},{"$f":"'Control Cost Schedules'!AP232","v":250000},{"$f":"'Control Cost Schedules'!AQ232","v":250000},{"$f":"'Control Cost Schedules'!AR232","v":250000},{"$f":"'Control Cost Schedules'!AS232","v":250000},{"$f":"'Control Cost Schedules'!AT232","v":250000},{"$f":"'Control Cost Schedules'!AU232","v":250000},{"$f":"'Control Cost Schedules'!AV232","v":250000},{"$f":"'Control Cost Schedules'!AW232","v":250000},{"$f":"'Control Cost Schedules'!AX232","v":250000},{"$f":"'Control Cost Schedules'!AY232","v":250000},{"$f":"'Control Cost Schedules'!AZ232","v":250000},{"$f":"'Control Cost Schedules'!BA232","v":0}]
["Superior",59,"water filter plant",11,{"$f":"'Control Cost Schedules'!D233","v":314882.68595977616},{"$f":"'Control Cost Schedules'!E233","v":314882.68595977616},{"$f":"'Control Cost Schedules'!F233","v":314882.68595977616},{"$f":"'Control Cost Schedules'!G233","v":314882.68595977616},{"$f":"'Control Cost Schedules'!H233","v":314882.68595977616},{"$f":"'Control Cost Schedules'!I233","v":314882.68595977616},{"$f":"'Control Cost Schedules'!J233","v":314882.68595977616},{"$f":"'Control Cost Schedules'!K233","v":314882.68595977616},{"$f":"'Control Cost Schedules'!L233","v":314882.68595977616},{"$f":"'Control Cost Schedules'!M233","v":314882.68595977616},{"$f":"'Control Cost Schedules'!N233","v":314882.68595977616},{"$f":"'Control Cost Schedules'!O233","v":314882.68595977616},{"$f":"'Control Cost Schedules'!P233","v":314882.68595977616},{"$f":"'Control Cost Schedules'!Q233","v":314882.68595977616},{"$f":"'Control Cost Schedules'!R233","v":314882.68595977616},{"$f":"'Control Cost Schedules'!S233","v":314882.68595977616},{"$f":"'Control Cost Schedules'!T233","v":314882.68595977616},{"$f":"'Control Cost Schedules'!U233","v":314882.68595977616},{"$f":"'Control Cost Schedules'!V233","v":314882.68595977616},{"$f":"'Control Cost Schedules'!W233","v":314882.68595977616},{"$f":"'Control Cost Schedules'!X233","v":314882.68595977616},{"$f":"'Control Cost Schedules'!Y233","v":250000},{"$f":"'Control Cost Schedules'!Z233","v":250000},{"$f":"'Control Cost Schedules'!AA233","v":250000},{"$f":"'Control Cost Schedules'!AB233","v":250000},{"$f":"'Control Cost Schedules'!AC233","v":250000},{"$f":"'Control Cost Schedules'!AD233","v":250000},{"$f":"'Control Cost Schedules'!AE233","v":250000},{"$f":"'Control Cost Schedules'!AF233","v":250000},{"$f":"'Control Cost Schedules'!AG233","v":250000},{"$f":"'Control Cost Schedules'!AH233","v":250000},{"$f":"'Control Cost Schedules'!AI233","v":250000},{"$f":"'Control Cost Schedules'!AJ233","v":250000},{"$f":"'Control Cost Schedules'!AK233","v":250000},{"$f":"'Control Cost Schedules'!AL233","v":250000},{"$f":"'Control Cost Schedules'!AM233","v":250000},{"$f":"'Control Cost Schedules'!AN233","v":250000},{"$f":"'Control Cost Schedules'!AO233","v":250000},{"$f":"'Control Cost Schedules'!AP233","v":250000},{"$f":"'Control Cost Schedules'!AQ233","v":250000},{"$f":"'Control Cost Schedules'!AR233","v":250000},{"$f":"'Control Cost Schedules'!AS233","v":250000},{"$f":"'Control Cost Schedules'!AT233","v":250000},{"$f":"'Control Cost Schedules'!AU233","v":250000},{"$f":"'Control Cost Schedules'!AV233","v":250000},{"$f":"'Control Cost Schedules'!AW233","v":250000},{"$f":"'Control Cost Schedules'!AX233","v":250000},{"$f":"'Control Cost Schedules'!AY233","v":250000},{"$f":"'Control Cost Schedules'!AZ233","v":250000},{"$f":"'Control Cost Schedules'!BA233","v":0}]
["Town of Erie",60,"water filter plant",11,{"$f":"'Control Cost Schedules'!D234","v":314882.68595977616},{"$f":"'Control Cost Schedules'!E234","v":314882.68595977616},{"$f":"'Control Cost Schedules'!F234","v":314882.68595977616},{"$f":"'Control Cost Schedules'!G234","v":314882.68595977616},{"$f":"'Control Cost Schedules'!H234","v":314882.68595977616},{"$f":"'Control Cost Schedules'!I234","v":314882.68595977616},{"$f":"'Control Cost Schedules'!J234","v":314882.68595977616},{"$f":"'Control Cost Schedules'!K234","v":314882.68595977616},{"$f":"'Control Cost Schedules'!L234","v":314882.68595977616},{"$f":"'Control Cost Schedules'!M234","v":314882.68595977616},{"$f":"'Control Cost Schedules'!N234","v":314882.68595977616},{"$f":"'Control Cost Schedules'!O234","v":314882.68595977616},{"$f":"'Control Cost Schedules'!P234","v":314882.68595977616},{"$f":"'Control Cost Schedules'!Q234","v":314882.68595977616},{"$f":"'Control Cost Schedules'!R234","v":314882.68595977616},{"$f":"'Control Cost Schedules'!S234","v":314882.68595977616},{"$f":"'Control Cost Schedules'!T234","v":314882.68595977616},{"$f":"'Control Cost Schedules'!U234","v":314882.68595977616},{"$f":"'Control Cost Schedules'!V234","v":314882.68595977616},{"$f":"'Control Cost Schedules'!W234","v":314882.68595977616},{"$f":"'Control Cost Schedules'!X234","v":314882.68595977616},{"$f":"'Control Cost Schedules'!Y234","v":250000},{"$f":"'Control Cost Schedules'!Z234","v":250000},{"$f":"'Control Cost Schedules'!AA234","v":250000},{"$f":"'Control Cost Schedules'!AB234","v":250000},{"$f":"'Control Cost Schedules'!AC234","v":250000},{"$f":"'Control Cost Schedules'!AD234","v":250000},{"$f":"'Control Cost Schedules'!AE234","v":250000},{"$f":"'Control Cost Schedules'!AF234","v":250000},{"$f":"'Control Cost Schedules'!AG234","v":250000},{"$f":"'Control Cost Schedules'!AH234","v":250000},{"$f":"'Control Cost Schedules'!AI234","v":250000},{"$f":"'Control Cost Schedules'!AJ234","v":250000},{"$f":"'Control Cost Schedules'!AK234","v":250000},{"$f":"'Control Cost Schedules'!AL234","v":250000},{"$f":"'Control Cost Schedules'!AM234","v":250000},{"$f":"'Control Cost Schedules'!AN234","v":250000},{"$f":"'Control Cost Schedules'!AO234","v":250000},{"$f":"'Control Cost Schedules'!AP234","v":250000},{"$f":"'Control Cost Schedules'!AQ234","v":250000},{"$f":"'Control Cost Schedules'!AR234","v":250000},{"$f":"'Control Cost Schedules'!AS234","v":250000},{"$f":"'Control Cost Schedules'!AT234","v":250000},{"$f":"'Control Cost Schedules'!AU234","v":250000},{"$f":"'Control Cost Schedules'!AV234","v":250000},{"$f":"'Control Cost Schedules'!AW234","v":250000},{"$f":"'Control Cost Schedules'!AX234","v":250000},{"$f":"'Control Cost Schedules'!AY234","v":250000},{"$f":"'Control Cost Schedules'!AZ234","v":250000},{"$f":"'Control Cost Schedules'!BA234","v":0}]
["Broomfield ",61,"water filter plant",11,{"$f":"'Control Cost Schedules'!D235","v":314882.68595977616},{"$f":"'Control Cost Schedules'!E235","v":314882.68595977616},{"$f":"'Control Cost Schedules'!F235","v":314882.68595977616},{"$f":"'Control Cost Schedules'!G235","v":314882.68595977616},{"$f":"'Control Cost Schedules'!H235","v":314882.68595977616},{"$f":"'Control Cost Schedules'!I235","v":314882.68595977616},{"$f":"'Control Cost Schedules'!J235","v":314882.68595977616},{"$f":"'Control Cost Schedules'!K235","v":314882.68595977616},{"$f":"'Control Cost Schedules'!L235","v":314882.68595977616},{"$f":"'Control Cost Schedules'!M235","v":314882.68595977616},{"$f":"'Control Cost Schedules'!N235","v":314882.68595977616},{"$f":"'Control Cost Schedules'!O235","v":314882.68595977616},{"$f":"'Control Cost Schedules'!P235","v":314882.68595977616},{"$f":"'Control Cost Schedules'!Q235","v":314882.68595977616},{"$f":"'Control Cost Schedules'!R235","v":314882.68595977616},{"$f":"'Control Cost Schedules'!S235","v":314882.68595977616},{"$f":"'Control Cost Schedules'!T235","v":314882.68595977616},{"$f":"'Control Cost Schedules'!U235","v":314882.68595977616},{"$f":"'Control Cost Schedules'!V235","v":314882.68595977616},{"$f":"'Control Cost Schedules'!W235","v":314882.68595977616},{"$f":"'Control Cost Schedules'!X235","v":314882.68595977616},{"$f":"'Control Cost Schedules'!Y235","v":250000},{"$f":"'Control Cost Schedules'!Z235","v":250000},{"$f":"'Control Cost Schedules'!AA235","v":250000},{"$f":"'Control Cost Schedules'!AB235","v":250000},{"$f":"'Control Cost Schedules'!AC235","v":250000},{"$f":"'Control Cost Schedules'!AD235","v":250000},{"$f":"'Control Cost Schedules'!AE235","v":250000},{"$f":"'Control Cost Schedules'!AF235","v":250000},{"$f":"'Control Cost Schedules'!AG235","v":250000},{"$f":"'Control Cost Schedules'!AH235","v":250000},{"$f":"'Control Cost Schedules'!AI235","v":250000},{"$f":"'Control Cost Schedules'!AJ235","v":250000},{"$f":"'Control Cost Schedules'!AK235","v":250000},{"$f":"'Control Cost Schedules'!AL235","v":250000},{"$f":"'Control Cost Schedules'!AM235","v":250000},{"$f":"'Control Cost Schedules'!AN235","v":250000},{"$f":"'Control Cost Schedules'!AO235","v":250000},{"$f":"'Control Cost Schedules'!AP235","v":250000},{"$f":"'Control Cost Schedules'!AQ235","v":250000},{"$f":"'Control Cost Schedules'!AR235","v":250000},{"$f":"'Control Cost Schedules'!AS235","v":250000},{"$f":"'Control Cost Schedules'!AT235","v":250000},{"$f":"'Control Cost Schedules'!AU235","v":250000},{"$f":"'Control Cost Schedules'!AV235","v":250000},{"$f":"'Control Cost Schedules'!AW235","v":250000},{"$f":"'Control Cost Schedules'!AX235","v":250000},{"$f":"'Control Cost Schedules'!AY235","v":250000},{"$f":"'Control Cost Schedules'!AZ235","v":250000},{"$f":"'Control Cost Schedules'!BA235","v":0}]
["City of Fort Lupton",62,"water filter plant",11,{"$f":"'Control Cost Schedules'!D236","v":314882.68595977616},{"$f":"'Control Cost Schedules'!E236","v":314882.68595977616},{"$f":"'Control Cost Schedules'!F236","v":314882.68595977616},{"$f":"'Control Cost Schedules'!G236","v":314882.68595977616},{"$f":"'Control Cost Schedules'!H236","v":314882.68595977616},{"$f":"'Control Cost Schedules'!I236","v":314882.68595977616},{"$f":"'Control Cost Schedules'!J236","v":314882.68595977616},{"$f":"'Control Cost Schedules'!K236","v":314882.68595977616},{"$f":"'Control Cost Schedules'!L236","v":314882.68595977616},{"$f":"'Control Cost Schedules'!M236","v":314882.68595977616},{"$f":"'Control Cost Schedules'!N236","v":314882.68595977616},{"$f":"'Control Cost Schedules'!O236","v":314882.68595977616},{"$f":"'Control Cost Schedules'!P236","v":314882.68595977616},{"$f":"'Control Cost Schedules'!Q236","v":314882.68595977616},{"$f":"'Control Cost Schedules'!R236","v":314882.68595977616},{"$f":"'Control Cost Schedules'!S236","v":314882.68595977616},{"$f":"'Control Cost Schedules'!T236","v":314882.68595977616},{"$f":"'Control Cost Schedules'!U236","v":314882.68595977616},{"$f":"'Control Cost Schedules'!V236","v":314882.68595977616},{"$f":"'Control Cost Schedules'!W236","v":314882.68595977616},{"$f":"'Control Cost Schedules'!X236","v":314882.68595977616},{"$f":"'Control Cost Schedules'!Y236","v":250000},{"$f":"'Control Cost Schedules'!Z236","v":250000},{"$f":"'Control Cost Schedules'!AA236","v":250000},{"$f":"'Control Cost Schedules'!AB236","v":250000},{"$f":"'Control Cost Schedules'!AC236","v":250000},{"$f":"'Control Cost Schedules'!AD236","v":250000},{"$f":"'Control Cost Schedules'!AE236","v":250000},{"$f":"'Control Cost Schedules'!AF236","v":250000},{"$f":"'Control Cost Schedules'!AG236","v":250000},{"$f":"'Control Cost Schedules'!AH236","v":250000},{"$f":"'Control Cost Schedules'!AI236","v":250000},{"$f":"'Control Cost Schedules'!AJ236","v":250000},{"$f":"'Control Cost Schedules'!AK236","v":250000},{"$f":"'Control Cost Schedules'!AL236","v":250000},{"$f":"'Control Cost Schedules'!AM236","v":250000},{"$f":"'Control Cost Schedules'!AN236","v":250000},{"$f":"'Control Cost Schedules'!AO236","v":250000},{"$f":"'Control Cost Schedules'!AP236","v":250000},{"$f":"'Control Cost Schedules'!AQ236","v":250000},{"$f":"'Control Cost Schedules'!AR236","v":250000},{"$f":"'Control Cost Schedules'!AS236","v":250000},{"$f":"'Control Cost Schedules'!AT236","v":250000},{"$f":"'Control Cost Schedules'!AU236","v":250000},{"$f":"'Control Cost Schedules'!AV236","v":250000},{"$f":"'Control Cost Schedules'!AW236","v":250000},{"$f":"'Control Cost Schedules'!AX236","v":250000},{"$f":"'Control Cost Schedules'!AY236","v":250000},{"$f":"'Control Cost Schedules'!AZ236","v":250000},{"$f":"'Control Cost Schedules'!BA236","v":0}]
["City of Fort Morgan",63,"water filter plant",11,{"$f":"'Control Cost Schedules'!D237","v":314882.68595977616},{"$f":"'Control Cost Schedules'!E237","v":314882.68595977616},{"$f":"'Control Cost Schedules'!F237","v":314882.68595977616},{"$f":"'Control Cost Schedules'!G237","v":314882.68595977616},{"$f":"'Control Cost Schedules'!H237","v":314882.68595977616},{"$f":"'Control Cost Schedules'!I237","v":314882.68595977616},{"$f":"'Control Cost Schedules'!J237","v":314882.68595977616},{"$f":"'Control Cost Schedules'!K237","v":314882.68595977616},{"$f":"'Control Cost Schedules'!L237","v":314882.68595977616},{"$f":"'Control Cost Schedules'!M237","v":314882.68595977616},{"$f":"'Control Cost Schedules'!N237","v":314882.68595977616},{"$f":"'Control Cost Schedules'!O237","v":314882.68595977616},{"$f":"'Control Cost Schedules'!P237","v":314882.68595977616},{"$f":"'Control Cost Schedules'!Q237","v":314882.68595977616},{"$f":"'Control Cost Schedules'!R237","v":314882.68595977616},{"$f":"'Control Cost Schedules'!S237","v":314882.68595977616},{"$f":"'Control Cost Schedules'!T237","v":314882.68595977616},{"$f":"'Control Cost Schedules'!U237","v":314882.68595977616},{"$f":"'Control Cost Schedules'!V237","v":314882.68595977616},{"$f":"'Control Cost Schedules'!W237","v":314882.68595977616},{"$f":"'Control Cost Schedules'!X237","v":314882.68595977616},{"$f":"'Control Cost Schedules'!Y237","v":250000},{"$f":"'Control Cost Schedules'!Z237","v":250000},{"$f":"'Control Cost Schedules'!AA237","v":250000},{"$f":"'Control Cost Schedules'!AB237","v":250000},{"$f":"'Control Cost Schedules'!AC237","v":250000},{"$f":"'Control Cost Schedules'!AD237","v":250000},{"$f":"'Control Cost Schedules'!AE237","v":250000},{"$f":"'Control Cost Schedules'!AF237","v":250000},{"$f":"'Control Cost Schedules'!AG237","v":250000},{"$f":"'Control Cost Schedules'!AH237","v":250000},{"$f":"'Control Cost Schedules'!AI237","v":250000},{"$f":"'Control Cost Schedules'!AJ237","v":250000},{"$f":"'Control Cost Schedules'!AK237","v":250000},{"$f":"'Control Cost Schedules'!AL237","v":250000},{"$f":"'Control Cost Schedules'!AM237","v":250000},{"$f":"'Control Cost Schedules'!AN237","v":250000},{"$f":"'Control Cost Schedules'!AO237","v":250000},{"$f":"'Control Cost Schedules'!AP237","v":250000},{"$f":"'Control Cost Schedules'!AQ237","v":250000},{"$f":"'Control Cost Schedules'!AR237","v":250000},{"$f":"'Control Cost Schedules'!AS237","v":250000},{"$f":"'Control Cost Schedules'!AT237","v":250000},{"$f":"'Control Cost Schedules'!AU237","v":250000},{"$f":"'Control Cost Schedules'!AV237","v":250000},{"$f":"'Control Cost Schedules'!AW237","v":250000},{"$f":"'Control Cost Schedules'!AX237","v":250000},{"$f":"'Control Cost Schedules'!AY237","v":250000},{"$f":"'Control Cost Schedules'!AZ237","v":250000},{"$f":"'Control Cost Schedules'!BA237","v":0}]
["Boulder Creek Supply Canal",64,"canal",12,{"$f":"'Control Cost Schedules'!D238","v":0},{"$f":"'Control Cost Schedules'!E238","v":0},{"$f":"'Control Cost Schedules'!F238","v":0},{"$f":"'Control Cost Schedules'!G238","v":0},{"$f":"'Control Cost Schedules'!H238","v":0},{"$f":"'Control Cost Schedules'!I238","v":0},{"$f":"'Control Cost Schedules'!J238","v":0},{"$f":"'Control Cost Schedules'!K238","v":0},{"$f":"'Control Cost Schedules'!L238","v":0},{"$f":"'Control Cost Schedules'!M238","v":0},{"$f":"'Control Cost Schedules'!N238","v":0},{"$f":"'Control Cost Schedules'!O238","v":0},{"$f":"'Control Cost Schedules'!P238","v":0},{"$f":"'Control Cost Schedules'!Q238","v":0},{"$f":"'Control Cost Schedules'!R238","v":0},{"$f":"'Control Cost Schedules'!S238","v":0},{"$f":"'Control Cost Schedules'!T238","v":0},{"$f":"'Control Cost Schedules'!U238","v":0},{"$f":"'Control Cost Schedules'!V238","v":0},{"$f":"'Control Cost Schedules'!W238","v":0},{"$f":"'Control Cost Schedules'!X238","v":0},{"$f":"'Control Cost Schedules'!Y238","v":0},{"$f":"'Control Cost Schedules'!Z238","v":0},{"$f":"'Control Cost Schedules'!AA238","v":0},{"$f":"'Control Cost Schedules'!AB238","v":0},{"$f":"'Control Cost Schedules'!AC238","v":0},{"$f":"'Control Cost Schedules'!AD238","v":0},{"$f":"'Control Cost Schedules'!AE238","v":0},{"$f":"'Control Cost Schedules'!AF238","v":0},{"$f":"'Control Cost Schedules'!AG238","v":0},{"$f":"'Control Cost Schedules'!AH238","v":0},{"$f":"'Control Cost Schedules'!AI238","v":0},{"$f":"'Control Cost Schedules'!AJ238","v":0},{"$f":"'Control Cost Schedules'!AK238","v":0},{"$f":"'Control Cost Schedules'!AL238","v":0},{"$f":"'Control Cost Schedules'!AM238","v":0},{"$f":"'Control Cost Schedules'!AN238","v":0},{"$f":"'Control Cost Schedules'!AO238","v":0},{"$f":"'Control Cost Schedules'!AP238","v":0},{"$f":"'Control Cost Schedules'!AQ238","v":0},{"$f":"'Control Cost Schedules'!AR238","v":0},{"$f":"'Control Cost Schedules'!AS238","v":0},{"$f":"'Control Cost Schedules'!AT238","v":0},{"$f":"'Control Cost Schedules'!AU238","v":0},{"$f":"'Control Cost Schedules'!AV238","v":0},{"$f":"'Control Cost Schedules'!AW238","v":0},{"$f":"'Control Cost Schedules'!AX238","v":0},{"$f":"'Control Cost Schedules'!AY238","v":0},{"$f":"'Control Cost Schedules'!AZ238","v":0},{"$f":"'Control Cost Schedules'!BA238","v":0}]
["South Platte Supply Canal",65,"canal",12,{"$f":"'Control Cost Schedules'!D239","v":0},{"$f":"'Control Cost Schedules'!E239","v":0},{"$f":"'Control Cost Schedules'!F239","v":0},{"$f":"'Control Cost Schedules'!G239","v":0},{"$f":"'Control Cost Schedules'!H239","v":0},{"$f":"'Control Cost Schedules'!I239","v":0},{"$f":"'Control Cost Schedules'!J239","v":0},{"$f":"'Control Cost Schedules'!K239","v":0},{"$f":"'Control Cost Schedules'!L239","v":0},{"$f":"'Control Cost Schedules'!M239","v":0},{"$f":"'Control Cost Schedules'!N239","v":0},{"$f":"'Control Cost Schedules'!O239","v":0},{"$f":"'Control Cost Schedules'!P239","v":0},{"$f":"'Control Cost Schedules'!Q239","v":0},{"$f":"'Control Cost Schedules'!R239","v":0},{"$f":"'Control Cost Schedules'!S239","v":0},{"$f":"'Control Cost Schedules'!T239","v":0},{"$f":"'Control Cost Schedules'!U239","v":0},{"$f":"'Control Cost Schedules'!V239","v":0},{"$f":"'Control Cost Schedules'!W239","v":0},{"$f":"'Control Cost Schedules'!X239","v":0},{"$f":"'Control Cost Schedules'!Y239","v":0},{"$f":"'Control Cost Schedules'!Z239","v":0},{"$f":"'Control Cost Schedules'!AA239","v":0},{"$f":"'Control Cost Schedules'!AB239","v":0},{"$f":"'Control Cost Schedules'!AC239","v":0},{"$f":"'Control Cost Schedules'!AD239","v":0},{"$f":"'Control Cost Schedules'!AE239","v":0},{"$f":"'Control Cost Schedules'!AF239","v":0},{"$f":"'Control Cost Schedules'!AG239","v":0},{"$f":"'Control Cost Schedules'!AH239","v":0},{"$f":"'Control Cost Schedules'!AI239","v":0},{"$f":"'Control Cost Schedules'!AJ239","v":0},{"$f":"'Control Cost Schedules'!AK239","v":0},{"$f":"'Control Cost Schedules'!AL239","v":0},{"$f":"'Control Cost Schedules'!AM239","v":0},{"$f":"'Control Cost Schedules'!AN239","v":0},{"$f":"'Control Cost Schedules'!AO239","v":0},{"$f":"'Control Cost Schedules'!AP239","v":0},{"$f":"'Control Cost Schedules'!AQ239","v":0},{"$f":"'Control Cost Schedules'!AR239","v":0},{"$f":"'Control Cost Schedules'!AS239","v":0},{"$f":"'Control Cost Schedules'!AT239","v":0},{"$f":"'Control Cost Schedules'!AU239","v":0},{"$f":"'Control Cost Schedules'!AV239","v":0},{"$f":"'Control Cost Schedules'!AW239","v":0},{"$f":"'Control Cost Schedules'!AX239","v":0},{"$f":"'Control Cost Schedules'!AY239","v":0},{"$f":"'Control Cost Schedules'!AZ239","v":0},{"$f":"'Control Cost Schedules'!BA239","v":0}]
["City of Boulder",66,"water filter plant",12,{"$f":"'Control Cost Schedules'!D240","v":1574413.4297988808},{"$f":"'Control Cost Schedules'!E240","v":1574413.4297988808},{"$f":"'Control Cost Schedules'!F240","v":1574413.4297988808},{"$f":"'Control Cost Schedules'!G240","v":1574413.4297988808},{"$f":"'Control Cost Schedules'!H240","v":1574413.4297988808},{"$f":"'Control Cost Schedules'!I240","v":1574413.4297988808},{"$f":"'Control Cost Schedules'!J240","v":1574413.4297988808},{"$f":"'Control Cost Schedules'!K240","v":1574413.4297988808},{"$f":"'Control Cost Schedules'!L240","v":1574413.4297988808},{"$f":"'Control Cost Schedules'!M240","v":1574413.4297988808},{"$f":"'Control Cost Schedules'!N240","v":1574413.4297988808},{"$f":"'Control Cost Schedules'!O240","v":1574413.4297988808},{"$f":"'Control Cost Schedules'!P240","v":1574413.4297988808},{"$f":"'Control Cost Schedules'!Q240","v":1574413.4297988808},{"$f":"'Control Cost Schedules'!R240","v":1574413.4297988808},{"$f":"'Control Cost Schedules'!S240","v":1574413.4297988808},{"$f":"'Control Cost Schedules'!T240","v":1574413.4297988808},{"$f":"'Control Cost Schedules'!U240","v":1574413.4297988808},{"$f":"'Control Cost Schedules'!V240","v":1574413.4297988808},{"$f":"'Control Cost Schedules'!W240","v":1574413.4297988808},{"$f":"'Control Cost Schedules'!X240","v":1574413.4297988808},{"$f":"'Control Cost Schedules'!Y240","v":1250000},{"$f":"'Control Cost Schedules'!Z240","v":1250000},{"$f":"'Control Cost Schedules'!AA240","v":1250000},{"$f":"'Control Cost Schedules'!AB240","v":1250000},{"$f":"'Control Cost Schedules'!AC240","v":1250000},{"$f":"'Control Cost Schedules'!AD240","v":1250000},{"$f":"'Control Cost Schedules'!AE240","v":1250000},{"$f":"'Control Cost Schedules'!AF240","v":1250000},{"$f":"'Control Cost Schedules'!AG240","v":1250000},{"$f":"'Control Cost Schedules'!AH240","v":1250000},{"$f":"'Control Cost Schedules'!AI240","v":1250000},{"$f":"'Control Cost Schedules'!AJ240","v":1250000},{"$f":"'Control Cost Schedules'!AK240","v":1250000},{"$f":"'Control Cost Schedules'!AL240","v":1250000},{"$f":"'Control Cost Schedules'!AM240","v":1250000},{"$f":"'Control Cost Schedules'!AN240","v":1250000},{"$f":"'Control Cost Schedules'!AO240","v":1250000},{"$f":"'Control Cost Schedules'!AP240","v":1250000},{"$f":"'Control Cost Schedules'!AQ240","v":1250000},{"$f":"'Control Cost Schedules'!AR240","v":1250000},{"$f":"'Control Cost Schedules'!AS240","v":1250000},{"$f":"'Control Cost Schedules'!AT240","v":1250000},{"$f":"'Control Cost Schedules'!AU240","v":1250000},{"$f":"'Control Cost Schedules'!AV240","v":1250000},{"$f":"'Control Cost Schedules'!AW240","v":1250000},{"$f":"'Control Cost Schedules'!AX240","v":1250000},{"$f":"'Control Cost Schedules'!AY240","v":1250000},{"$f":"'Control Cost Schedules'!AZ240","v":1250000},{"$f":"'Control Cost Schedules'!BA240","v":0}]
["City of Lafayette",67,"water filter plant",12,{"$f":"'Control Cost Schedules'!D241","v":1574413.4297988808},{"$f":"'Control Cost Schedules'!E241","v":1574413.4297988808},{"$f":"'Control Cost Schedules'!F241","v":1574413.4297988808},{"$f":"'Control Cost Schedules'!G241","v":1574413.4297988808},{"$f":"'Control Cost Schedules'!H241","v":1574413.4297988808},{"$f":"'Control Cost Schedules'!I241","v":1574413.4297988808},{"$f":"'Control Cost Schedules'!J241","v":1574413.4297988808},{"$f":"'Control Cost Schedules'!K241","v":1574413.4297988808},{"$f":"'Control Cost Schedules'!L241","v":1574413.4297988808},{"$f":"'Control Cost Schedules'!M241","v":1574413.4297988808},{"$f":"'Control Cost Schedules'!N241","v":1574413.4297988808},{"$f":"'Control Cost Schedules'!O241","v":1574413.4297988808},{"$f":"'Control Cost Schedules'!P241","v":1574413.4297988808},{"$f":"'Control Cost Schedules'!Q241","v":1574413.4297988808},{"$f":"'Control Cost Schedules'!R241","v":1574413.4297988808},{"$f":"'Control Cost Schedules'!S241","v":1574413.4297988808},{"$f":"'Control Cost Schedules'!T241","v":1574413.4297988808},{"$f":"'Control Cost Schedules'!U241","v":1574413.4297988808},{"$f":"'Control Cost Schedules'!V241","v":1574413.4297988808},{"$f":"'Control Cost Schedules'!W241","v":1574413.4297988808},{"$f":"'Control Cost Schedules'!X241","v":1574413.4297988808},{"$f":"'Control Cost Schedules'!Y241","v":1250000},{"$f":"'Control Cost Schedules'!Z241","v":1250000},{"$f":"'Control Cost Schedules'!AA241","v":1250000},{"$f":"'Control Cost Schedules'!AB241","v":1250000},{"$f":"'Control Cost Schedules'!AC241","v":1250000},{"$f":"'Control Cost Schedules'!AD241","v":1250000},{"$f":"'Control Cost Schedules'!AE241","v":1250000},{"$f":"'Control Cost Schedules'!AF241","v":1250000},{"$f":"'Control Cost Schedules'!AG241","v":1250000},{"$f":"'Control Cost Schedules'!AH241","v":1250000},{"$f":"'Control Cost Schedules'!AI241","v":1250000},{"$f":"'Control Cost Schedules'!AJ241","v":1250000},{"$f":"'Control Cost Schedules'!AK241","v":1250000},{"$f":"'Control Cost Schedules'!AL241","v":1250000},{"$f":"'Control Cost Schedules'!AM241","v":1250000},{"$f":"'Control Cost Schedules'!AN241","v":1250000},{"$f":"'Control Cost Schedules'!AO241","v":1250000},{"$f":"'Control Cost Schedules'!AP241","v":1250000},{"$f":"'Control Cost Schedules'!AQ241","v":1250000},{"$f":"'Control Cost Schedules'!AR241","v":1250000},{"$f":"'Control Cost Schedules'!AS241","v":1250000},{"$f":"'Control Cost Schedules'!AT241","v":1250000},{"$f":"'Control Cost Schedules'!AU241","v":1250000},{"$f":"'Control Cost Schedules'!AV241","v":1250000},{"$f":"'Control Cost Schedules'!AW241","v":1250000},{"$f":"'Control Cost Schedules'!AX241","v":1250000},{"$f":"'Control Cost Schedules'!AY241","v":1250000},{"$f":"'Control Cost Schedules'!AZ241","v":1250000},{"$f":"'Control Cost Schedules'!BA241","v":0}]
[null,null,null,null,{"$f":"SUM(E162:E229)","v":11041299.763101596}]
["Inspection Costs"]
[]
[null,"Index (1=low, 2=base, 3=high, 4=user defined)","Name","Value In-Use","Low","Base","High","User Defined","Source"]
["Yearly Direct Costs: Variable Costs ($/year)             ",2,"direct_costs_variable",{"$f":"INDEX(E234:H234,B234)","v":827205.66666666663},null,{"$f":"'Direct Program Costs'!B54","v":827205.66666666663},null,2100000,"CDOW"]
["Yearly Direct Costs: P&I on Capital Expenditures ($/year)",2,"direct_costs_PI",{"$f":"INDEX(E235:H235,B235)","v":4655.8999999999996},null,{"$f":"'Direct Program Costs'!B55","v":4655.8999999999996}]
["CS per boater per day ($/boater/day)",2,"CS",61.16,17.940000000000001,61.16,104.38,null,"Kaval and Loomis 2003.  Base is average WTP taken from 7 studies in the Intermountain Region.  The low is 2 standard errors below the average and the high is 2 standard errors about the average."]
["Length of an Average Boater Day (hours)",2,"day_length",3.2,2,3.2,5.5,null,"From Grand Lake Boater Survey Data: mean=4.6 hours, median=3.2 hours, min=1 hour, max=13 hours, n=161, distributions is positively skewed.  From USCG National Recreation Survey, the average for sailboats, open motorboats, cabin motorboats and personal watercraft is 5.54. "]
["Average Number of Boaters per Boat (persons/boat)",2,"avg_persons",3.63,2.94,3.63,4.5,null,"From USCG 2002 National Recreation Survey.  The base value is the average number of people per trip for people using sailboats, open motorboats, cabin motorboats, and personal watercraft (excludes pontoons and houseboats).  The low value is the average for non-motorized sailboats, and the high value is the overall average for all trailered boats (including pontoon boats and houseboats)."]
["Inspection Length (hours)",2,"inspect_length",0.22,0.06,0.22,0.39,null,"Inspection time is the sum of the time it takes for the inspection and the wait/travel time to get the inspection.  Time for inspections is based on a weighted average of the standard inspections (3 minutes) and high risk inspections/decontaminations (20 minutes).  Wait/Travel time is estimated as 0, 10 or 20 minutes."]
["Do you want to include indirect costs of the inspection program in the analysis?","yes"]
[]
["Water Body ID","No. of Boat Visits per Year (with inspection program) {BoatVisits_0}","No. of Boat Visits per Year (no inspection program) {BoatVisits_1}","Decline in No. of Boat Visits","Source"]
[0,{"$f":"B79","v":0},{"$f":"B243/(1-per_decline)","v":0},{"$f":"C243-B243","v":0},"CDOW boat inspection data"]
[1,{"$f":"B80","v":0},0,0]
[2,7404,7478.787878787879,74.787878787878981]
[3,3562,3597.9797979797981,35.97979797979815]
[4,3263,3295.9595959595958,32.959595959595845]
[5,0,0,0]
[6,0,0,0]
[7,420,424.24242424242425,4.2424242424242493]
[8,0,0,0]
[9,0,0,0]
[10,48518,49008.080808080806,490.08080808080558]
[11,7982,8062.6262626262624,80.62626262626236]
[12,1700,1717.1717171717171,17.171717171717091]
["Total Decline in number of Boaters",null,"decline",{"$f":"SUM(D243:D255)*avg_persons","v":2671.1299999999906}]
["Remaining Boaters",null,"remain",{"$f":"SUM(B243:B255)*avg_persons","v":264441.87}]
["Yearly Indirect Costs ($/year)",null,"indirect_costs",{"$f":"IF($B$240=\"yes\",decline*CS+remain*(inspect_length/day_length)*CS,0)","v":1275278.2636824993}]
[]
[]
[]
["Random Number Options"]
[null,"Name","In-Use","Low","Base","High","User Input"]
["10000 * Maximum value for R","R_max(_low,_base,_high)","n/a",{"$f":"10000*E101","v":0},{"$f":"10000*F101","v":50},560,10]
["Seed used for pseudorandom","Seed",123]

{"sheet":"System Flow","index":2,"n_rows":109,"n_cols":4,"rows_kept":109,"cut":false,"hidden":false,"merged":[]}
["Major Structures in the Colorado-Big Thompson System"]
[]
[]
[]
[]
[]
[]
[]
[]
[]
[]
[]
[]
[]
[]
[]
[]
[]
[]
[]
[]
[]
[]
["System Reservoirs"]
["Reservoir","Reservoir ID"]
["Windy Gap Reservoir",0]
["Willow Creek Reservoir",1]
["Lake Granby",2]
["Shadow Mountain Reservoir",3]
["Grand Lake",4]
["East Portal Reservoir",5]
["Mary's Lake",6]
["Lake Estes",7]
["Pinewood Reservoir",8]
["Flatiron Reservoir",9]
["Horsetooth Reservoir",10]
["Carter Lake",11]
["Boulder Reservoir",12]
[]
["Major System Facilities and Structures"]
["Structure/Facility Name","Structure/Facility ID","Structure/Facility Classification  ","Upstream Water Body"]
["Windy Gap Pump Plant",0,"pump plant",0]
["Windy Gap Pipeline",1,"pipeline",0]
["Willow Creek Dam",2,"dam",1]
["Willow Creek Pump Canal",3,"canal",1]
["Willow Creek Pump Plant",4,"pump plant",1]
["Granby Dam",5,"dam",2]
["Farr Pumping Plant",6,"pump plant",2]
["Grandby Pump Canal",7,"canal",2]
["Shadow Mountain Dam",8,"dam",3]
["Adams Tunnel",9,"tunnel",4]
["East Portal Dam",10,"dam",5]
["Rams Horn Tunnel",11,"tunnel",5]
["Mary's Lake Hydropower Plant",12,"hydropower",5]
["Prospect Mountain Tunnel",13,"tunnel",6]
["Estes Hydropower Plant",14,"hydropower",6]
["Town of Estes",15,"water filter plant",6]
["Mary's Lake (Town)",16,"water filter plant",6]
["Olympus Dam",17,"dam",7]
["Olympus Tunnel",18,"tunnel",7]
["Pole Hill Tunnel",19,"tunnel",7]
["Pole Hill Hydropower Plant",20,"hydropower",7]
["Rattlesnake Tunnel",21,"tunnel",7]
["Rattlesnake Dam",22,"dam",8]
["Bald Mountain Tunnel",23,"tunnel",8]
["Flatiron Hydropower Plant",24,"hydropower",8]
["Newell Warnock",25,"water filter plant",8]
["Flatiron Reversible Pump",26,"pump plant",9]
["Flatiron Dam",27,"dam",9]
["Carter Lake Pressure Tunnel",28,"tunnel",9]
["Big Thompson Hydropower Plant",29,"hydropower",9]
["Hansen Feeder Canal",30,"canal",9]
["City of Loveland",31,"water filter plant",9]
["Emissaries of Divine Light",32,"water filter plant",9]
["Eden Valley",33,"water filter plant",9]
["Spring Canyon",34,"water filter plant",9]
["Horsetooth Dam",35,"dam",10]
["Soldier Dam",36,"dam",10]
["Dixon Dam",37,"dam",10]
["Spring Canyon Dam",38,"dam",10]
["Charles Hansen Supply Canal",39,"canal",10]
["Northern Poudre Supply Canal",40,"canal",10]
["Fort Collins",41,"water filter plant",10]
["Soldier Canyon",42,"water filter plant",10]
["Greeley",43,"water filter plant",10]
["Carter Lake Dam 1",44,"dam",11]
["Carter Lake Dam 2",45,"dam",11]
["Carter Lake Dam 3",46,"dam",11]
["Carter Lake Filter Plant 1",47,"water filter plant",11]
["Carter Lake Filter Plant 2",48,"water filter plant",11]
["St. Vrain Supply Canal",49,"canal",11]
["Boulder Feeder Canal",50,"canal",11]
["Southern Water Supply Project Pipeline",51,"pipeline",11]
["West Longmont Pumping Plant",52,"pump plant",11]
["Louisville/Superior Pumping Plant",53,"pump plant",11]
["Town of Berthoud",54,"water filter plant",11]
["City of Longmont 1",55,"water filter plant",11]
["City of Longmont 2",56,"water filter plant",11]
["Louisville 1",57,"water filter plant",11]
["Louisville 2",58,"water filter plant",11]
["Superior",59,"water filter plant",11]
["Town of Erie",60,"water filter plant",11]
["Broomfield ",61,"water filter plant",11]
["City of Fort Lupton",62,"water filter plant",11]
["City of Fort Morgan",63,"water filter plant",11]
["Boulder Creek Supply Canal",64,"canal",12]
["South Platte Supply Canal",65,"canal",12]
["City of Boulder",66,"water filter plant",12]
["City of Laffeyette",67,"water filter plant",12]

{"sheet":"Control Cost Schedules","index":3,"n_rows":241,"n_cols":52,"rows_kept":241,"cut":false,"hidden":false,"merged":[[75,1,75,3]]}
["Structure/Facility Details"]
["Structure/Facility Name","Structure/Facility ID","Structure/Facility Classification  ","Upstream Water Body","Density Upstream Water Body","Capacity (mgd)","No. of Pumps","No. of Generators","Megawatts of Generation","Length of Penstock(s) (feet)","No. of Trash Racks","Length (miles)","Length (km)","Dry for at least one month each year?"]
["Windy Gap Pump Plant",0,"pump plant",0,{"$f":"IF(INDEX(CalciumLevel,D3+1)=\"very low\",density_vl,IF(INDEX(CalciumLevel,D3+1)=\"low\",density_l,IF(INDEX(CalciumLevel,D3+1)=\"moderate\",density_m,IF(INDEX(CalciumLevel,D3+1)=\"high\",density_h,IF(AND(INDEX(CalciumLevel,D3+1)=\"unknown\",'Model Input'!$B$52=\"Model as very low calcium\"),density_vl,IF(AND(INDEX(CalciumLevel,D3+1)=\"unknown\",'Model Input'!$B$52=\"Model as low calcium\"),density_l,IF(AND(INDEX(CalciumLevel,D3+1)=\"unknown\",'Model Input'!$B$52=\"Model as moderate calcium\"),density_m,\"error\")))))))","v":22},null,4,null,null,null,4,null,null,"no"]
["Windy Gap Pipeline",1,"pipeline",0,{"$f":"IF(INDEX(CalciumLevel,D4+1)=\"very low\",density_vl,IF(INDEX(CalciumLevel,D4+1)=\"low\",density_l,IF(INDEX(CalciumLevel,D4+1)=\"moderate\",density_m,IF(INDEX(CalciumLevel,D4+1)=\"high\",density_h,IF(AND(INDEX(CalciumLevel,D4+1)=\"unknown\",'Model Input'!$B$52=\"Model as very low calcium\"),density_vl,IF(AND(INDEX(CalciumLevel,D4+1)=\"unknown\",'Model Input'!$B$52=\"Model as low calcium\"),density_l,IF(AND(INDEX(CalciumLevel,D4+1)=\"unknown\",'Model Input'!$B$52=\"Model as moderate calcium\"),density_m,\"error\")))))))","v":22},null,null,null,null,null,null,5.87,9.4507000000000012,"yes"]
["Willow Creek Dam",2,"dam",1,{"$f":"IF(INDEX(CalciumLevel,D5+1)=\"very low\",density_vl,IF(INDEX(CalciumLevel,D5+1)=\"low\",density_l,IF(INDEX(CalciumLevel,D5+1)=\"moderate\",density_m,IF(INDEX(CalciumLevel,D5+1)=\"high\",density_h,IF(AND(INDEX(CalciumLevel,D5+1)=\"unknown\",'Model Input'!$B$52=\"Model as very low calcium\"),density_vl,IF(AND(INDEX(CalciumLevel,D5+1)=\"unknown\",'Model Input'!$B$52=\"Model as low calcium\"),density_l,IF(AND(INDEX(CalciumLevel,D5+1)=\"unknown\",'Model Input'!$B$52=\"Model as moderate calcium\"),density_m,\"error\")))))))","v":22},null,null,null,null,null,1,null,null,"no"]
["Willow Creek Pump Canal",3,"canal",1,{"$f":"IF(INDEX(CalciumLevel,D6+1)=\"very low\",density_vl,IF(INDEX(CalciumLevel,D6+1)=\"low\",density_l,IF(INDEX(CalciumLevel,D6+1)=\"moderate\",density_m,IF(INDEX(CalciumLevel,D6+1)=\"high\",density_h,IF(AND(INDEX(CalciumLevel,D6+1)=\"unknown\",'Model Input'!$B$52=\"Model as very low calcium\"),density_vl,IF(AND(INDEX(CalciumLevel,D6+1)=\"unknown\",'Model Input'!$B$52=\"Model as low calcium\"),density_l,IF(AND(INDEX(CalciumLevel,D6+1)=\"unknown\",'Model Input'!$B$52=\"Model as moderate calcium\"),density_m,\"error\")))))))","v":22},null,null,null,null,null,null,3.4,5.4740000000000002,"yes"]
["Willow Creek Pump Plant",4,"pump plant",1,{"$f":"IF(INDEX(CalciumLevel,D7+1)=\"very low\",density_vl,IF(INDEX(CalciumLevel,D7+1)=\"low\",density_l,IF(INDEX(CalciumLevel,D7+1)=\"moderate\",density_m,IF(INDEX(CalciumLevel,D7+1)=\"high\",density_h,IF(AND(INDEX(CalciumLevel,D7+1)=\"unknown\",'Model Input'!$B$52=\"Model as very low calcium\"),density_vl,IF(AND(INDEX(CalciumLevel,D7+1)=\"unknown\",'Model Input'!$B$52=\"Model as low calcium\"),density_l,IF(AND(INDEX(CalciumLevel,D7+1)=\"unknown\",'Model Input'!$B$52=\"Model as moderate calcium\"),density_m,\"error\")))))))","v":22},null,2,null,null,null,2,null,null,"yes"]
["Granby Dam",5,"dam",2,{"$f":"IF(INDEX(CalciumLevel,D8+1)=\"very low\",density_vl,IF(INDEX(CalciumLevel,D8+1)=\"low\",density_l,IF(INDEX(CalciumLevel,D8+1)=\"moderate\",density_m,IF(INDEX(CalciumLevel,D8+1)=\"high\",density_h,IF(AND(INDEX(CalciumLevel,D8+1)=\"unknown\",'Model Input'!$B$52=\"Model as very low calcium\"),density_vl,IF(AND(INDEX(CalciumLevel,D8+1)=\"unknown\",'Model Input'!$B$52=\"Model as low calcium\"),density_l,IF(AND(INDEX(CalciumLevel,D8+1)=\"unknown\",'Model Input'!$B$52=\"Model as moderate calcium\"),density_m,\"error\")))))))","v":22},null,null,null,null,null,1,null,null,"no"]
["Farr Pumping Plant",6,"pump plant",2,{"$f":"IF(INDEX(CalciumLevel,D9+1)=\"very low\",density_vl,IF(INDEX(CalciumLevel,D9+1)=\"low\",density_l,IF(INDEX(CalciumLevel,D9+1)=\"moderate\",density_m,IF(INDEX(CalciumLevel,D9+1)=\"high\",density_h,IF(AND(INDEX(CalciumLevel,D9+1)=\"unknown\",'Model Input'!$B$52=\"Model as very low calcium\"),density_vl,IF(AND(INDEX(CalciumLevel,D9+1)=\"unknown\",'Model Input'!$B$52=\"Model as low calcium\"),density_l,IF(AND(INDEX(CalciumLevel,D9+1)=\"unknown\",'Model Input'!$B$52=\"Model as moderate calcium\"),density_m,\"error\")))))))","v":22},null,3,null,null,null,1,null,null,"no"]
["Grandby Pump Canal",7,"canal",2,{"$f":"IF(INDEX(CalciumLevel,D10+1)=\"very low\",density_vl,IF(INDEX(CalciumLevel,D10+1)=\"low\",density_l,IF(INDEX(CalciumLevel,D10+1)=\"moderate\",density_m,IF(INDEX(CalciumLevel,D10+1)=\"high\",density_h,IF(AND(INDEX(CalciumLevel,D10+1)=\"unknown\",'Model Input'!$B$52=\"Model as very low calcium\"),density_vl,IF(AND(INDEX(CalciumLevel,D10+1)=\"unknown\",'Model Input'!$B$52=\"Model as low calcium\"),density_l,IF(AND(INDEX(CalciumLevel,D10+1)=\"unknown\",'Model Input'!$B$52=\"Model as moderate calcium\"),density_m,\"error\")))))))","v":22},null,null,null,null,null,null,1.8,2.8980000000000001,"no"]
["Shadow Mountain Dam",8,"dam",3,{"$f":"IF(INDEX(CalciumLevel,D11+1)=\"very low\",density_vl,IF(INDEX(CalciumLevel,D11+1)=\"low\",density_l,IF(INDEX(CalciumLevel,D11+1)=\"moderate\",density_m,IF(INDEX(CalciumLevel,D11+1)=\"high\",density_h,IF(AND(INDEX(CalciumLevel,D11+1)=\"unknown\",'Model Input'!$B$52=\"Model as very low calcium\"),density_vl,IF(AND(INDEX(CalciumLevel,D11+1)=\"unknown\",'Model Input'!$B$52=\"Model as low calcium\"),density_l,IF(AND(INDEX(CalciumLevel,D11+1)=\"unknown\",'Model Input'!$B$52=\"Model as moderate calcium\"),density_m,\"error\")))))))","v":22},null,null,null,null,null,0,null,null,"no"]
["Adams Tunnel",9,"tunnel",4,{"$f":"IF(INDEX(CalciumLevel,D12+1)=\"very low\",density_vl,IF(INDEX(CalciumLevel,D12+1)=\"low\",density_l,IF(INDEX(CalciumLevel,D12+1)=\"moderate\",density_m,IF(INDEX(CalciumLevel,D12+1)=\"high\",density_h,IF(AND(INDEX(CalciumLevel,D12+1)=\"unknown\",'Model Input'!$B$52=\"Model as very low calcium\"),density_vl,IF(AND(INDEX(CalciumLevel,D12+1)=\"unknown\",'Model Input'!$B$52=\"Model as low calcium\"),density_l,IF(AND(INDEX(CalciumLevel,D12+1)=\"unknown\",'Model Input'!$B$52=\"Model as moderate calcium\"),density_m,\"error\")))))))","v":22},null,null,null,null,null,"7.5 ft high in a semi-circle with arc length of 240 ft",13.1,21.091000000000001,"yes"]
["East Portal Dam",10,"dam",5,{"$f":"IF(INDEX(CalciumLevel,D13+1)=\"very low\",density_vl,IF(INDEX(CalciumLevel,D13+1)=\"low\",density_l,IF(INDEX(CalciumLevel,D13+1)=\"moderate\",density_m,IF(INDEX(CalciumLevel,D13+1)=\"high\",density_h,IF(AND(INDEX(CalciumLevel,D13+1)=\"unknown\",'Model Input'!$B$52=\"Model as very low calcium\"),density_vl,IF(AND(INDEX(CalciumLevel,D13+1)=\"unknown\",'Model Input'!$B$52=\"Model as low calcium\"),density_l,IF(AND(INDEX(CalciumLevel,D13+1)=\"unknown\",'Model Input'!$B$52=\"Model as moderate calcium\"),density_m,\"error\")))))))","v":22},null,null,null,null,null,1,null,null,"no"]
["Rams Horn Tunnel",11,"tunnel",5,{"$f":"IF(INDEX(CalciumLevel,D14+1)=\"very low\",density_vl,IF(INDEX(CalciumLevel,D14+1)=\"low\",density_l,IF(INDEX(CalciumLevel,D14+1)=\"moderate\",density_m,IF(INDEX(CalciumLevel,D14+1)=\"high\",density_h,IF(AND(INDEX(CalciumLevel,D14+1)=\"unknown\",'Model Input'!$B$52=\"Model as very low calcium\"),density_vl,IF(AND(INDEX(CalciumLevel,D14+1)=\"unknown\",'Model Input'!$B$52=\"Model as low calcium\"),density_l,IF(AND(INDEX(CalciumLevel,D14+1)=\"unknown\",'Model Input'!$B$52=\"Model as moderate calcium\"),density_m,\"error\")))))))","v":22},null,null,null,null,null,null,1.3,2.0930000000000004,"no"]
["Mary's Lake Hydropower Plant",12,"hydropower",5,{"$f":"IF(INDEX(CalciumLevel,D15+1)=\"very low\",density_vl,IF(INDEX(CalciumLevel,D15+1)=\"low\",density_l,IF(INDEX(CalciumLevel,D15+1)=\"moderate\",density_m,IF(INDEX(CalciumLevel,D15+1)=\"high\",density_h,IF(AND(INDEX(CalciumLevel,D15+1)=\"unknown\",'Model Input'!$B$52=\"Model as very low calcium\"),density_vl,IF(AND(INDEX(CalciumLevel,D15+1)=\"unknown\",'Model Input'!$B$52=\"Model as low calcium\"),density_l,IF(AND(INDEX(CalciumLevel,D15+1)=\"unknown\",'Model Input'!$B$52=\"Model as moderate calcium\"),density_m,\"error\")))))))","v":22},null,null,1,8.1,870,1,null,null,"no"]
["Prospect Mountain Conduit and Tunnel",13,"tunnel",6,{"$f":"IF(INDEX(CalciumLevel,D16+1)=\"very low\",density_vl,IF(INDEX(CalciumLevel,D16+1)=\"low\",density_l,IF(INDEX(CalciumLevel,D16+1)=\"moderate\",density_m,IF(INDEX(CalciumLevel,D16+1)=\"high\",density_h,IF(AND(INDEX(CalciumLevel,D16+1)=\"unknown\",'Model Input'!$B$52=\"Model as very low calcium\"),density_vl,IF(AND(INDEX(CalciumLevel,D16+1)=\"unknown\",'Model Input'!$B$52=\"Model as low calcium\"),density_l,IF(AND(INDEX(CalciumLevel,D16+1)=\"unknown\",'Model Input'!$B$52=\"Model as moderate calcium\"),density_m,\"error\")))))))","v":22},null,null,null,null,null,null,1.7,2.7370000000000001,"no"]
["Estes Hydropower Plant",14,"hydropower",6,{"$f":"IF(INDEX(CalciumLevel,D17+1)=\"very low\",density_vl,IF(INDEX(CalciumLevel,D17+1)=\"low\",density_l,IF(INDEX(CalciumLevel,D17+1)=\"moderate\",density_m,IF(INDEX(CalciumLevel,D17+1)=\"high\",density_h,IF(AND(INDEX(CalciumLevel,D17+1)=\"unknown\",'Model Input'!$B$52=\"Model as very low calcium\"),density_vl,IF(AND(INDEX(CalciumLevel,D17+1)=\"unknown\",'Model Input'!$B$52=\"Model as low calcium\"),density_l,IF(AND(INDEX(CalciumLevel,D17+1)=\"unknown\",'Model Input'!$B$52=\"Model as moderate calcium\"),density_m,\"error\")))))))","v":22},null,null,3,45,4000,1,null,null,"no"]
["Town of Estes",15,"water filter plant",6,{"$f":"IF(INDEX(CalciumLevel,D18+1)=\"very low\",density_vl,IF(INDEX(CalciumLevel,D18+1)=\"low\",density_l,IF(INDEX(CalciumLevel,D18+1)=\"moderate\",density_m,IF(INDEX(CalciumLevel,D18+1)=\"high\",density_h,IF(AND(INDEX(CalciumLevel,D18+1)=\"unknown\",'Model Input'!$B$52=\"Model as very low calcium\"),density_vl,IF(AND(INDEX(CalciumLevel,D18+1)=\"unknown\",'Model Input'!$B$52=\"Model as low calcium\"),density_l,IF(AND(INDEX(CalciumLevel,D18+1)=\"unknown\",'Model Input'!$B$52=\"Model as moderate calcium\"),density_m,\"error\")))))))","v":22},4,null,null,null,null,null,null,null,"no"]
["Mary's Lake (Town)",16,"water filter plant",6,{"$f":"IF(INDEX(CalciumLevel,D19+1)=\"very low\",density_vl,IF(INDEX(CalciumLevel,D19+1)=\"low\",density_l,IF(INDEX(CalciumLevel,D19+1)=\"moderate\",density_m,IF(INDEX(CalciumLevel,D19+1)=\"high\",density_h,IF(AND(INDEX(CalciumLevel,D19+1)=\"unknown\",'Model Input'!$B$52=\"Model as very low calcium\"),density_vl,IF(AND(INDEX(CalciumLevel,D19+1)=\"unknown\",'Model Input'!$B$52=\"Model as low calcium\"),density_l,IF(AND(INDEX(CalciumLevel,D19+1)=\"unknown\",'Model Input'!$B$52=\"Model as moderate calcium\"),density_m,\"error\")))))))","v":22},2,null,null,null,null,null,null,null,"no"]
["Olympus Dam",17,"dam",7,{"$f":"IF(INDEX(CalciumLevel,D20+1)=\"very low\",density_vl,IF(INDEX(CalciumLevel,D20+1)=\"low\",density_l,IF(INDEX(CalciumLevel,D20+1)=\"moderate\",density_m,IF(INDEX(CalciumLevel,D20+1)=\"high\",density_h,IF(AND(INDEX(CalciumLevel,D20+1)=\"unknown\",'Model Input'!$B$52=\"Model as very low calcium\"),density_vl,IF(AND(INDEX(CalciumLevel,D20+1)=\"unknown\",'Model Input'!$B$52=\"Model as low calcium\"),density_l,IF(AND(INDEX(CalciumLevel,D20+1)=\"unknown\",'Model Input'!$B$52=\"Model as moderate calcium\"),density_m,\"error\")))))))","v":22},null,null,null,null,null,1,null,null,"no"]
["Olympus Siphon and Tunnel",18,"tunnel",7,{"$f":"IF(INDEX(CalciumLevel,D21+1)=\"very low\",density_vl,IF(INDEX(CalciumLevel,D21+1)=\"low\",density_l,IF(INDEX(CalciumLevel,D21+1)=\"moderate\",density_m,IF(INDEX(CalciumLevel,D21+1)=\"high\",density_h,IF(AND(INDEX(CalciumLevel,D21+1)=\"unknown\",'Model Input'!$B$52=\"Model as very low calcium\"),density_vl,IF(AND(INDEX(CalciumLevel,D21+1)=\"unknown\",'Model Input'!$B$52=\"Model as low calcium\"),density_l,IF(AND(INDEX(CalciumLevel,D21+1)=\"unknown\",'Model Input'!$B$52=\"Model as moderate calcium\"),density_m,\"error\")))))))","v":22},null,null,null,null,null,null,0.8,1.2880000000000003,"no"]
["Pole Hill Tunnel",19,"tunnel",7,{"$f":"IF(INDEX(CalciumLevel,D22+1)=\"very low\",density_vl,IF(INDEX(CalciumLevel,D22+1)=\"low\",density_l,IF(INDEX(CalciumLevel,D22+1)=\"moderate\",density_m,IF(INDEX(CalciumLevel,D22+1)=\"high\",density_h,IF(AND(INDEX(CalciumLevel,D22+1)=\"unknown\",'Model Input'!$B$52=\"Model as very low calcium\"),density_vl,IF(AND(INDEX(CalciumLevel,D22+1)=\"unknown\",'Model Input'!$B$52=\"Model as low calcium\"),density_l,IF(AND(INDEX(CalciumLevel,D22+1)=\"unknown\",'Model Input'!$B$52=\"Model as moderate calcium\"),density_m,\"error\")))))))","v":22},null,null,null,null,null,null,5.4,8.6940000000000008,"no"]
["Pole Hill Hydropower Plant",20,"hydropower",7,{"$f":"IF(INDEX(CalciumLevel,D23+1)=\"very low\",density_vl,IF(INDEX(CalciumLevel,D23+1)=\"low\",density_l,IF(INDEX(CalciumLevel,D23+1)=\"moderate\",density_m,IF(INDEX(CalciumLevel,D23+1)=\"high\",density_h,IF(AND(INDEX(CalciumLevel,D23+1)=\"unknown\",'Model Input'!$B$52=\"Model as very low calcium\"),density_vl,IF(AND(INDEX(CalciumLevel,D23+1)=\"unknown\",'Model Input'!$B$52=\"Model as low calcium\"),density_l,IF(AND(INDEX(CalciumLevel,D23+1)=\"unknown\",'Model Input'!$B$52=\"Model as moderate calcium\"),density_m,\"error\")))))))","v":22},null,null,1,38.200000000000003,2040,1,null,null,"no"]
["Rattlesnake Siphon and Tunnel",21,"tunnel",7,{"$f":"IF(INDEX(CalciumLevel,D24+1)=\"very low\",density_vl,IF(INDEX(CalciumLevel,D24+1)=\"low\",density_l,IF(INDEX(CalciumLevel,D24+1)=\"moderate\",density_m,IF(INDEX(CalciumLevel,D24+1)=\"high\",density_h,IF(AND(INDEX(CalciumLevel,D24+1)=\"unknown\",'Model Input'!$B$52=\"Model as very low calcium\"),density_vl,IF(AND(INDEX(CalciumLevel,D24+1)=\"unknown\",'Model Input'!$B$52=\"Model as low calcium\"),density_l,IF(AND(INDEX(CalciumLevel,D24+1)=\"unknown\",'Model Input'!$B$52=\"Model as moderate calcium\"),density_m,\"error\")))))))","v":22},null,null,null,null,null,1,1.7,2.7370000000000001,"no"]
["Rattlesnake Dam",22,"dam",8,{"$f":"IF(INDEX(CalciumLevel,D25+1)=\"very low\",density_vl,IF(INDEX(CalciumLevel,D25+1)=\"low\",density_l,IF(INDEX(CalciumLevel,D25+1)=\"moderate\",density_m,IF(INDEX(CalciumLevel,D25+1)=\"high\",density_h,IF(AND(INDEX(CalciumLevel,D25+1)=\"unknown\",'Model Input'!$B$52=\"Model as very low calcium\"),density_vl,IF(AND(INDEX(CalciumLevel,D25+1)=\"unknown\",'Model Input'!$B$52=\"Model as low calcium\"),density_l,IF(AND(INDEX(CalciumLevel,D25+1)=\"unknown\",'Model Input'!$B$52=\"Model as moderate calcium\"),density_m,\"error\")))))))","v":22},null,null,null,null,null,1,null,null,"no"]
["Bald Mountain Tunnel",23,"tunnel",8,{"$f":"IF(INDEX(CalciumLevel,D26+1)=\"very low\",density_vl,IF(INDEX(CalciumLevel,D26+1)=\"low\",density_l,IF(INDEX(CalciumLevel,D26+1)=\"moderate\",density_m,IF(INDEX(CalciumLevel,D26+1)=\"high\",density_h,IF(AND(INDEX(CalciumLevel,D26+1)=\"unknown\",'Model Input'!$B$52=\"Model as very low calcium\"),density_vl,IF(AND(INDEX(CalciumLevel,D26+1)=\"unknown\",'Model Input'!$B$52=\"Model as low calcium\"),density_l,IF(AND(INDEX(CalciumLevel,D26+1)=\"unknown\",'Model Input'!$B$52=\"Model as moderate calcium\"),density_m,\"error\")))))))","v":22},null,null,null,null,null,null,1.3,2.0930000000000004,"no"]
["Flatiron Hydropower Plant",24,"hydropower",8,{"$f":"IF(INDEX(CalciumLevel,D27+1)=\"very low\",density_vl,IF(INDEX(CalciumLevel,D27+1)=\"low\",density_l,IF(INDEX(CalciumLevel,D27+1)=\"moderate\",density_m,IF(INDEX(CalciumLevel,D27+1)=\"high\",density_h,IF(AND(INDEX(CalciumLevel,D27+1)=\"unknown\",'Model Input'!$B$52=\"Model as very low calcium\"),density_vl,IF(AND(INDEX(CalciumLevel,D27+1)=\"unknown\",'Model Input'!$B$52=\"Model as low calcium\"),density_l,IF(AND(INDEX(CalciumLevel,D27+1)=\"unknown\",'Model Input'!$B$52=\"Model as moderate calcium\"),density_m,\"error\")))))))","v":22},null,null,2,94.5,5790,1,null,null,"no"]
["Newell Warnock",25,"water filter plant",8,{"$f":"IF(INDEX(CalciumLevel,D28+1)=\"very low\",density_vl,IF(INDEX(CalciumLevel,D28+1)=\"low\",density_l,IF(INDEX(CalciumLevel,D28+1)=\"moderate\",density_m,IF(INDEX(CalciumLevel,D28+1)=\"high\",density_h,IF(AND(INDEX(CalciumLevel,D28+1)=\"unknown\",'Model Input'!$B$52=\"Model as very low calcium\"),density_vl,IF(AND(INDEX(CalciumLevel,D28+1)=\"unknown\",'Model Input'!$B$52=\"Model as low calcium\"),density_l,IF(AND(INDEX(CalciumLevel,D28+1)=\"unknown\",'Model Input'!$B$52=\"Model as moderate calcium\"),density_m,\"error\")))))))","v":22},"<1",null,null,null,null,null,null,null,"no"]
["Flatiron Reversible Pump",26,"pump plant",9,{"$f":"IF(INDEX(CalciumLevel,D29+1)=\"very low\",density_vl,IF(INDEX(CalciumLevel,D29+1)=\"low\",density_l,IF(INDEX(CalciumLevel,D29+1)=\"moderate\",density_m,IF(INDEX(CalciumLevel,D29+1)=\"high\",density_h,IF(AND(INDEX(CalciumLevel,D29+1)=\"unknown\",'Model Input'!$B$52=\"Model as very low calcium\"),density_vl,IF(AND(INDEX(CalciumLevel,D29+1)=\"unknown\",'Model Input'!$B$52=\"Model as low calcium\"),density_l,IF(AND(INDEX(CalciumLevel,D29+1)=\"unknown\",'Model Input'!$B$52=\"Model as moderate calcium\"),density_m,\"error\")))))))","v":22},null,1,1,null,null,null,null,null,"yes"]
["Flatiron Dam",27,"dam",9,{"$f":"IF(INDEX(CalciumLevel,D30+1)=\"very low\",density_vl,IF(INDEX(CalciumLevel,D30+1)=\"low\",density_l,IF(INDEX(CalciumLevel,D30+1)=\"moderate\",density_m,IF(INDEX(CalciumLevel,D30+1)=\"high\",density_h,IF(AND(INDEX(CalciumLevel,D30+1)=\"unknown\",'Model Input'!$B$52=\"Model as very low calcium\"),density_vl,IF(AND(INDEX(CalciumLevel,D30+1)=\"unknown\",'Model Input'!$B$52=\"Model as low calcium\"),density_l,IF(AND(INDEX(CalciumLevel,D30+1)=\"unknown\",'Model Input'!$B$52=\"Model as moderate calcium\"),density_m,\"error\")))))))","v":22},null,null,null,null,null,1,null,null,"no"]
["Carter Lake Pressure Tunnel",28,"tunnel",9,{"$f":"IF(INDEX(CalciumLevel,D31+1)=\"very low\",density_vl,IF(INDEX(CalciumLevel,D31+1)=\"low\",density_l,IF(INDEX(CalciumLevel,D31+1)=\"moderate\",density_m,IF(INDEX(CalciumLevel,D31+1)=\"high\",density_h,IF(AND(INDEX(CalciumLevel,D31+1)=\"unknown\",'Model Input'!$B$52=\"Model as very low calcium\"),density_vl,IF(AND(INDEX(CalciumLevel,D31+1)=\"unknown\",'Model Input'!$B$52=\"Model as low calcium\"),density_l,IF(AND(INDEX(CalciumLevel,D31+1)=\"unknown\",'Model Input'!$B$52=\"Model as moderate calcium\"),density_m,\"error\")))))))","v":22},null,null,null,null,null,null,1.4,2.254,"no"]
["Big Thompson Hydropower Plant",29,"hydropower",9,{"$f":"IF(INDEX(CalciumLevel,D32+1)=\"very low\",density_vl,IF(INDEX(CalciumLevel,D32+1)=\"low\",density_l,IF(INDEX(CalciumLevel,D32+1)=\"moderate\",density_m,IF(INDEX(CalciumLevel,D32+1)=\"high\",density_h,IF(AND(INDEX(CalciumLevel,D32+1)=\"unknown\",'Model Input'!$B$52=\"Model as very low calcium\"),density_vl,IF(AND(INDEX(CalciumLevel,D32+1)=\"unknown\",'Model Input'!$B$52=\"Model as low calcium\"),density_l,IF(AND(INDEX(CalciumLevel,D32+1)=\"unknown\",'Model Input'!$B$52=\"Model as moderate calcium\"),density_m,\"error\")))))))","v":22},null,1,1,4.5,295,null,null,null,"no"]
["Hansen Feeder Canal",30,"canal",9,{"$f":"IF(INDEX(CalciumLevel,D33+1)=\"very low\",density_vl,IF(INDEX(CalciumLevel,D33+1)=\"low\",density_l,IF(INDEX(CalciumLevel,D33+1)=\"moderate\",density_m,IF(INDEX(CalciumLevel,D33+1)=\"high\",density_h,IF(AND(INDEX(CalciumLevel,D33+1)=\"unknown\",'Model Input'!$B$52=\"Model as very low calcium\"),density_vl,IF(AND(INDEX(CalciumLevel,D33+1)=\"unknown\",'Model Input'!$B$52=\"Model as low calcium\"),density_l,IF(AND(INDEX(CalciumLevel,D33+1)=\"unknown\",'Model Input'!$B$52=\"Model as moderate calcium\"),density_m,\"error\")))))))","v":22},null,null,null,null,null,null,13.2,21.251999999999999,"no"]
["City of Loveland",31,"water filter plant",9,{"$f":"IF(INDEX(CalciumLevel,D34+1)=\"very low\",density_vl,IF(INDEX(CalciumLevel,D34+1)=\"low\",density_l,IF(INDEX(CalciumLevel,D34+1)=\"moderate\",density_m,IF(INDEX(CalciumLevel,D34+1)=\"high\",density_h,IF(AND(INDEX(CalciumLevel,D34+1)=\"unknown\",'Model Input'!$B$52=\"Model as very low calcium\"),density_vl,IF(AND(INDEX(CalciumLevel,D34+1)=\"unknown\",'Model Input'!$B$52=\"Model as low calcium\"),density_l,IF(AND(INDEX(CalciumLevel,D34+1)=\"unknown\",'Model Input'!$B$52=\"Model as moderate calcium\"),density_m,\"error\")))))))","v":22},30,null,null,null,null,null,null,null,"no"]
["Emissaries of Divine Light",32,"water filter plant",9,{"$f":"IF(INDEX(CalciumLevel,D35+1)=\"very low\",density_vl,IF(INDEX(CalciumLevel,D35+1)=\"low\",density_l,IF(INDEX(CalciumLevel,D35+1)=\"moderate\",density_m,IF(INDEX(CalciumLevel,D35+1)=\"high\",density_h,IF(AND(INDEX(CalciumLevel,D35+1)=\"unknown\",'Model Input'!$B$52=\"Model as very low calcium\"),density_vl,IF(AND(INDEX(CalciumLevel,D35+1)=\"unknown\",'Model Input'!$B$52=\"Model as low calcium\"),density_l,IF(AND(INDEX(CalciumLevel,D35+1)=\"unknown\",'Model Input'!$B$52=\"Model as moderate calcium\"),density_m,\"error\")))))))","v":22},"<1",null,null,null,null,null,null,null,"no"]
["Eden Valley",33,"water filter plant",9,{"$f":"IF(INDEX(CalciumLevel,D36+1)=\"very low\",density_vl,IF(INDEX(CalciumLevel,D36+1)=\"low\",density_l,IF(INDEX(CalciumLevel,D36+1)=\"moderate\",density_m,IF(INDEX(CalciumLevel,D36+1)=\"high\",density_h,IF(AND(INDEX(CalciumLevel,D36+1)=\"unknown\",'Model Input'!$B$52=\"Model as very low calcium\"),density_vl,IF(AND(INDEX(CalciumLevel,D36+1)=\"unknown\",'Model Input'!$B$52=\"Model as low calcium\"),density_l,IF(AND(INDEX(CalciumLevel,D36+1)=\"unknown\",'Model Input'!$B$52=\"Model as moderate calcium\"),density_m,\"error\")))))))","v":22},"<1",null,null,null,null,null,null,null,"no"]
["Spring Canyon",34,"water filter plant",9,{"$f":"IF(INDEX(CalciumLevel,D37+1)=\"very low\",density_vl,IF(INDEX(CalciumLevel,D37+1)=\"low\",density_l,IF(INDEX(CalciumLevel,D37+1)=\"moderate\",density_m,IF(INDEX(CalciumLevel,D37+1)=\"high\",density_h,IF(AND(INDEX(CalciumLevel,D37+1)=\"unknown\",'Model Input'!$B$52=\"Model as very low calcium\"),density_vl,IF(AND(INDEX(CalciumLevel,D37+1)=\"unknown\",'Model Input'!$B$52=\"Model as low calcium\"),density_l,IF(AND(INDEX(CalciumLevel,D37+1)=\"unknown\",'Model Input'!$B$52=\"Model as moderate calcium\"),density_m,\"error\")))))))","v":22},0.25,null,null,null,null,null,null,null,"no"]
["Horsetooth Dam",35,"dam",10,{"$f":"IF(INDEX(CalciumLevel,D38+1)=\"very low\",density_vl,IF(INDEX(CalciumLevel,D38+1)=\"low\",density_l,IF(INDEX(CalciumLevel,D38+1)=\"moderate\",density_m,IF(INDEX(CalciumLevel,D38+1)=\"high\",density_h,IF(AND(INDEX(CalciumLevel,D38+1)=\"unknown\",'Model Input'!$B$52=\"Model as very low calcium\"),density_vl,IF(AND(INDEX(CalciumLevel,D38+1)=\"unknown\",'Model Input'!$B$52=\"Model as low calcium\"),density_l,IF(AND(INDEX(CalciumLevel,D38+1)=\"unknown\",'Model Input'!$B$52=\"Model as moderate calcium\"),density_m,\"error\")))))))","v":22},null,null,null,null,null,1,null,null,"no"]
["Soldier Dam",36,"dam",10,{"$f":"IF(INDEX(CalciumLevel,D39+1)=\"very low\",density_vl,IF(INDEX(CalciumLevel,D39+1)=\"low\",density_l,IF(INDEX(CalciumLevel,D39+1)=\"moderate\",density_m,IF(INDEX(CalciumLevel,D39+1)=\"high\",density_h,IF(AND(INDEX(CalciumLevel,D39+1)=\"unknown\",'Model Input'!$B$52=\"Model as very low calcium\"),density_vl,IF(AND(INDEX(CalciumLevel,D39+1)=\"unknown\",'Model Input'!$B$52=\"Model as low calcium\"),density_l,IF(AND(INDEX(CalciumLevel,D39+1)=\"unknown\",'Model Input'!$B$52=\"Model as moderate calcium\"),density_m,\"error\")))))))","v":22},null,null,null,null,null,1,null,null,"no"]
["Dixon Dam",37,"dam",10,{"$f":"IF(INDEX(CalciumLevel,D40+1)=\"very low\",density_vl,IF(INDEX(CalciumLevel,D40+1)=\"low\",density_l,IF(INDEX(CalciumLevel,D40+1)=\"moderate\",density_m,IF(INDEX(CalciumLevel,D40+1)=\"high\",density_h,IF(AND(INDEX(CalciumLevel,D40+1)=\"unknown\",'Model Input'!$B$52=\"Model as very low calcium\"),density_vl,IF(AND(INDEX(CalciumLevel,D40+1)=\"unknown\",'Model Input'!$B$52=\"Model as low calcium\"),density_l,IF(AND(INDEX(CalciumLevel,D40+1)=\"unknown\",'Model Input'!$B$52=\"Model as moderate calcium\"),density_m,\"error\")))))))","v":22},null,null,null,null,null,0,null,null,"no"]
["Spring Canyon Dam",38,"dam",10,{"$f":"IF(INDEX(CalciumLevel,D41+1)=\"very low\",density_vl,IF(INDEX(CalciumLevel,D41+1)=\"low\",density_l,IF(INDEX(CalciumLevel,D41+1)=\"moderate\",density_m,IF(INDEX(CalciumLevel,D41+1)=\"high\",density_h,IF(AND(INDEX(CalciumLevel,D41+1)=\"unknown\",'Model Input'!$B$52=\"Model as very low calcium\"),density_vl,IF(AND(INDEX(CalciumLevel,D41+1)=\"unknown\",'Model Input'!$B$52=\"Model as low calcium\"),density_l,IF(AND(INDEX(CalciumLevel,D41+1)=\"unknown\",'Model Input'!$B$52=\"Model as moderate calcium\"),density_m,\"error\")))))))","v":22},null,null,null,null,null,0,null,null,"no"]
["Charles Hansen Supply Canal",39,"canal",10,{"$f":"IF(INDEX(CalciumLevel,D42+1)=\"very low\",density_vl,IF(INDEX(CalciumLevel,D42+1)=\"low\",density_l,IF(INDEX(CalciumLevel,D42+1)=\"moderate\",density_m,IF(INDEX(CalciumLevel,D42+1)=\"high\",density_h,IF(AND(INDEX(CalciumLevel,D42+1)=\"unknown\",'Model Input'!$B$52=\"Model as very low calcium\"),density_vl,IF(AND(INDEX(CalciumLevel,D42+1)=\"unknown\",'Model Input'!$B$52=\"Model as low calcium\"),density_l,IF(AND(INDEX(CalciumLevel,D42+1)=\"unknown\",'Model Input'!$B$52=\"Model as moderate calcium\"),density_m,\"error\")))))))","v":22},null,null,null,null,null,null,5.0999999999999996,8.2110000000000003,"yes"]
["Northern Poudre Supply Canal",40,"canal",10,{"$f":"IF(INDEX(CalciumLevel,D43+1)=\"very low\",density_vl,IF(INDEX(CalciumLevel,D43+1)=\"low\",density_l,IF(INDEX(CalciumLevel,D43+1)=\"moderate\",density_m,IF(INDEX(CalciumLevel,D43+1)=\"high\",density_h,IF(AND(INDEX(CalciumLevel,D43+1)=\"unknown\",'Model Input'!$B$52=\"Model as very low calcium\"),density_vl,IF(AND(INDEX(CalciumLevel,D43+1)=\"unknown\",'Model Input'!$B$52=\"Model as low calcium\"),density_l,IF(AND(INDEX(CalciumLevel,D43+1)=\"unknown\",'Model Input'!$B$52=\"Model as moderate calcium\"),density_m,\"error\")))))))","v":22},null,null,null,null,null,null,12.5,20.125,"yes"]
["Fort Collins",41,"water filter plant",10,{"$f":"IF(INDEX(CalciumLevel,D44+1)=\"very low\",density_vl,IF(INDEX(CalciumLevel,D44+1)=\"low\",density_l,IF(INDEX(CalciumLevel,D44+1)=\"moderate\",density_m,IF(INDEX(CalciumLevel,D44+1)=\"high\",density_h,IF(AND(INDEX(CalciumLevel,D44+1)=\"unknown\",'Model Input'!$B$52=\"Model as very low calcium\"),density_vl,IF(AND(INDEX(CalciumLevel,D44+1)=\"unknown\",'Model Input'!$B$52=\"Model as low calcium\"),density_l,IF(AND(INDEX(CalciumLevel,D44+1)=\"unknown\",'Model Input'!$B$52=\"Model as moderate calcium\"),density_m,\"error\")))))))","v":22},87,null,null,null,null,null,null,null,"no"]
["Soldier Canyon",42,"water filter plant",10,{"$f":"IF(INDEX(CalciumLevel,D45+1)=\"very low\",density_vl,IF(INDEX(CalciumLevel,D45+1)=\"low\",density_l,IF(INDEX(CalciumLevel,D45+1)=\"moderate\",density_m,IF(INDEX(CalciumLevel,D45+1)=\"high\",density_h,IF(AND(INDEX(CalciumLevel,D45+1)=\"unknown\",'Model Input'!$B$52=\"Model as very low calcium\"),density_vl,IF(AND(INDEX(CalciumLevel,D45+1)=\"unknown\",'Model Input'!$B$52=\"Model as low calcium\"),density_l,IF(AND(INDEX(CalciumLevel,D45+1)=\"unknown\",'Model Input'!$B$52=\"Model as moderate calcium\"),density_m,\"error\")))))))","v":22},50,null,null,null,null,null,null,null,"no"]
["Greeley",43,"water filter plant",10,{"$f":"IF(INDEX(CalciumLevel,D46+1)=\"very low\",density_vl,IF(INDEX(CalciumLevel,D46+1)=\"low\",density_l,IF(INDEX(CalciumLevel,D46+1)=\"moderate\",density_m,IF(INDEX(CalciumLevel,D46+1)=\"high\",density_h,IF(AND(INDEX(CalciumLevel,D46+1)=\"unknown\",'Model Input'!$B$52=\"Model as very low calcium\"),density_vl,IF(AND(INDEX(CalciumLevel,D46+1)=\"unknown\",'Model Input'!$B$52=\"Model as low calcium\"),density_l,IF(AND(INDEX(CalciumLevel,D46+1)=\"unknown\",'Model Input'!$B$52=\"Model as moderate calcium\"),density_m,\"error\")))))))","v":22},21,null,null,null,null,null,null,null,"no"]
["Carter Lake Dam 1",44,"dam",11,{"$f":"IF(INDEX(CalciumLevel,D47+1)=\"very low\",density_vl,IF(INDEX(CalciumLevel,D47+1)=\"low\",density_l,IF(INDEX(CalciumLevel,D47+1)=\"moderate\",density_m,IF(INDEX(CalciumLevel,D47+1)=\"high\",density_h,IF(AND(INDEX(CalciumLevel,D47+1)=\"unknown\",'Model Input'!$B$52=\"Model as very low calcium\"),density_vl,IF(AND(INDEX(CalciumLevel,D47+1)=\"unknown\",'Model Input'!$B$52=\"Model as low calcium\"),density_l,IF(AND(INDEX(CalciumLevel,D47+1)=\"unknown\",'Model Input'!$B$52=\"Model as moderate calcium\"),density_m,\"error\")))))))","v":22},null,null,null,null,null,1,null,null,"no"]
["Carter Lake Dam 2",45,"dam",11,{"$f":"IF(INDEX(CalciumLevel,D48+1)=\"very low\",density_vl,IF(INDEX(CalciumLevel,D48+1)=\"low\",density_l,IF(INDEX(CalciumLevel,D48+1)=\"moderate\",density_m,IF(INDEX(CalciumLevel,D48+1)=\"high\",density_h,IF(AND(INDEX(CalciumLevel,D48+1)=\"unknown\",'Model Input'!$B$52=\"Model as very low calcium\"),density_vl,IF(AND(INDEX(CalciumLevel,D48+1)=\"unknown\",'Model Input'!$B$52=\"Model as low calcium\"),density_l,IF(AND(INDEX(CalciumLevel,D48+1)=\"unknown\",'Model Input'!$B$52=\"Model as moderate calcium\"),density_m,\"error\")))))))","v":22},null,null,null,null,null,0,null,null,"no"]
["Carter Lake Dam 3",46,"dam",11,{"$f":"IF(INDEX(CalciumLevel,D49+1)=\"very low\",density_vl,IF(INDEX(CalciumLevel,D49+1)=\"low\",density_l,IF(INDEX(CalciumLevel,D49+1)=\"moderate\",density_m,IF(INDEX(CalciumLevel,D49+1)=\"high\",density_h,IF(AND(INDEX(CalciumLevel,D49+1)=\"unknown\",'Model Input'!$B$52=\"Model as very low calcium\"),density_vl,IF(AND(INDEX(CalciumLevel,D49+1)=\"unknown\",'Model Input'!$B$52=\"Model as low calcium\"),density_l,IF(AND(INDEX(CalciumLevel,D49+1)=\"unknown\",'Model Input'!$B$52=\"Model as moderate calcium\"),density_m,\"error\")))))))","v":22},null,null,null,null,null,0,null,null,"no"]
["Carter Lake Filter Plant 1",47,"water filter plant",11,{"$f":"IF(INDEX(CalciumLevel,D50+1)=\"very low\",density_vl,IF(INDEX(CalciumLevel,D50+1)=\"low\",density_l,IF(INDEX(CalciumLevel,D50+1)=\"moderate\",density_m,IF(INDEX(CalciumLevel,D50+1)=\"high\",density_h,IF(AND(INDEX(CalciumLevel,D50+1)=\"unknown\",'Model Input'!$B$52=\"Model as very low calcium\"),density_vl,IF(AND(INDEX(CalciumLevel,D50+1)=\"unknown\",'Model Input'!$B$52=\"Model as low calcium\"),density_l,IF(AND(INDEX(CalciumLevel,D50+1)=\"unknown\",'Model Input'!$B$52=\"Model as moderate calcium\"),density_m,\"error\")))))))","v":22},20,null,null,null,null,null,null,null,"no"]
["Carter Lake Filter Plant 2",48,"water filter plant",11,{"$f":"IF(INDEX(CalciumLevel,D51+1)=\"very low\",density_vl,IF(INDEX(CalciumLevel,D51+1)=\"low\",density_l,IF(INDEX(CalciumLevel,D51+1)=\"moderate\",density_m,IF(INDEX(CalciumLevel,D51+1)=\"high\",density_h,IF(AND(INDEX(CalciumLevel,D51+1)=\"unknown\",'Model Input'!$B$52=\"Model as very low calcium\"),density_vl,IF(AND(INDEX(CalciumLevel,D51+1)=\"unknown\",'Model Input'!$B$52=\"Model as low calcium\"),density_l,IF(AND(INDEX(CalciumLevel,D51+1)=\"unknown\",'Model Input'!$B$52=\"Model as moderate calcium\"),density_m,\"error\")))))))","v":22},20,null,null,null,null,null,null,null,"no"]
["St. Vrain Supply Canal",49,"canal",11,{"$f":"IF(INDEX(CalciumLevel,D52+1)=\"very low\",density_vl,IF(INDEX(CalciumLevel,D52+1)=\"low\",density_l,IF(INDEX(CalciumLevel,D52+1)=\"moderate\",density_m,IF(INDEX(CalciumLevel,D52+1)=\"high\",density_h,IF(AND(INDEX(CalciumLevel,D52+1)=\"unknown\",'Model Input'!$B$52=\"Model as very low calcium\"),density_vl,IF(AND(INDEX(CalciumLevel,D52+1)=\"unknown\",'Model Input'!$B$52=\"Model as low calcium\"),density_l,IF(AND(INDEX(CalciumLevel,D52+1)=\"unknown\",'Model Input'!$B$52=\"Model as moderate calcium\"),density_m,\"error\")))))))","v":22},null,null,null,null,null,null,9.8000000000000007,15.778000000000002,"yes"]
["Boulder Feeder Canal",50,"canal",11,{"$f":"IF(INDEX(CalciumLevel,D53+1)=\"very low\",density_vl,IF(INDEX(CalciumLevel,D53+1)=\"low\",density_l,IF(INDEX(CalciumLevel,D53+1)=\"moderate\",density_m,IF(INDEX(CalciumLevel,D53+1)=\"high\",density_h,IF(AND(INDEX(CalciumLevel,D53+1)=\"unknown\",'Model Input'!$B$52=\"Model as very low calcium\"),density_vl,IF(AND(INDEX(CalciumLevel,D53+1)=\"unknown\",'Model Input'!$B$52=\"Model as low calcium\"),density_l,IF(AND(INDEX(CalciumLevel,D53+1)=\"unknown\",'Model Input'!$B$52=\"Model as moderate calcium\"),density_m,\"error\")))))))","v":22},null,null,null,null,null,null,13,20.93,"yes"]
["Southern Water Supply Project Pipeline",51,"pipeline",11,{"$f":"IF(INDEX(CalciumLevel,D54+1)=\"very low\",density_vl,IF(INDEX(CalciumLevel,D54+1)=\"low\",density_l,IF(INDEX(CalciumLevel,D54+1)=\"moderate\",density_m,IF(INDEX(CalciumLevel,D54+1)=\"high\",density_h,IF(AND(INDEX(CalciumLevel,D54+1)=\"unknown\",'Model Input'!$B$52=\"Model as very low calcium\"),density_vl,IF(AND(INDEX(CalciumLevel,D54+1)=\"unknown\",'Model Input'!$B$52=\"Model as low calcium\"),density_l,IF(AND(INDEX(CalciumLevel,D54+1)=\"unknown\",'Model Input'!$B$52=\"Model as moderate calcium\"),density_m,\"error\")))))))","v":22},null,null,null,null,null,1,110,177.10000000000002,"no"]
["West Longmont Pumping Plant",52,"pump plant",11,{"$f":"IF(INDEX(CalciumLevel,D55+1)=\"very low\",density_vl,IF(INDEX(CalciumLevel,D55+1)=\"low\",density_l,IF(INDEX(CalciumLevel,D55+1)=\"moderate\",density_m,IF(INDEX(CalciumLevel,D55+1)=\"high\",density_h,IF(AND(INDEX(CalciumLevel,D55+1)=\"unknown\",'Model Input'!$B$52=\"Model as very low calcium\"),density_vl,IF(AND(INDEX(CalciumLevel,D55+1)=\"unknown\",'Model Input'!$B$52=\"Model as low calcium\"),density_l,IF(AND(INDEX(CalciumLevel,D55+1)=\"unknown\",'Model Input'!$B$52=\"Model as moderate calcium\"),density_m,\"error\")))))))","v":22},null,4,null,null,null,0,null,null,"no"]
["Louisville/Superior Pumping Plant",53,"pump plant",11,{"$f":"IF(INDEX(CalciumLevel,D56+1)=\"very low\",density_vl,IF(INDEX(CalciumLevel,D56+1)=\"low\",density_l,IF(INDEX(CalciumLevel,D56+1)=\"moderate\",density_m,IF(INDEX(CalciumLevel,D56+1)=\"high\",density_h,IF(AND(INDEX(CalciumLevel,D56+1)=\"unknown\",'Model Input'!$B$52=\"Model as very low calcium\"),density_vl,IF(AND(INDEX(CalciumLevel,D56+1)=\"unknown\",'Model Input'!$B$52=\"Model as low calcium\"),density_l,IF(AND(INDEX(CalciumLevel,D56+1)=\"unknown\",'Model Input'!$B$52=\"Model as moderate calcium\"),density_m,\"error\")))))))","v":22},null,3,null,null,null,1,null,null,"no"]
["Town of Berthoud",54,"water filter plant",11,{"$f":"IF(INDEX(CalciumLevel,D57+1)=\"very low\",density_vl,IF(INDEX(CalciumLevel,D57+1)=\"low\",density_l,IF(INDEX(CalciumLevel,D57+1)=\"moderate\",density_m,IF(INDEX(CalciumLevel,D57+1)=\"high\",density_h,IF(AND(INDEX(CalciumLevel,D57+1)=\"unknown\",'Model Input'!$B$52=\"Model as very low calcium\"),density_vl,IF(AND(INDEX(CalciumLevel,D57+1)=\"unknown\",'Model Input'!$B$52=\"Model as low calcium\"),density_l,IF(AND(INDEX(CalciumLevel,D57+1)=\"unknown\",'Model Input'!$B$52=\"Model as moderate calcium\"),density_m,\"error\")))))))","v":22},4,null,null,null,null,null,null,null,"no"]
["City of Longmont 1",55,"water filter plant",11,{"$f":"IF(INDEX(CalciumLevel,D58+1)=\"very low\",density_vl,IF(INDEX(CalciumLevel,D58+1)=\"low\",density_l,IF(INDEX(CalciumLevel,D58+1)=\"moderate\",density_m,IF(INDEX(CalciumLevel,D58+1)=\"high\",density_h,IF(AND(INDEX(CalciumLevel,D58+1)=\"unknown\",'Model Input'!$B$52=\"Model as very low calcium\"),density_vl,IF(AND(INDEX(CalciumLevel,D58+1)=\"unknown\",'Model Input'!$B$52=\"Model as low calcium\"),density_l,IF(AND(INDEX(CalciumLevel,D58+1)=\"unknown\",'Model Input'!$B$52=\"Model as moderate calcium\"),density_m,\"error\")))))))","v":22},32,null,null,null,null,null,null,null,"no"]
["City of Longmont 2",56,"water filter plant",11,{"$f":"IF(INDEX(CalciumLevel,D59+1)=\"very low\",density_vl,IF(INDEX(CalciumLevel,D59+1)=\"low\",density_l,IF(INDEX(CalciumLevel,D59+1)=\"moderate\",density_m,IF(INDEX(CalciumLevel,D59+1)=\"high\",density_h,IF(AND(INDEX(CalciumLevel,D59+1)=\"unknown\",'Model Input'!$B$52=\"Model as very low calcium\"),density_vl,IF(AND(INDEX(CalciumLevel,D59+1)=\"unknown\",'Model Input'!$B$52=\"Model as low calcium\"),density_l,IF(AND(INDEX(CalciumLevel,D59+1)=\"unknown\",'Model Input'!$B$52=\"Model as moderate calcium\"),density_m,\"error\")))))))","v":22},15,null,null,null,null,null,null,null,"yes"]
["Louisville 1",57,"water filter plant",11,{"$f":"IF(INDEX(CalciumLevel,D60+1)=\"very low\",density_vl,IF(INDEX(CalciumLevel,D60+1)=\"low\",density_l,IF(INDEX(CalciumLevel,D60+1)=\"moderate\",density_m,IF(INDEX(CalciumLevel,D60+1)=\"high\",density_h,IF(AND(INDEX(CalciumLevel,D60+1)=\"unknown\",'Model Input'!$B$52=\"Model as very low calcium\"),density_vl,IF(AND(INDEX(CalciumLevel,D60+1)=\"unknown\",'Model Input'!$B$52=\"Model as low calcium\"),density_l,IF(AND(INDEX(CalciumLevel,D60+1)=\"unknown\",'Model Input'!$B$52=\"Model as moderate calcium\"),density_m,\"error\")))))))","v":22},8,null,null,null,null,null,null,null,"no"]
["Louisville 2",58,"water filter plant",11,{"$f":"IF(INDEX(CalciumLevel,D61+1)=\"very low\",density_vl,IF(INDEX(CalciumLevel,D61+1)=\"low\",density_l,IF(INDEX(CalciumLevel,D61+1)=\"moderate\",density_m,IF(INDEX(CalciumLevel,D61+1)=\"high\",density_h,IF(AND(INDEX(CalciumLevel,D61+1)=\"unknown\",'Model Input'!$B$52=\"Model as very low calcium\"),density_vl,IF(AND(INDEX(CalciumLevel,D61+1)=\"unknown\",'Model Input'!$B$52=\"Model as low calcium\"),density_l,IF(AND(INDEX(CalciumLevel,D61+1)=\"unknown\",'Model Input'!$B$52=\"Model as moderate calcium\"),density_m,\"error\")))))))","v":22},5]
["Superior",59,"water filter plant",11,{"$f":"IF(INDEX(CalciumLevel,D62+1)=\"very low\",density_vl,IF(INDEX(CalciumLevel,D62+1)=\"low\",density_l,IF(INDEX(CalciumLevel,D62+1)=\"moderate\",density_m,IF(INDEX(CalciumLevel,D62+1)=\"high\",density_h,IF(AND(INDEX(CalciumLevel,D62+1)=\"unknown\",'Model Input'!$B$52=\"Model as very low calcium\"),density_vl,IF(AND(INDEX(CalciumLevel,D62+1)=\"unknown\",'Model Input'!$B$52=\"Model as low calcium\"),density_l,IF(AND(INDEX(CalciumLevel,D62+1)=\"unknown\",'Model Input'!$B$52=\"Model as moderate calcium\"),density_m,\"error\")))))))","v":22},5.5,null,null,null,null,null,null,null,"no"]
["Town of Erie",60,"water filter plant",11,{"$f":"IF(INDEX(CalciumLevel,D63+1)=\"very low\",density_vl,IF(INDEX(CalciumLevel,D63+1)=\"low\",density_l,IF(INDEX(CalciumLevel,D63+1)=\"moderate\",density_m,IF(INDEX(CalciumLevel,D63+1)=\"high\",density_h,IF(AND(INDEX(CalciumLevel,D63+1)=\"unknown\",'Model Input'!$B$52=\"Model as very low calcium\"),density_vl,IF(AND(INDEX(CalciumLevel,D63+1)=\"unknown\",'Model Input'!$B$52=\"Model as low calcium\"),density_l,IF(AND(INDEX(CalciumLevel,D63+1)=\"unknown\",'Model Input'!$B$52=\"Model as moderate calcium\"),density_m,\"error\")))))))","v":22},12.3,null,null,null,null,null,null,null,"no"]
["Broomfield ",61,"water filter plant",11,{"$f":"IF(INDEX(CalciumLevel,D64+1)=\"very low\",density_vl,IF(INDEX(CalciumLevel,D64+1)=\"low\",density_l,IF(INDEX(CalciumLevel,D64+1)=\"moderate\",density_m,IF(INDEX(CalciumLevel,D64+1)=\"high\",density_h,IF(AND(INDEX(CalciumLevel,D64+1)=\"unknown\",'Model Input'!$B$52=\"Model as very low calcium\"),density_vl,IF(AND(INDEX(CalciumLevel,D64+1)=\"unknown\",'Model Input'!$B$52=\"Model as low calcium\"),density_l,IF(AND(INDEX(CalciumLevel,D64+1)=\"unknown\",'Model Input'!$B$52=\"Model as moderate calcium\"),density_m,\"error\")))))))","v":22},20,null,null,null,null,null,null,null,"no"]
["City of Fort Lupton",62,"water filter plant",11,{"$f":"IF(INDEX(CalciumLevel,D65+1)=\"very low\",density_vl,IF(INDEX(CalciumLevel,D65+1)=\"low\",density_l,IF(INDEX(CalciumLevel,D65+1)=\"moderate\",density_m,IF(INDEX(CalciumLevel,D65+1)=\"high\",density_h,IF(AND(INDEX(CalciumLevel,D65+1)=\"unknown\",'Model Input'!$B$52=\"Model as very low calcium\"),density_vl,IF(AND(INDEX(CalciumLevel,D65+1)=\"unknown\",'Model Input'!$B$52=\"Model as low calcium\"),density_l,IF(AND(INDEX(CalciumLevel,D65+1)=\"unknown\",'Model Input'!$B$52=\"Model as moderate calcium\"),density_m,\"error\")))))))","v":22},5,null,null,null,null,null,null,null,"no"]
["City of Fort Morgan",63,"water filter plant",11,{"$f":"IF(INDEX(CalciumLevel,D66+1)=\"very low\",density_vl,IF(INDEX(CalciumLevel,D66+1)=\"low\",density_l,IF(INDEX(CalciumLevel,D66+1)=\"moderate\",density_m,IF(INDEX(CalciumLevel,D66+1)=\"high\",density_h,IF(AND(INDEX(CalciumLevel,D66+1)=\"unknown\",'Model Input'!$B$52=\"Model as very low calcium\"),density_vl,IF(AND(INDEX(CalciumLevel,D66+1)=\"unknown\",'Model Input'!$B$52=\"Model as low calcium\"),density_l,IF(AND(INDEX(CalciumLevel,D66+1)=\"unknown\",'Model Input'!$B$52=\"Model as moderate calcium\"),density_m,\"error\")))))))","v":22},10,null,null,null,null,null,null,null,"no"]
["Boulder Creek Supply Canal",64,"canal",12,{"$f":"IF(INDEX(CalciumLevel,D67+1)=\"very low\",density_vl,IF(INDEX(CalciumLevel,D67+1)=\"low\",density_l,IF(INDEX(CalciumLevel,D67+1)=\"moderate\",density_m,IF(INDEX(CalciumLevel,D67+1)=\"high\",density_h,IF(AND(INDEX(CalciumLevel,D67+1)=\"unknown\",'Model Input'!$B$52=\"Model as very low calcium\"),density_vl,IF(AND(INDEX(CalciumLevel,D67+1)=\"unknown\",'Model Input'!$B$52=\"Model as low calcium\"),density_l,IF(AND(INDEX(CalciumLevel,D67+1)=\"unknown\",'Model Input'!$B$52=\"Model as moderate calcium\"),density_m,\"error\")))))))","v":7500},null,null,null,null,null,null,2.7,4.3470000000000004,"yes"]
["South Platte Supply Canal",65,"canal",12,{"$f":"IF(INDEX(CalciumLevel,D68+1)=\"very low\",density_vl,IF(INDEX(CalciumLevel,D68+1)=\"low\",density_l,IF(INDEX(CalciumLevel,D68+1)=\"moderate\",density_m,IF(INDEX(CalciumLevel,D68+1)=\"high\",density_h,IF(AND(INDEX(CalciumLevel,D68+1)=\"unknown\",'Model Input'!$B$52=\"Model as very low calcium\"),density_vl,IF(AND(INDEX(CalciumLevel,D68+1)=\"unknown\",'Model Input'!$B$52=\"Model as low calcium\"),density_l,IF(AND(INDEX(CalciumLevel,D68+1)=\"unknown\",'Model Input'!$B$52=\"Model as moderate calcium\"),density_m,\"error\")))))))","v":7500},null,null,null,null,null,null,32.200000000000003,51.842000000000006,"yes"]
["City of Boulder",66,"water filter plant",12,{"$f":"IF(INDEX(CalciumLevel,D69+1)=\"very low\",density_vl,IF(INDEX(CalciumLevel,D69+1)=\"low\",density_l,IF(INDEX(CalciumLevel,D69+1)=\"moderate\",density_m,IF(INDEX(CalciumLevel,D69+1)=\"high\",density_h,IF(AND(INDEX(CalciumLevel,D69+1)=\"unknown\",'Model Input'!$B$52=\"Model as very low calcium\"),density_vl,IF(AND(INDEX(CalciumLevel,D69+1)=\"unknown\",'Model Input'!$B$52=\"Model as low calcium\"),density_l,IF(AND(INDEX(CalciumLevel,D69+1)=\"unknown\",'Model Input'!$B$52=\"Model as moderate calcium\"),density_m,\"error\")))))))","v":7500},16,null,null,null,null,null,null,null,"no"]
["City of Lafayette",67,"water filter plant",12,{"$f":"IF(INDEX(CalciumLevel,D70+1)=\"very low\",density_vl,IF(INDEX(CalciumLevel,D70+1)=\"low\",density_l,IF(INDEX(CalciumLevel,D70+1)=\"moderate\",density_m,IF(INDEX(CalciumLevel,D70+1)=\"high\",density_h,IF(AND(INDEX(CalciumLevel,D70+1)=\"unknown\",'Model Input'!$B$52=\"Model as very low calcium\"),density_vl,IF(AND(INDEX(CalciumLevel,D70+1)=\"unknown\",'Model Input'!$B$52=\"Model as low calcium\"),density_l,IF(AND(INDEX(CalciumLevel,D70+1)=\"unknown\",'Model Input'!$B$52=\"Model as moderate calcium\"),density_m,\"error\")))))))","v":7500},13]
[]
[]
[]
["Control Costs: Water Treatment Plants"]
["Connelly Values (per facility values)"]
["Average impacts, 1989-2004","Average Expenditures per facility"]
[null,"≤ 1 MGD","2-10 MGD","≥ 11 MGD"]
["Capital Expenditures"]
["Planning, design, and engineering",23297,17564,114866]
["Retrofit and/or reconstruction",28056,40479,72068]
["Total Capital Expenditures",{"$f":"SUM(B79:B80)","v":51353},{"$f":"SUM(C79:C80)","v":58043},186934]
["Yearly Principal and Interest Payment",{"$f":"(B81*i_rate*(1+i_rate)^(term_length)/((1+i_rate)^(term_length)-1))","v":4033.802145390297},{"$f":"(C81*i_rate*(1+i_rate)^(term_length)/((1+i_rate)^(term_length)-1))","v":4559.3047713841261},{"$f":"(D81*i_rate*(1+i_rate)^(term_length)/((1+i_rate)^(term_length)-1))","v":14683.753047463435}]
[]
["Variable Costs (average yearly values)"]
["Lost production and revenues",0,121,0]
["Chemical treatment",2224,1837,5408]
["Filtration or other mechanical exclusion",242,243,3957]
["Monitoring and inspection ",1472,952,2288]
["Mechanical removal",247,381,1603]
["Nonchemical treatment",17,0,0]
["Research and development",0.6875,0,683]
["Personnel training",76,148,254]
["Customer education",298,8,287]
["Other",0,0,3328]
["Total Average Yearly Variable Costs",{"$f":"SUM(B85:B94)","v":4576.6875},{"$f":"SUM(C85:C94)","v":3690},{"$f":"SUM(D85:D94)","v":17808}]
[]
["Westminster Values (per intake)"]
["Capital Expenditures"]
["Chemical Feed System to Supply Oxidizing Agent at Intake",3200000]
["Coat Existing Trash Racks (2)",250000]
["Redundant Feed System at Discharge Facility to Big Dry Creek",2250000]
["Cathodic Protection of Valves",200000]
["Administration and Engineering",2360000]
["Total Capital Expenditures",8260000]
["Yearly Principal and Interest Payment*",{"$f":"(B104*i_rate*(1+i_rate)^(term_length)/((1+i_rate)^(term_length)-1))","v":648826.85959776165}]
[]
["Variable Costs (average yearly values)"]
["Chloramination of Total Flow",2100000]
["Breakpoint Chlorination of Municipal Water Supply Flow",400000]
["Total Yearly Variable Costs",2500000]
[]
["Option in Use:",{"$f":"'Model Input'!B158","v":"Connelly and Westminster"}]
[]
[null,"Year of Incurred Cost"]
["Connelly Values (per facility values)",0,1,2,3,4,5,6,7,8,9,10,11,12,13,14,15,16,17,18,19,20,21,22,23,24,25,26,27,28,29,30,31,32,33,34,35,36,37,38,39,40,41,42,43,44,45,46,47,48,49]
["Cost Schedule for Water Treatment Plant          (≤ 1 MGD)",{"$f":"IF(B115<=term_length,$B$95+$B$82,$B$95)","v":8610.4896453902966},8610.4896453902966,8610.4896453902966,8610.4896453902966,8610.4896453902966,8610.4896453902966,8610.4896453902966,8610.4896453902966,8610.4896453902966,8610.4896453902966,8610.4896453902966,8610.4896453902966,8610.4896453902966,8610.4896453902966,8610.4896453902966,8610.4896453902966,8610.4896453902966,8610.4896453902966,8610.4896453902966,8610.4896453902966,8610.4896453902966,4576.6875,4576.6875,4576.6875,4576.6875,4576.6875,4576.6875,4576.6875,4576.6875,4576.6875,4576.6875,4576.6875,{"$f":"IF(AH115<=term_length,$B$95+$B$82,$B$95)","v":4576.6875},4576.6875,4576.6875,4576.6875,4576.6875,4576.6875,4576.6875,4576.6875,4576.6875,4576.6875,4576.6875,4576.6875,4576.6875,4576.6875,4576.6875,4576.6875,4576.6875,{"$f":"IF(AY115<=term_length,$B$95+$B$82,$B$95)","v":4576.6875}]
["Cost Schedule for Water Treatment Plant         (2-10 MGD)",{"$f":"IF(B115<=term_length,$C$95+$C$82,$C$95)","v":8249.3047713841261},8249.3047713841261,8249.3047713841261,8249.3047713841261,8249.3047713841261,8249.3047713841261,8249.3047713841261,8249.3047713841261,8249.3047713841261,8249.3047713841261,8249.3047713841261,8249.3047713841261,8249.3047713841261,8249.3047713841261,8249.3047713841261,8249.3047713841261,8249.3047713841261,8249.3047713841261,8249.3047713841261,8249.3047713841261,8249.3047713841261,3690,3690,3690,3690,3690,3690,3690,3690,3690,3690,3690,{"$f":"IF(AH115<=term_length,$C$95+$C$82,$C$95)","v":3690},3690,3690,3690,3690,3690,3690,3690,3690,3690,3690,3690,3690,3690,3690,3690,3690,{"$f":"IF(AY115<=term_length,$C$95+$C$82,$C$95)","v":3690}]
["Cost Schedule for Water Treatment Plant         (≥ 11 MGD)",{"$f":"IF(B115<=term_length,$D$95+$D$82,$D$95)","v":32491.753047463433},32491.753047463433,32491.753047463433,32491.753047463433,32491.753047463433,32491.753047463433,32491.753047463433,32491.753047463433,32491.753047463433,32491.753047463433,32491.753047463433,32491.753047463433,32491.753047463433,32491.753047463433,32491.753047463433,32491.753047463433,32491.753047463433,32491.753047463433,32491.753047463433,32491.753047463433,32491.753047463433,17808,17808,17808,17808,17808,17808,17808,17808,17808,17808,17808,{"$f":"IF(AH115<=term_length,$D$95+$D$82,$D$95)","v":17808},17808,17808,17808,17808,17808,17808,17808,17808,17808,17808,17808,17808,17808,17808,17808,17808,{"$f":"IF(AY115<=term_length,$D$95+$D$82,$D$95)","v":17808}]
[null,"Year of Incurred Cost"]
["Westminster (per intake values)",0,1,2,3,4,5,6,7,8,9,10,11,12,13,14,15,16,17,18,19,20,21,22,23,24,25,26,27,28,29,30,31,32,33,34,35,36,37,38,39,40,41,42,43,44,45,46,47,48,49]
["Cost Schedule for Front Range Reservoirs",{"$f":"IF(B120<=term_length,$B$105+$B$110,$B$110)","v":3148826.8595977616},3148826.8595977616,3148826.8595977616,3148826.8595977616,3148826.8595977616,3148826.8595977616,3148826.8595977616,3148826.8595977616,3148826.8595977616,3148826.8595977616,3148826.8595977616,3148826.8595977616,3148826.8595977616,3148826.8595977616,3148826.8595977616,3148826.8595977616,3148826.8595977616,3148826.8595977616,3148826.8595977616,3148826.8595977616,3148826.8595977616,2500000,2500000,2500000,2500000,2500000,2500000,2500000,2500000,2500000,2500000,2500000,{"$f":"IF(AH120<=term_length,$B$105+$B$110,$B$110)","v":2500000},2500000,2500000,2500000,2500000,2500000,2500000,2500000,2500000,2500000,2500000,2500000,2500000,2500000,2500000,2500000,2500000,2500000]
[]
["Source, Formula, and Assumption Information for this Section"]
["*Water treatment plant control costs data is from Connelly2007"]
["*Costs of capital are assumed to be borrow.  Yearly principal and interest payments are calculated with the amortization formula: A=12*P*r/12(1+r/12)^n/((1+r/12)^n-1)."]
["*Westminster costs are applied to Boulder, Carter, and Horsetooth. "]
["*Carter Lake has two filter plants right on the lake, when using Westminster per intake values, Carter is charges with an intake value and with 2 filter plants."]
["Control Costs: Hydropower Facilities"]
[null,"Low","Base","High","Source"]
["Capital Expenditures (per megawatt capacity)"]
["Retrofit Costs",1000,1500,2000]
["Yearly principal and Interest Payment",{"$f":"(B131*i_rate*(1+i_rate)^(term_length)/((1+i_rate)^(term_length)-1))","v":78.550467263651541},{"$f":"(C131*i_rate*(1+i_rate)^(term_length)/((1+i_rate)^(term_length)-1))","v":117.82570089547731},{"$f":"(D131*i_rate*(1+i_rate)^(term_length)/((1+i_rate)^(term_length)-1))","v":157.10093452730308}]
[]
["Variable Costs (per megawatt capacity)"]
["Increase in annual operating expenditures",50,75,100]
[]
[null,"Year of Incurred Cost"]
[null,0,1,2,3,4,5,6,7,8,9,10,11,12,13,14,15,16,17,18,19,20,21,22,23,24,25,26,27,28,29,30,31,32,33,34,35,36,37,38,39,40,41,42,43,44,45,46,47,48,49]
["Low Cost Schedule for Hydropower                   (per megawatt capacity)",{"$f":"IF(B138<=term_length,$B$132+$B$135,$B$135)","v":128.55046726365154},128.55046726365154,128.55046726365154,128.55046726365154,128.55046726365154,128.55046726365154,128.55046726365154,128.55046726365154,128.55046726365154,128.55046726365154,128.55046726365154,128.55046726365154,128.55046726365154,128.55046726365154,128.55046726365154,128.55046726365154,128.55046726365154,128.55046726365154,128.55046726365154,128.55046726365154,128.55046726365154,50,50,50,50,50,50,50,50,50,50,50,{"$f":"IF(AH138<=term_length,$B$132+$B$135,$B$135)","v":50},50,50,50,50,50,50,50,50,50,50,50,50,50,50,50,50,{"$f":"IF(AY138<=term_length,$B$132+$B$135,$B$135)","v":50}]
["Base Cost Schedule for Hydropower                  (per megawatt capacity)",{"$f":"IF(B138<=term_length,$C$132+$C$135,$C$135)","v":192.82570089547733},192.82570089547733,192.82570089547733,192.82570089547733,192.82570089547733,192.82570089547733,192.82570089547733,192.82570089547733,192.82570089547733,192.82570089547733,192.82570089547733,192.82570089547733,192.82570089547733,192.82570089547733,192.82570089547733,192.82570089547733,192.82570089547733,192.82570089547733,192.82570089547733,192.82570089547733,192.82570089547733,75,75,75,75,75,75,75,75,75,75,75,{"$f":"IF(AH138<=term_length,$C$132+$C$135,$C$135)","v":75},75,75,75,75,75,75,75,75,75,75,75,75,75,75,75,75,{"$f":"IF(AY138<=term_length,$C$132+$C$135,$C$135)","v":75}]
["High Cost Schedule for Hydropower                  (per megawatt capacity)",{"$f":"IF(B138<=term_length,$D$132+$D$135,$D$135)","v":257.10093452730308},257.10093452730308,257.10093452730308,257.10093452730308,257.10093452730308,257.10093452730308,257.10093452730308,257.10093452730308,257.10093452730308,257.10093452730308,257.10093452730308,257.10093452730308,257.10093452730308,257.10093452730308,257.10093452730308,257.10093452730308,257.10093452730308,257.10093452730308,257.10093452730308,257.10093452730308,257.10093452730308,100,100,100,100,100,100,100,100,100,100,100,{"$f":"IF(AH138<=term_length,$D$132+$D$135,$D$135)","v":100},100,100,100,100,100,100,100,100,100,100,100,100,100,100,100,100,{"$f":"IF(AY138<=term_length,$D$132+$D$135,$D$135)","v":100}]
[]
["Source, Formula, and Assumption Information for this Section"]
["*Cost of capital are assumed to be borrow.  Yearly principal and interest payments are calculated with the amortization formula: A=P*r(1+r)^n/((1+r)^n-1)."]
[]
["Control Costs: Dams"]
[null,"Value","Source"]
["Maintenance Expenditures (per trash rack)"]
["Cost of applying coating",25000]
["Cost of divers",100000]
["Total Costs",{"$f":"SUM(B149:B150)","v":125000},"Westminster"]
["Useful life of paint(years)",5,"Phillips"]
[]
[]
[]
["Source, Formula, and Assumption Information for this Section"]
["*Dams will require additional inspections.  It is assumed that the cost of these inspections will be small and absorbed in normal operation costs."]
["*Trash rack painting costs are taken from City of Westminster (2010) "]
["*Assume that money is not borrowed for these costs (i.e. they are not capital costs)"]
["Control Costs: Pump Plants"]
[]
["*Data is not available about the costs to pump plants."]
["*Pump plants that are dry for at least 1 month each year are assumed to have zero control costs"]
["*With the exception of the Farr Pump Plant, the control costs for all other pump plants are set equal to those for Mary's Lake Hydropower plant."]
["*Costs for the Farr Pump Plant are set equal to Lake Estes Power Plant"]
["Source, Formula, and Assumption Information for this Section"]
["*Mussels are assumed to die from desiccation in pump plants that are dry for at least one month."]
["*Discharge piping is at risk of mussel fouling.  Even small amounts of settlement could increase required pumping power.  An analysis is needed to evaluate the increased pumping costs versus the increased maintenance costs of manually removing mussel accumulation."]
[]
["Control Cost Schedules"]
[null,null,null,"Total Costs {ControlCostSchedules}"]
[null,null,null,"Year of Incurred Cost"]
["Structure/Facility Name","Structure/Facility ID","Structure/Facility Classification  ",0,1,2,3,4,5,6,8,9,10,11,12,13,14,15,16,17,18,19,20,21,22,23,24,25,26,27,28,29,30,31,32,33,34,35,36,37,38,39,40,41,42,43,44,45,46,47,48,49]
["Windy Gap Pump Plant",0,"pump plant",{"$f":"D188","v":8677.1565402964789},{"$f":"E188","v":8677.1565402964789},8677.1565402964789,8677.1565402964789,8677.1565402964789,8677.1565402964789,8677.1565402964789,8677.1565402964789,8677.1565402964789,8677.1565402964789,8677.1565402964789,8677.1565402964789,8677.1565402964789,8677.1565402964789,8677.1565402964789,8677.1565402964789,8677.1565402964789,8677.1565402964789,8677.1565402964789,8677.1565402964789,8677.1565402964789,3375,3375,3375,3375,3375,3375,3375,3375,3375,3375,3375,3375,3375,3375,3375,3375,3375,3375,3375,3375,3375,3375,3375,3375,3375,3375,3375,3375]
["Windy Gap Pipeline",1,"pipeline"]
["Willow Creek Dam",2,"dam",{"$f":"IF(AND(INDEX($N$3:$N$70,$B176+1)=\"no\",OR(D$173=0,D$173=$B$152)),$B$151*INDEX($K$3:$K$70,$B176+1),IF(AND(INDEX($N$3:$N$70,$B176+1)=\"no\",(MOD(D$173-1,$B$152)=0),D$173<>1,D$173<>$B$152+1),$B$151*INDEX($K$3:$K$70,$B176+1),0))","v":125000},0,0,0,0,125000,0,0,0,0,125000,0,0,0,0,125000,0,0,0,0,125000,0,0,0,0,125000,0,0,0,0,125000,0,{"$f":"IF(AND(INDEX($N$3:$N$70,$B176+1)=\"no\",OR(AJ$173=0,AJ$173=$B$152)),$B$151*INDEX($K$3:$K$70,$B176+1),IF(AND(INDEX($N$3:$N$70,$B176+1)=\"no\",(MOD(AJ$173-1,$B$152)=0),AJ$173<>1,AJ$173<>$B$152+1),$B$151*INDEX($K$3:$K$70,$B176+1),0))","v":0},0,0,125000,0,0,0,0,125000,0,0,0,0,125000,0,0,0]
["Willow Creek Pump Canal",3,"canal"]
["Willow Creek Pump Plant",4,"pump plant",0]
["Granby Dam",5,"dam",{"$f":"IF(AND(INDEX($N$3:$N$70,$B179+1)=\"no\",OR(D$173=0,D$173=$B$152)),$B$151*INDEX($K$3:$K$70,$B179+1),IF(AND(INDEX($N$3:$N$70,$B179+1)=\"no\",(MOD(D$173-1,$B$152)=0),D$173<>1,D$173<>$B$152+1),$B$151*INDEX($K$3:$K$70,$B179+1),0))","v":125000},0,0,0,0,125000,0,0,0,0,125000,0,0,0,0,125000,0,0,0,0,125000,0,0,0,0,125000,0,0,0,0,125000,0,{"$f":"IF(AND(INDEX($N$3:$N$70,$B179+1)=\"no\",OR(AJ$173=0,AJ$173=$B$152)),$B$151*INDEX($K$3:$K$70,$B179+1),IF(AND(INDEX($N$3:$N$70,$B179+1)=\"no\",(MOD(AJ$173-1,$B$152)=0),AJ$173<>1,AJ$173<>$B$152+1),$B$151*INDEX($K$3:$K$70,$B179+1),0))","v":0},0,0,125000,0,0,0,0,125000,0,0,0,0,125000,0,0,0]
["Farr Pumping Plant",6,"pump plant",{"$f":"D188","v":8677.1565402964789},8677.1565402964789,8677.1565402964789,8677.1565402964789,8677.1565402964789,8677.1565402964789,8677.1565402964789,8677.1565402964789,8677.1565402964789,8677.1565402964789,8677.1565402964789,8677.1565402964789,8677.1565402964789,8677.1565402964789,8677.1565402964789,8677.1565402964789,8677.1565402964789,8677.1565402964789,8677.1565402964789,8677.1565402964789,8677.1565402964789,3375,3375,3375,3375,3375,3375,3375,3375,3375,3375,3375,{"$f":"AJ188","v":3375},3375,3375,3375,3375,3375,3375,3375,3375,3375,3375,3375,3375,3375,3375,3375,3375]
["Grandby Pump Canal",7,"canal"]
["Shadow Mountain Dam",8,"dam",{"$f":"IF(AND(INDEX($N$3:$N$70,$B182+1)=\"no\",OR(D$173=0,D$173=$B$152)),$B$151*INDEX($K$3:$K$70,$B182+1),IF(AND(INDEX($N$3:$N$70,$B182+1)=\"no\",(MOD(D$173-1,$B$152)=0),D$173<>1,D$173<>$B$152+1),$B$151*INDEX($K$3:$K$70,$B182+1),0))","v":0},0,0,0,0,0,0,0,0,0,0,0,0,0,0,0,0,0,0,0,0,0,0,0,0,0,0,0,0,0,0,0,{"$f":"IF(AND(INDEX($N$3:$N$70,$B182+1)=\"no\",OR(AJ$173=0,AJ$173=$B$152)),$B$151*INDEX($K$3:$K$70,$B182+1),IF(AND(INDEX($N$3:$N$70,$B182+1)=\"no\",(MOD(AJ$173-1,$B$152)=0),AJ$173<>1,AJ$173<>$B$152+1),$B$151*INDEX($K$3:$K$70,$B182+1),0))","v":0},0,0,0,0,0,0,0,0,0,0,0,0,0,0,0,0]
["Adams Tunnel",9,"tunnel",{"$f":"D184*2","v":250000},{"$f":"E184*2","v":0},0,0,0,250000,0,0,0,0,250000,0,0,0,0,250000,0,0,0,0,250000,0,0,0,0,250000,0,0,0,0,250000,0,0,0,0,250000,0,0,0,0,250000,0,0,0,0,250000,0,0,0]
["East Portal Dam",10,"dam",{"$f":"IF(AND(INDEX($N$3:$N$70,$B184+1)=\"no\",OR(D$173=0,D$173=$B$152)),$B$151*INDEX($K$3:$K$70,$B184+1),IF(AND(INDEX($N$3:$N$70,$B184+1)=\"no\",(MOD(D$173-1,$B$152)=0),D$173<>1,D$173<>$B$152+1),$B$151*INDEX($K$3:$K$70,$B184+1),0))","v":125000},0,0,0,0,125000,0,0,0,0,125000,0,0,0,0,125000,0,0,0,0,125000,0,0,0,0,125000,0,0,0,0,125000,0,{"$f":"IF(AND(INDEX($N$3:$N$70,$B184+1)=\"no\",OR(AJ$173=0,AJ$173=$B$152)),$B$151*INDEX($K$3:$K$70,$B184+1),IF(AND(INDEX($N$3:$N$70,$B184+1)=\"no\",(MOD(AJ$173-1,$B$152)=0),AJ$173<>1,AJ$173<>$B$152+1),$B$151*INDEX($K$3:$K$70,$B184+1),0))","v":0},0,0,125000,0,0,0,0,125000,0,0,0,0,125000,0,0,0]
["Rams Horn Tunnel",11,"tunnel"]
["Mary's Lake Hydropower Plant",12,"hydropower",{"$f":"B$140*INDEX($I$3:$I$70,$B186+1)","v":1561.8881772533662},{"$f":"C$140*INDEX($I$3:$I$70,$B186+1)","v":1561.8881772533662},1561.8881772533662,1561.8881772533662,1561.8881772533662,1561.8881772533662,1561.8881772533662,1561.8881772533662,1561.8881772533662,1561.8881772533662,1561.8881772533662,1561.8881772533662,1561.8881772533662,1561.8881772533662,1561.8881772533662,1561.8881772533662,1561.8881772533662,1561.8881772533662,1561.8881772533662,1561.8881772533662,1561.8881772533662,607.5,607.5,607.5,607.5,607.5,607.5,607.5,607.5,607.5,607.5,607.5,607.5,607.5,607.5,607.5,607.5,607.5,607.5,607.5,607.5,607.5,607.5,607.5,607.5,607.5,607.5,607.5,607.5]
["Prospect Mountain Tunnel",13,"tunnel"]
["Estes Hydropower Plant",14,"hydropower",{"$f":"B$140*INDEX($I$3:$I$70,$B188+1)","v":8677.1565402964789},{"$f":"C$140*INDEX($I$3:$I$70,$B188+1)","v":8677.1565402964789},8677.1565402964789,8677.1565402964789,8677.1565402964789,8677.1565402964789,8677.1565402964789,8677.1565402964789,8677.1565402964789,8677.1565402964789,8677.1565402964789,8677.1565402964789,8677.1565402964789,8677.1565402964789,8677.1565402964789,8677.1565402964789,8677.1565402964789,8677.1565402964789,8677.1565402964789,8677.1565402964789,8677.1565402964789,3375,3375,3375,3375,3375,3375,3375,3375,3375,3375,3375,3375,3375,3375,3375,3375,3375,3375,3375,3375,3375,3375,3375,3375,3375,3375,3375,3375]
["Town of Estes",15,"water filter plant",{"$f":"IF(OR(INDEX($F$3:$F$70,$B189+1)<=1,INDEX($F$3:$F$70,$B189+1)=\"<1\"),B$116,IF(INDEX($F$3:$F$70,$B189+1)>=11,B$118,B$117))","v":8249.3047713841261},8249.3047713841261,8249.3047713841261,8249.3047713841261,8249.3047713841261,8249.3047713841261,8249.3047713841261,8249.3047713841261,8249.3047713841261,8249.3047713841261,{"$f":"IF(OR(INDEX($F$3:$F$70,$B189+1)<=1,INDEX($F$3:$F$70,$B189+1)=\"<1\"),L$116,IF(INDEX($F$3:$F$70,$B189+1)>=11,L$118,L$117))","v":8249.3047713841261},8249.3047713841261,8249.3047713841261,8249.3047713841261,8249.3047713841261,8249.3047713841261,8249.3047713841261,8249.3047713841261,8249.3047713841261,8249.3047713841261,{"$f":"IF(OR(INDEX($F$3:$F$70,$B189+1)<=1,INDEX($F$3:$F$70,$B189+1)=\"<1\"),V$116,IF(INDEX($F$3:$F$70,$B189+1)>=11,V$118,V$117))","v":8249.3047713841261},3690,3690,3690,3690,3690,3690,3690,3690,3690,{"$f":"IF(OR(INDEX($F$3:$F$70,$B189+1)<=1,INDEX($F$3:$F$70,$B189+1)=\"<1\"),AF$116,IF(INDEX($F$3:$F$70,$B189+1)>=11,AF$118,AF$117))","v":3690},3690,3690,3690,3690,3690,3690,3690,3690,3690,{"$f":"IF(OR(INDEX($F$3:$F$70,$B189+1)<=1,INDEX($F$3:$F$70,$B189+1)=\"<1\"),AP$116,IF(INDEX($F$3:$F$70,$B189+1)>=11,AP$118,AP$117))","v":3690},3690,3690,3690,3690,3690,3690,3690,3690]
["Mary's Lake (Town)",16,"water filter plant",8249.3047713841261,8249.3047713841261,8249.3047713841261,8249.3047713841261,8249.3047713841261,8249.3047713841261,8249.3047713841261,8249.3047713841261,8249.3047713841261,8249.3047713841261,8249.3047713841261,8249.3047713841261,8249.3047713841261,8249.3047713841261,8249.3047713841261,8249.3047713841261,8249.3047713841261,8249.3047713841261,8249.3047713841261,8249.3047713841261,8249.3047713841261,3690,3690,3690,3690,3690,3690,3690,3690,3690,3690,3690,3690,3690,3690,3690,3690,3690,3690,3690,3690,3690,3690,3690,3690,3690,3690,3690,3690]
["Olympus Dam",17,"dam",{"$f":"IF(AND(INDEX($N$3:$N$70,$B191+1)=\"no\",OR(D$173=0,D$173=$B$152)),$B$151*INDEX($K$3:$K$70,$B191+1),IF(AND(INDEX($N$3:$N$70,$B191+1)=\"no\",(MOD(D$173-1,$B$152)=0),D$173<>1,D$173<>$B$152+1),$B$151*INDEX($K$3:$K$70,$B191+1),0))","v":125000},0,0,0,0,125000,0,0,0,0,125000,0,0,0,0,125000,0,0,0,0,125000,0,0,0,0,125000,0,0,0,0,125000,0,{"$f":"IF(AND(INDEX($N$3:$N$70,$B191+1)=\"no\",OR(AJ$173=0,AJ$173=$B$152)),$B$151*INDEX($K$3:$K$70,$B191+1),IF(AND(INDEX($N$3:$N$70,$B191+1)=\"no\",(MOD(AJ$173-1,$B$152)=0),AJ$173<>1,AJ$173<>$B$152+1),$B$151*INDEX($K$3:$K$70,$B191+1),0))","v":0},0,0,125000,0,0,0,0,125000,0,0,0,0,125000,0,0,0]
["Olympus Tunnel",18,"tunnel"]
["Pole Hill Tunnel",19,"tunnel"]
["Pole Hill Hydropower Plant",20,"hydropower",{"$f":"B$140*INDEX($I$3:$I$70,$B194+1)","v":7365.9417742072346},{"$f":"C$140*INDEX($I$3:$I$70,$B194+1)","v":7365.9417742072346},7365.9417742072346,7365.9417742072346,7365.9417742072346,7365.9417742072346,7365.9417742072346,7365.9417742072346,7365.9417742072346,7365.9417742072346,7365.9417742072346,7365.9417742072346,7365.9417742072346,7365.9417742072346,7365.9417742072346,7365.9417742072346,7365.9417742072346,7365.9417742072346,7365.9417742072346,7365.9417742072346,7365.9417742072346,2865,2865,2865,2865,2865,2865,2865,2865,2865,2865,2865,2865,2865,2865,2865,2865,2865,2865,2865,2865,2865,2865,2865,2865,2865,2865,2865,2865]
["Rattlesnake Tunnel",21,"tunnel"]
["Rattlesnake Dam",22,"dam",{"$f":"IF(AND(INDEX($N$3:$N$70,$B196+1)=\"no\",OR(D$173=0,D$173=$B$152)),$B$151*INDEX($K$3:$K$70,$B196+1),IF(AND(INDEX($N$3:$N$70,$B196+1)=\"no\",(MOD(D$173-1,$B$152)=0),D$173<>1,D$173<>$B$152+1),$B$151*INDEX($K$3:$K$70,$B196+1),0))","v":125000},0,0,0,0,125000,0,0,0,0,125000,0,0,0,0,125000,0,0,0,0,125000,0,0,0,0,125000,0,0,0,0,125000,0,{"$f":"IF(AND(INDEX($N$3:$N$70,$B196+1)=\"no\",OR(AJ$173=0,AJ$173=$B$152)),$B$151*INDEX($K$3:$K$70,$B196+1),IF(AND(INDEX($N$3:$N$70,$B196+1)=\"no\",(MOD(AJ$173-1,$B$152)=0),AJ$173<>1,AJ$173<>$B$152+1),$B$151*INDEX($K$3:$K$70,$B196+1),0))","v":0},0,0,125000,0,0,0,0,125000,0,0,0,0,125000,0,0,0]
["Bald Mountain Tunnel",23,"tunnel"]
["Flatiron Hydropower Plant",24,"hydropower",{"$f":"B$140*INDEX($I$3:$I$70,$B198+1)","v":18222.028734622607},{"$f":"C$140*INDEX($I$3:$I$70,$B198+1)","v":18222.028734622607},18222.028734622607,18222.028734622607,18222.028734622607,18222.028734622607,18222.028734622607,18222.028734622607,18222.028734622607,18222.028734622607,18222.028734622607,18222.028734622607,18222.028734622607,18222.028734622607,18222.028734622607,18222.028734622607,18222.028734622607,18222.028734622607,18222.028734622607,18222.028734622607,18222.028734622607,7087.5,7087.5,7087.5,7087.5,7087.5,7087.5,7087.5,7087.5,7087.5,7087.5,7087.5,7087.5,7087.5,7087.5,7087.5,7087.5,7087.5,7087.5,7087.5,7087.5,7087.5,7087.5,7087.5,7087.5,7087.5,7087.5,7087.5,7087.5]
["Newell Warnock",25,"water filter plant",{"$f":"IF(OR(INDEX($F$3:$F$70,$B199+1)<=1,INDEX($F$3:$F$70,$B199+1)=\"<1\"),B$116,IF(INDEX($F$3:$F$70,$B199+1)>=11,B$118,B$117))","v":8610.4896453902966},8610.4896453902966,8610.4896453902966,8610.4896453902966,8610.4896453902966,8610.4896453902966,8610.4896453902966,8610.4896453902966,8610.4896453902966,8610.4896453902966,8610.4896453902966,8610.4896453902966,8610.4896453902966,8610.4896453902966,8610.4896453902966,8610.4896453902966,8610.4896453902966,8610.4896453902966,8610.4896453902966,8610.4896453902966,8610.4896453902966,4576.6875,4576.6875,4576.6875,4576.6875,4576.6875,4576.6875,4576.6875,4576.6875,4576.6875,4576.6875,4576.6875,{"$f":"IF(OR(INDEX($F$3:$F$70,$B199+1)<=1,INDEX($F$3:$F$70,$B199+1)=\"<1\"),AH$116,IF(INDEX($F$3:$F$70,$B199+1)>=11,AH$118,AH$117))","v":4576.6875},4576.6875,4576.6875,4576.6875,4576.6875,4576.6875,4576.6875,4576.6875,4576.6875,4576.6875,4576.6875,4576.6875,4576.6875,4576.6875,4576.6875,4576.6875,4576.6875]
["Flatiron Reversible Pump",26,"pump plant",0]
["Flatiron Dam",27,"dam",{"$f":"IF(AND(INDEX($N$3:$N$70,$B201+1)=\"no\",OR(D$173=0,D$173=$B$152)),$B$151*INDEX($K$3:$K$70,$B201+1),IF(AND(INDEX($N$3:$N$70,$B201+1)=\"no\",(MOD(D$173-1,$B$152)=0),D$173<>1,D$173<>$B$152+1),$B$151*INDEX($K$3:$K$70,$B201+1),0))","v":125000},0,0,0,0,125000,0,0,0,0,125000,0,0,0,0,125000,0,0,0,0,125000,0,0,0,0,125000,0,0,0,0,125000,0,{"$f":"IF(AND(INDEX($N$3:$N$70,$B201+1)=\"no\",OR(AJ$173=0,AJ$173=$B$152)),$B$151*INDEX($K$3:$K$70,$B201+1),IF(AND(INDEX($N$3:$N$70,$B201+1)=\"no\",(MOD(AJ$173-1,$B$152)=0),AJ$173<>1,AJ$173<>$B$152+1),$B$151*INDEX($K$3:$K$70,$B201+1),0))","v":0},0,0,125000,0,0,0,0,125000,0,0,0,0,125000,0,0,0]
["Carter Lake Pressure Tunnel",28,"tunnel"]
["Big Thompson Hydropower Plant",29,"hydropower",{"$f":"B$140*INDEX($I$3:$I$70,$B203+1)","v":867.71565402964802},{"$f":"C$140*INDEX($I$3:$I$70,$B203+1)","v":867.71565402964802},867.71565402964802,867.71565402964802,867.71565402964802,867.71565402964802,867.71565402964802,867.71565402964802,867.71565402964802,867.71565402964802,867.71565402964802,867.71565402964802,867.71565402964802,867.71565402964802,867.71565402964802,867.71565402964802,867.71565402964802,867.71565402964802,867.71565402964802,867.71565402964802,867.71565402964802,337.5,337.5,337.5,337.5,337.5,337.5,337.5,337.5,337.5,337.5,337.5,337.5,337.5,337.5,337.5,337.5,337.5,337.5,337.5,337.5,337.5,337.5,337.5,337.5,337.5,337.5,337.5,337.5]
["Hansen Feeder Canal",30,"canal"]
["City of Loveland",31,"water filter plant",{"$f":"IF(OR(INDEX($F$3:$F$70,$B205+1)<=1,INDEX($F$3:$F$70,$B205+1)=\"<1\"),B$116,IF(INDEX($F$3:$F$70,$B205+1)>=11,B$118,B$117))","v":32491.753047463433},32491.753047463433,32491.753047463433,32491.753047463433,32491.753047463433,32491.753047463433,32491.753047463433,32491.753047463433,32491.753047463433,32491.753047463433,{"$f":"IF(OR(INDEX($F$3:$F$70,$B205+1)<=1,INDEX($F$3:$F$70,$B205+1)=\"<1\"),L$116,IF(INDEX($F$3:$F$70,$B205+1)>=11,L$118,L$117))","v":32491.753047463433},32491.753047463433,32491.753047463433,32491.753047463433,32491.753047463433,32491.753047463433,32491.753047463433,32491.753047463433,32491.753047463433,32491.753047463433,{"$f":"IF(OR(INDEX($F$3:$F$70,$B205+1)<=1,INDEX($F$3:$F$70,$B205+1)=\"<1\"),V$116,IF(INDEX($F$3:$F$70,$B205+1)>=11,V$118,V$117))","v":32491.753047463433},17808,17808,17808,17808,17808,17808,17808,17808,17808,{"$f":"IF(OR(INDEX($F$3:$F$70,$B205+1)<=1,INDEX($F$3:$F$70,$B205+1)=\"<1\"),AF$116,IF(INDEX($F$3:$F$70,$B205+1)>=11,AF$118,AF$117))","v":17808},17808,17808,17808,17808,17808,17808,17808,17808,17808,{"$f":"IF(OR(INDEX($F$3:$F$70,$B205+1)<=1,INDEX($F$3:$F$70,$B205+1)=\"<1\"),AP$116,IF(INDEX($F$3:$F$70,$B205+1)>=11,AP$118,AP$117))","v":17808},17808,17808,17808,17808,17808,17808,17808,17808]
["Emissaries of Divine Light",32,"water filter plant",8610.4896453902966,8610.4896453902966,8610.4896453902966,8610.4896453902966,8610.4896453902966,8610.4896453902966,8610.4896453902966,8610.4896453902966,8610.4896453902966,8610.4896453902966,8610.4896453902966,8610.4896453902966,8610.4896453902966,8610.4896453902966,8610.4896453902966,8610.4896453902966,8610.4896453902966,8610.4896453902966,8610.4896453902966,8610.4896453902966,8610.4896453902966,4576.6875,4576.6875,4576.6875,4576.6875,4576.6875,4576.6875,4576.6875,4576.6875,4576.6875,4576.6875,4576.6875,4576.6875,4576.6875,4576.6875,4576.6875,4576.6875,4576.6875,4576.6875,4576.6875,4576.6875,4576.6875,4576.6875,4576.6875,4576.6875,4576.6875,4576.6875,4576.6875,4576.6875]
["Eden Valley",33,"water filter plant",8610.4896453902966,8610.4896453902966,8610.4896453902966,8610.4896453902966,8610.4896453902966,8610.4896453902966,8610.4896453902966,8610.4896453902966,8610.4896453902966,8610.4896453902966,8610.4896453902966,8610.4896453902966,8610.4896453902966,8610.4896453902966,8610.4896453902966,8610.4896453902966,8610.4896453902966,8610.4896453902966,8610.4896453902966,8610.4896453902966,8610.4896453902966,4576.6875,4576.6875,4576.6875,4576.6875,4576.6875,4576.6875,4576.6875,4576.6875,4576.6875,4576.6875,4576.6875,4576.6875,4576.6875,4576.6875,4576.6875,4576.6875,4576.6875,4576.6875,4576.6875,4576.6875,4576.6875,4576.6875,4576.6875,4576.6875,4576.6875,4576.6875,4576.6875,4576.6875]
["Spring Canyon",34,"water filter plant",8610.4896453902966,8610.4896453902966,8610.4896453902966,8610.4896453902966,8610.4896453902966,8610.4896453902966,8610.4896453902966,8610.4896453902966,8610.4896453902966,8610.4896453902966,8610.4896453902966,8610.4896453902966,8610.4896453902966,8610.4896453902966,8610.4896453902966,8610.4896453902966,8610.4896453902966,8610.4896453902966,8610.4896453902966,8610.4896453902966,8610.4896453902966,4576.6875,4576.6875,4576.6875,4576.6875,4576.6875,4576.6875,4576.6875,4576.6875,4576.6875,4576.6875,4576.6875,4576.6875,4576.6875,4576.6875,4576.6875,4576.6875,4576.6875,4576.6875,4576.6875,4576.6875,4576.6875,4576.6875,4576.6875,4576.6875,4576.6875,4576.6875,4576.6875,4576.6875]
["Horsetooth Dam",35,"dam",{"$f":"IF(AND(INDEX($N$3:$N$70,$B209+1)=\"no\",OR(D$173=0,D$173=$B$152)),$B$151*INDEX($K$3:$K$70,$B209+1),IF(AND(INDEX($N$3:$N$70,$B209+1)=\"no\",(MOD(D$173-1,$B$152)=0),D$173<>1,D$173<>$B$152+1),$B$151*INDEX($K$3:$K$70,$B209+1),0))","v":125000},0,0,0,0,125000,0,0,0,0,{"$f":"IF(AND(INDEX($N$3:$N$70,$B209+1)=\"no\",OR(N$173=0,N$173=$B$152)),$B$151*INDEX($K$3:$K$70,$B209+1),IF(AND(INDEX($N$3:$N$70,$B209+1)=\"no\",(MOD(N$173-1,$B$152)=0),N$173<>1,N$173<>$B$152+1),$B$151*INDEX($K$3:$K$70,$B209+1),0))","v":125000},0,0,0,0,125000,0,0,0,0,{"$f":"IF(AND(INDEX($N$3:$N$70,$B209+1)=\"no\",OR(X$173=0,X$173=$B$152)),$B$151*INDEX($K$3:$K$70,$B209+1),IF(AND(INDEX($N$3:$N$70,$B209+1)=\"no\",(MOD(X$173-1,$B$152)=0),X$173<>1,X$173<>$B$152+1),$B$151*INDEX($K$3:$K$70,$B209+1),0))","v":125000},0,0,0,0,125000,0,0,0,0,{"$f":"IF(AND(INDEX($N$3:$N$70,$B209+1)=\"no\",OR(AH$173=0,AH$173=$B$152)),$B$151*INDEX($K$3:$K$70,$B209+1),IF(AND(INDEX($N$3:$N$70,$B209+1)=\"no\",(MOD(AH$173-1,$B$152)=0),AH$173<>1,AH$173<>$B$152+1),$B$151*INDEX($K$3:$K$70,$B209+1),0))","v":125000},0,0,0,0,125000,0,0,0,0,{"$f":"IF(AND(INDEX($N$3:$N$70,$B209+1)=\"no\",OR(AR$173=0,AR$173=$B$152)),$B$151*INDEX($K$3:$K$70,$B209+1),IF(AND(INDEX($N$3:$N$70,$B209+1)=\"no\",(MOD(AR$173-1,$B$152)=0),AR$173<>1,AR$173<>$B$152+1),$B$151*INDEX($K$3:$K$70,$B209+1),0))","v":125000},0,0,0,0,125000,0,0,0]
["Soldier Dam",36,"dam",125000,0,0,0,0,125000,0,0,0,0,125000,0,0,0,0,125000,0,0,0,0,125000,0,0,0,0,125000,0,0,0,0,125000,0,0,0,0,125000,0,0,0,0,125000,0,0,0,0,125000,0,0,0]
["Dixon Dam",37,"dam",0,0,0,0,0,0,0,0,0,0,0,0,0,0,0,0,0,0,0,0,0,0,0,0,0,0,0,0,0,0,0,0,0,0,0,0,0,0,0,0,0,0,0,0,0,0,0,0,0]
["Spring Canyon Dam",38,"dam",0,0,0,0,0,0,0,0,0,0,0,0,0,0,0,0,0,0,0,0,0,0,0,0,0,0,0,0,0,0,0,0,0,0,0,0,0,0,0,0,0,0,0,0,0,0,0,0,0]
["Charles Hansen Supply Canal",39,"canal"]
["Northern Poudre Supply Canal",40,"canal"]
["Fort Collins",41,"water filter plant",{"$f":"IF($B$112=\"Connelly and Westminster\",B$121/3,IF(OR(INDEX($F$3:$F$70,$B215+1)<=1,INDEX($F$3:$F$70,$B215+1)=\"<1\"),B$116,IF(INDEX($F$3:$F$70,$B215+1)>=11,B$118,B$117)))","v":1049608.9531992539},1049608.9531992539,1049608.9531992539,1049608.9531992539,1049608.9531992539,1049608.9531992539,1049608.9531992539,1049608.9531992539,1049608.9531992539,1049608.9531992539,{"$f":"IF($B$112=\"Connelly and Westminster\",L$121/3,IF(OR(INDEX($F$3:$F$70,$B215+1)<=1,INDEX($F$3:$F$70,$B215+1)=\"<1\"),L$116,IF(INDEX($F$3:$F$70,$B215+1)>=11,L$118,L$117)))","v":1049608.9531992539},1049608.9531992539,1049608.9531992539,1049608.9531992539,1049608.9531992539,1049608.9531992539,1049608.9531992539,1049608.9531992539,1049608.9531992539,1049608.9531992539,{"$f":"IF($B$112=\"Connelly and Westminster\",V$121/3,IF(OR(INDEX($F$3:$F$70,$B215+1)<=1,INDEX($F$3:$F$70,$B215+1)=\"<1\"),V$116,IF(INDEX($F$3:$F$70,$B215+1)>=11,V$118,V$117)))","v":1049608.9531992539},833333.33333333337,833333.33333333337,833333.33333333337,833333.33333333337,833333.33333333337,833333.33333333337,833333.33333333337,833333.33333333337,833333.33333333337,{"$f":"IF($B$112=\"Connelly and Westminster\",AF$121/3,IF(OR(INDEX($F$3:$F$70,$B215+1)<=1,INDEX($F$3:$F$70,$B215+1)=\"<1\"),AF$116,IF(INDEX($F$3:$F$70,$B215+1)>=11,AF$118,AF$117)))","v":833333.33333333337},833333.33333333337,833333.33333333337,833333.33333333337,833333.33333333337,833333.33333333337,833333.33333333337,833333.33333333337,833333.33333333337,833333.33333333337,{"$f":"IF($B$112=\"Connelly and Westminster\",AP$121/3,IF(OR(INDEX($F$3:$F$70,$B215+1)<=1,INDEX($F$3:$F$70,$B215+1)=\"<1\"),AP$116,IF(INDEX($F$3:$F$70,$B215+1)>=11,AP$118,AP$117)))","v":833333.33333333337},833333.33333333337,833333.33333333337,833333.33333333337,833333.33333333337,833333.33333333337,833333.33333333337,833333.33333333337,833333.33333333337]
["Soldier Canyon",42,"water filter plant",1049608.9531992539,1049608.9531992539,1049608.9531992539,1049608.9531992539,1049608.9531992539,1049608.9531992539,1049608.9531992539,1049608.9531992539,1049608.9531992539,1049608.9531992539,1049608.9531992539,1049608.9531992539,1049608.9531992539,1049608.9531992539,1049608.9531992539,1049608.9531992539,1049608.9531992539,1049608.9531992539,1049608.9531992539,1049608.9531992539,1049608.9531992539,833333.33333333337,833333.33333333337,833333.33333333337,833333.33333333337,833333.33333333337,833333.33333333337,833333.33333333337,833333.33333333337,833333.33333333337,833333.33333333337,833333.33333333337,833333.33333333337,833333.33333333337,833333.33333333337,833333.33333333337,833333.33333333337,833333.33333333337,833333.33333333337,833333.33333333337,833333.33333333337,833333.33333333337,833333.33333333337,833333.33333333337,833333.33333333337,833333.33333333337,833333.33333333337,833333.33333333337,833333.33333333337]
["Greeley",43,"water filter plant",1049608.9531992539,1049608.9531992539,1049608.9531992539,1049608.9531992539,1049608.9531992539,1049608.9531992539,1049608.9531992539,1049608.9531992539,1049608.9531992539,1049608.9531992539,1049608.9531992539,1049608.9531992539,1049608.9531992539,1049608.9531992539,1049608.9531992539,1049608.9531992539,1049608.9531992539,1049608.9531992539,1049608.9531992539,1049608.9531992539,1049608.9531992539,833333.33333333337,833333.33333333337,833333.33333333337,833333.33333333337,833333.33333333337,833333.33333333337,833333.33333333337,833333.33333333337,833333.33333333337,833333.33333333337,833333.33333333337,833333.33333333337,833333.33333333337,833333.33333333337,833333.33333333337,833333.33333333337,833333.33333333337,833333.33333333337,833333.33333333337,833333.33333333337,833333.33333333337,833333.33333333337,833333.33333333337,833333.33333333337,833333.33333333337,833333.33333333337,833333.33333333337,833333.33333333337]
["Carter Lake Dam 1",44,"dam",{"$f":"IF(AND(INDEX($N$3:$N$70,$B218+1)=\"no\",OR(D$173=0,D$173=$B$152)),$B$151*INDEX($K$3:$K$70,$B218+1),IF(AND(INDEX($N$3:$N$70,$B218+1)=\"no\",(MOD(D$173-1,$B$152)=0),D$173<>1,D$173<>$B$152+1),$B$151*INDEX($K$3:$K$70,$B218+1),0))","v":125000},0,0,0,0,125000,0,0,0,0,{"$f":"IF(AND(INDEX($N$3:$N$70,$B218+1)=\"no\",OR(N$173=0,N$173=$B$152)),$B$151*INDEX($K$3:$K$70,$B218+1),IF(AND(INDEX($N$3:$N$70,$B218+1)=\"no\",(MOD(N$173-1,$B$152)=0),N$173<>1,N$173<>$B$152+1),$B$151*INDEX($K$3:$K$70,$B218+1),0))","v":125000},0,0,0,0,125000,0,0,0,0,{"$f":"IF(AND(INDEX($N$3:$N$70,$B218+1)=\"no\",OR(X$173=0,X$173=$B$152)),$B$151*INDEX($K$3:$K$70,$B218+1),IF(AND(INDEX($N$3:$N$70,$B218+1)=\"no\",(MOD(X$173-1,$B$152)=0),X$173<>1,X$173<>$B$152+1),$B$151*INDEX($K$3:$K$70,$B218+1),0))","v":125000},0,0,0,0,125000,0,0,0,0,{"$f":"IF(AND(INDEX($N$3:$N$70,$B218+1)=\"no\",OR(AH$173=0,AH$173=$B$152)),$B$151*INDEX($K$3:$K$70,$B218+1),IF(AND(INDEX($N$3:$N$70,$B218+1)=\"no\",(MOD(AH$173-1,$B$152)=0),AH$173<>1,AH$173<>$B$152+1),$B$151*INDEX($K$3:$K$70,$B218+1),0))","v":125000},0,0,0,0,125000,0,0,0,0,{"$f":"IF(AND(INDEX($N$3:$N$70,$B218+1)=\"no\",OR(AR$173=0,AR$173=$B$152)),$B$151*INDEX($K$3:$K$70,$B218+1),IF(AND(INDEX($N$3:$N$70,$B218+1)=\"no\",(MOD(AR$173-1,$B$152)=0),AR$173<>1,AR$173<>$B$152+1),$B$151*INDEX($K$3:$K$70,$B218+1),0))","v":125000},0,0,0,0,125000,0,0,0]
["Carter Lake Dam 2",45,"dam",0,0,0,0,0,0,0,0,0,0,0,0,0,0,0,0,0,0,0,0,0,0,0,0,0,0,0,0,0,0,0,0,0,0,0,0,0,0,0,0,0,0,0,0,0,0,0,0,0]
["Carter Lake Dam 3",46,"dam",0,0,0,0,0,0,0,0,0,0,0,0,0,0,0,0,0,0,0,0,0,0,0,0,0,0,0,0,0,0,0,0,0,0,0,0,0,0,0,0,0,0,0,0,0,0,0,0,0]
["Carter Lake Filter Plant 1",47,"water filter plant",{"$f":"IF(OR(INDEX($F$3:$F$70,$B221+1)<=1,INDEX($F$3:$F$70,$B221+1)=\"<1\"),B$116,IF(INDEX($F$3:$F$70,$B221+1)>=11,B$118,B$117))","v":32491.753047463433},32491.753047463433,32491.753047463433,32491.753047463433,32491.753047463433,32491.753047463433,32491.753047463433,32491.753047463433,32491.753047463433,32491.753047463433,{"$f":"IF(OR(INDEX($F$3:$F$70,$B221+1)<=1,INDEX($F$3:$F$70,$B221+1)=\"<1\"),L$116,IF(INDEX($F$3:$F$70,$B221+1)>=11,L$118,L$117))","v":32491.753047463433},32491.753047463433,32491.753047463433,32491.753047463433,32491.753047463433,32491.753047463433,32491.753047463433,32491.753047463433,32491.753047463433,32491.753047463433,{"$f":"IF(OR(INDEX($F$3:$F$70,$B221+1)<=1,INDEX($F$3:$F$70,$B221+1)=\"<1\"),V$116,IF(INDEX($F$3:$F$70,$B221+1)>=11,V$118,V$117))","v":32491.753047463433},17808,17808,17808,17808,17808,17808,17808,17808,17808,{"$f":"IF(OR(INDEX($F$3:$F$70,$B221+1)<=1,INDEX($F$3:$F$70,$B221+1)=\"<1\"),AF$116,IF(INDEX($F$3:$F$70,$B221+1)>=11,AF$118,AF$117))","v":17808},17808,17808,17808,17808,17808,17808,17808,17808,17808,{"$f":"IF(OR(INDEX($F$3:$F$70,$B221+1)<=1,INDEX($F$3:$F$70,$B221+1)=\"<1\"),AP$116,IF(INDEX($F$3:$F$70,$B221+1)>=11,AP$118,AP$117))","v":17808},17808,17808,17808,17808,17808,17808,17808,17808]
["Carter Lake Filter Plant 2",48,"water filter plant",32491.753047463433,32491.753047463433,32491.753047463433,32491.753047463433,32491.753047463433,32491.753047463433,32491.753047463433,32491.753047463433,32491.753047463433,32491.753047463433,32491.753047463433,32491.753047463433,32491.753047463433,32491.753047463433,32491.753047463433,32491.753047463433,32491.753047463433,32491.753047463433,32491.753047463433,32491.753047463433,32491.753047463433,17808,17808,17808,17808,17808,17808,17808,17808,17808,17808,17808,17808,17808,17808,17808,17808,17808,17808,17808,17808,17808,17808,17808,17808,17808,17808,17808,17808]
["St. Vrain Supply Canal",49,"canal"]
["Boulder Feeder Canal",50,"canal"]
["Southern Water Supply Project Pipeline",51,"pipeline"]
["West Longmont Pumping Plant",52,"pump plant",{"$f":"D188","v":8677.1565402964789},{"$f":"E188","v":8677.1565402964789},8677.1565402964789,8677.1565402964789,8677.1565402964789,8677.1565402964789,8677.1565402964789,8677.1565402964789,8677.1565402964789,8677.1565402964789,8677.1565402964789,8677.1565402964789,8677.1565402964789,8677.1565402964789,8677.1565402964789,8677.1565402964789,8677.1565402964789,8677.1565402964789,8677.1565402964789,8677.1565402964789,8677.1565402964789,3375,3375,3375,3375,3375,3375,3375,3375,3375,3375,3375,3375,3375,3375,3375,3375,3375,3375,3375,3375,3375,3375,3375,3375,3375,3375,3375,3375]
["Louisville/Superior Pumping Plant",53,"pump plant",{"$f":"D188","v":8677.1565402964789},{"$f":"E188","v":8677.1565402964789},8677.1565402964789,8677.1565402964789,8677.1565402964789,8677.1565402964789,8677.1565402964789,8677.1565402964789,8677.1565402964789,8677.1565402964789,8677.1565402964789,8677.1565402964789,8677.1565402964789,8677.1565402964789,8677.1565402964789,8677.1565402964789,8677.1565402964789,8677.1565402964789,8677.1565402964789,8677.1565402964789,8677.1565402964789,3375,3375,3375,3375,3375,3375,3375,3375,3375,3375,3375,3375,3375,3375,3375,3375,3375,3375,3375,3375,3375,3375,3375,3375,3375,3375,3375,3375]
["Town of Berthoud",54,"water filter plant",{"$f":"IF($B$112=\"Connelly and Westminster\",B$121/10,IF(OR(INDEX($F$3:$F$70,$B228+1)<=1,INDEX($F$3:$F$70,$B228+1)=\"<1\"),B$116,IF(INDEX($F$3:$F$70,$B228+1)>=11,B$118,B$117)))","v":314882.68595977616},{"$f":"IF($B$112=\"Connelly and Westminster\",C$121/10,IF(OR(INDEX($F$3:$F$70,$B228+1)<=1,INDEX($F$3:$F$70,$B228+1)=\"<1\"),C$116,IF(INDEX($F$3:$F$70,$B228+1)>=11,C$118,C$117)))","v":314882.68595977616},{"$f":"IF($B$112=\"Connelly and Westminster\",D$121/10,IF(OR(INDEX($F$3:$F$70,$B228+1)<=1,INDEX($F$3:$F$70,$B228+1)=\"<1\"),D$116,IF(INDEX($F$3:$F$70,$B228+1)>=11,D$118,D$117)))","v":314882.68595977616},{"$f":"IF($B$112=\"Connelly and Westminster\",E$121/10,IF(OR(INDEX($F$3:$F$70,$B228+1)<=1,INDEX($F$3:$F$70,$B228+1)=\"<1\"),E$116,IF(INDEX($F$3:$F$70,$B228+1)>=11,E$118,E$117)))","v":314882.68595977616},{"$f":"IF($B$112=\"Connelly and Westminster\",F$121/10,IF(OR(INDEX($F$3:$F$70,$B228+1)<=1,INDEX($F$3:$F$70,$B228+1)=\"<1\"),F$116,IF(INDEX($F$3:$F$70,$B228+1)>=11,F$118,F$117)))","v":314882.68595977616},{"$f":"IF($B$112=\"Connelly and Westminster\",G$121/10,IF(OR(INDEX($F$3:$F$70,$B228+1)<=1,INDEX($F$3:$F$70,$B228+1)=\"<1\"),G$116,IF(INDEX($F$3:$F$70,$B228+1)>=11,G$118,G$117)))","v":314882.68595977616},{"$f":"IF($B$112=\"Connelly and Westminster\",H$121/10,IF(OR(INDEX($F$3:$F$70,$B228+1)<=1,INDEX($F$3:$F$70,$B228+1)=\"<1\"),H$116,IF(INDEX($F$3:$F$70,$B228+1)>=11,H$118,H$117)))","v":314882.68595977616},{"$f":"IF($B$112=\"Connelly and Westminster\",I$121/10,IF(OR(INDEX($F$3:$F$70,$B228+1)<=1,INDEX($F$3:$F$70,$B228+1)=\"<1\"),I$116,IF(INDEX($F$3:$F$70,$B228+1)>=11,I$118,I$117)))","v":314882.68595977616},{"$f":"IF($B$112=\"Connelly and Westminster\",J$121/10,IF(OR(INDEX($F$3:$F$70,$B228+1)<=1,INDEX($F$3:$F$70,$B228+1)=\"<1\"),J$116,IF(INDEX($F$3:$F$70,$B228+1)>=11,J$118,J$117)))","v":314882.68595977616},{"$f":"IF($B$112=\"Connelly and Westminster\",K$121/10,IF(OR(INDEX($F$3:$F$70,$B228+1)<=1,INDEX($F$3:$F$70,$B228+1)=\"<1\"),K$116,IF(INDEX($F$3:$F$70,$B228+1)>=11,K$118,K$117)))","v":314882.68595977616},{"$f":"IF($B$112=\"Connelly and Westminster\",L$121/10,IF(OR(INDEX($F$3:$F$70,$B228+1)<=1,INDEX($F$3:$F$70,$B228+1)=\"<1\"),L$116,IF(INDEX($F$3:$F$70,$B228+1)>=11,L$118,L$117)))","v":314882.68595977616},{"$f":"IF($B$112=\"Connelly and Westminster\",M$121/10,IF(OR(INDEX($F$3:$F$70,$B228+1)<=1,INDEX($F$3:$F$70,$B228+1)=\"<1\"),M$116,IF(INDEX($F$3:$F$70,$B228+1)>=11,M$118,M$117)))","v":314882.68595977616},{"$f":"IF($B$112=\"Connelly and Westminster\",N$121/10,IF(OR(INDEX($F$3:$F$70,$B228+1)<=1,INDEX($F$3:$F$70,$B228+1)=\"<1\"),N$116,IF(INDEX($F$3:$F$70,$B228+1)>=11,N$118,N$117)))","v":314882.68595977616},{"$f":"IF($B$112=\"Connelly and Westminster\",O$121/10,IF(OR(INDEX($F$3:$F$70,$B228+1)<=1,INDEX($F$3:$F$70,$B228+1)=\"<1\"),O$116,IF(INDEX($F$3:$F$70,$B228+1)>=11,O$118,O$117)))","v":314882.68595977616},{"$f":"IF($B$112=\"Connelly and Westminster\",P$121/10,IF(OR(INDEX($F$3:$F$70,$B228+1)<=1,INDEX($F$3:$F$70,$B228+1)=\"<1\"),P$116,IF(INDEX($F$3:$F$70,$B228+1)>=11,P$118,P$117)))","v":314882.68595977616},{"$f":"IF($B$112=\"Connelly and Westminster\",Q$121/10,IF(OR(INDEX($F$3:$F$70,$B228+1)<=1,INDEX($F$3:$F$70,$B228+1)=\"<1\"),Q$116,IF(INDEX($F$3:$F$70,$B228+1)>=11,Q$118,Q$117)))","v":314882.68595977616},{"$f":"IF($B$112=\"Connelly and Westminster\",R$121/10,IF(OR(INDEX($F$3:$F$70,$B228+1)<=1,INDEX($F$3:$F$70,$B228+1)=\"<1\"),R$116,IF(INDEX($F$3:$F$70,$B228+1)>=11,R$118,R$117)))","v":314882.68595977616},{"$f":"IF($B$112=\"Connelly and Westminster\",S$121/10,IF(OR(INDEX($F$3:$F$70,$B228+1)<=1,INDEX($F$3:$F$70,$B228+1)=\"<1\"),S$116,IF(INDEX($F$3:$F$70,$B228+1)>=11,S$118,S$117)))","v":314882.68595977616},{"$f":"IF($B$112=\"Connelly and Westminster\",T$121/10,IF(OR(INDEX($F$3:$F$70,$B228+1)<=1,INDEX($F$3:$F$70,$B228+1)=\"<1\"),T$116,IF(INDEX($F$3:$F$70,$B228+1)>=11,T$118,T$117)))","v":314882.68595977616},{"$f":"IF($B$112=\"Connelly and Westminster\",U$121/10,IF(OR(INDEX($F$3:$F$70,$B228+1)<=1,INDEX($F$3:$F$70,$B228+1)=\"<1\"),U$116,IF(INDEX($F$3:$F$70,$B228+1)>=11,U$118,U$117)))","v":314882.68595977616},{"$f":"IF($B$112=\"Connelly and Westminster\",V$121/10,IF(OR(INDEX($F$3:$F$70,$B228+1)<=1,INDEX($F$3:$F$70,$B228+1)=\"<1\"),V$116,IF(INDEX($F$3:$F$70,$B228+1)>=11,V$118,V$117)))","v":314882.68595977616},{"$f":"IF($B$112=\"Connelly and Westminster\",W$121/10,IF(OR(INDEX($F$3:$F$70,$B228+1)<=1,INDEX($F$3:$F$70,$B228+1)=\"<1\"),W$116,IF(INDEX($F$3:$F$70,$B228+1)>=11,W$118,W$117)))","v":250000},{"$f":"IF($B$112=\"Connelly and Westminster\",X$121/10,IF(OR(INDEX($F$3:$F$70,$B228+1)<=1,INDEX($F$3:$F$70,$B228+1)=\"<1\"),X$116,IF(INDEX($F$3:$F$70,$B228+1)>=11,X$118,X$117)))","v":250000},{"$f":"IF($B$112=\"Connelly and Westminster\",Y$121/10,IF(OR(INDEX($F$3:$F$70,$B228+1)<=1,INDEX($F$3:$F$70,$B228+1)=\"<1\"),Y$116,IF(INDEX($F$3:$F$70,$B228+1)>=11,Y$118,Y$117)))","v":250000},{"$f":"IF($B$112=\"Connelly and Westminster\",Z$121/10,IF(OR(INDEX($F$3:$F$70,$B228+1)<=1,INDEX($F$3:$F$70,$B228+1)=\"<1\"),Z$116,IF(INDEX($F$3:$F$70,$B228+1)>=11,Z$118,Z$117)))","v":250000},{"$f":"IF($B$112=\"Connelly and Westminster\",AA$121/10,IF(OR(INDEX($F$3:$F$70,$B228+1)<=1,INDEX($F$3:$F$70,$B228+1)=\"<1\"),AA$116,IF(INDEX($F$3:$F$70,$B228+1)>=11,AA$118,AA$117)))","v":250000},{"$f":"IF($B$112=\"Connelly and Westminster\",AB$121/10,IF(OR(INDEX($F$3:$F$70,$B228+1)<=1,INDEX($F$3:$F$70,$B228+1)=\"<1\"),AB$116,IF(INDEX($F$3:$F$70,$B228+1)>=11,AB$118,AB$117)))","v":250000},{"$f":"IF($B$112=\"Connelly and Westminster\",AC$121/10,IF(OR(INDEX($F$3:$F$70,$B228+1)<=1,INDEX($F$3:$F$70,$B228+1)=\"<1\"),AC$116,IF(INDEX($F$3:$F$70,$B228+1)>=11,AC$118,AC$117)))","v":250000},{"$f":"IF($B$112=\"Connelly and Westminster\",AD$121/10,IF(OR(INDEX($F$3:$F$70,$B228+1)<=1,INDEX($F$3:$F$70,$B228+1)=\"<1\"),AD$116,IF(INDEX($F$3:$F$70,$B228+1)>=11,AD$118,AD$117)))","v":250000},{"$f":"IF($B$112=\"Connelly and Westminster\",AE$121/10,IF(OR(INDEX($F$3:$F$70,$B228+1)<=1,INDEX($F$3:$F$70,$B228+1)=\"<1\"),AE$116,IF(INDEX($F$3:$F$70,$B228+1)>=11,AE$118,AE$117)))","v":250000},{"$f":"IF($B$112=\"Connelly and Westminster\",AF$121/10,IF(OR(INDEX($F$3:$F$70,$B228+1)<=1,INDEX($F$3:$F$70,$B228+1)=\"<1\"),AF$116,IF(INDEX($F$3:$F$70,$B228+1)>=11,AF$118,AF$117)))","v":250000},{"$f":"IF($B$112=\"Connelly and Westminster\",AG$121/10,IF(OR(INDEX($F$3:$F$70,$B228+1)<=1,INDEX($F$3:$F$70,$B228+1)=\"<1\"),AG$116,IF(INDEX($F$3:$F$70,$B228+1)>=11,AG$118,AG$117)))","v":250000},{"$f":"IF($B$112=\"Connelly and Westminster\",AH$121/10,IF(OR(INDEX($F$3:$F$70,$B228+1)<=1,INDEX($F$3:$F$70,$B228+1)=\"<1\"),AH$116,IF(INDEX($F$3:$F$70,$B228+1)>=11,AH$118,AH$117)))","v":250000},{"$f":"IF($B$112=\"Connelly and Westminster\",AI$121/10,IF(OR(INDEX($F$3:$F$70,$B228+1)<=1,INDEX($F$3:$F$70,$B228+1)=\"<1\"),AI$116,IF(INDEX($F$3:$F$70,$B228+1)>=11,AI$118,AI$117)))","v":250000},{"$f":"IF($B$112=\"Connelly and Westminster\",AJ$121/10,IF(OR(INDEX($F$3:$F$70,$B228+1)<=1,INDEX($F$3:$F$70,$B228+1)=\"<1\"),AJ$116,IF(INDEX($F$3:$F$70,$B228+1)>=11,AJ$118,AJ$117)))","v":250000},{"$f":"IF($B$112=\"Connelly and Westminster\",AK$121/10,IF(OR(INDEX($F$3:$F$70,$B228+1)<=1,INDEX($F$3:$F$70,$B228+1)=\"<1\"),AK$116,IF(INDEX($F$3:$F$70,$B228+1)>=11,AK$118,AK$117)))","v":250000},{"$f":"IF($B$112=\"Connelly and Westminster\",AL$121/10,IF(OR(INDEX($F$3:$F$70,$B228+1)<=1,INDEX($F$3:$F$70,$B228+1)=\"<1\"),AL$116,IF(INDEX($F$3:$F$70,$B228+1)>=11,AL$118,AL$117)))","v":250000},{"$f":"IF($B$112=\"Connelly and Westminster\",AM$121/10,IF(OR(INDEX($F$3:$F$70,$B228+1)<=1,INDEX($F$3:$F$70,$B228+1)=\"<1\"),AM$116,IF(INDEX($F$3:$F$70,$B228+1)>=11,AM$118,AM$117)))","v":250000},{"$f":"IF($B$112=\"Connelly and Westminster\",AN$121/10,IF(OR(INDEX($F$3:$F$70,$B228+1)<=1,INDEX($F$3:$F$70,$B228+1)=\"<1\"),AN$116,IF(INDEX($F$3:$F$70,$B228+1)>=11,AN$118,AN$117)))","v":250000},{"$f":"IF($B$112=\"Connelly and Westminster\",AO$121/10,IF(OR(INDEX($F$3:$F$70,$B228+1)<=1,INDEX($F$3:$F$70,$B228+1)=\"<1\"),AO$116,IF(INDEX($F$3:$F$70,$B228+1)>=11,AO$118,AO$117)))","v":250000},{"$f":"IF($B$112=\"Connelly and Westminster\",AP$121/10,IF(OR(INDEX($F$3:$F$70,$B228+1)<=1,INDEX($F$3:$F$70,$B228+1)=\"<1\"),AP$116,IF(INDEX($F$3:$F$70,$B228+1)>=11,AP$118,AP$117)))","v":250000},{"$f":"IF($B$112=\"Connelly and Westminster\",AQ$121/10,IF(OR(INDEX($F$3:$F$70,$B228+1)<=1,INDEX($F$3:$F$70,$B228+1)=\"<1\"),AQ$116,IF(INDEX($F$3:$F$70,$B228+1)>=11,AQ$118,AQ$117)))","v":250000},{"$f":"IF($B$112=\"Connelly and Westminster\",AR$121/10,IF(OR(INDEX($F$3:$F$70,$B228+1)<=1,INDEX($F$3:$F$70,$B228+1)=\"<1\"),AR$116,IF(INDEX($F$3:$F$70,$B228+1)>=11,AR$118,AR$117)))","v":250000},{"$f":"IF($B$112=\"Connelly and Westminster\",AS$121/10,IF(OR(INDEX($F$3:$F$70,$B228+1)<=1,INDEX($F$3:$F$70,$B228+1)=\"<1\"),AS$116,IF(INDEX($F$3:$F$70,$B228+1)>=11,AS$118,AS$117)))","v":250000},{"$f":"IF($B$112=\"Connelly and Westminster\",AT$121/10,IF(OR(INDEX($F$3:$F$70,$B228+1)<=1,INDEX($F$3:$F$70,$B228+1)=\"<1\"),AT$116,IF(INDEX($F$3:$F$70,$B228+1)>=11,AT$118,AT$117)))","v":250000},{"$f":"IF($B$112=\"Connelly and Westminster\",AU$121/10,IF(OR(INDEX($F$3:$F$70,$B228+1)<=1,INDEX($F$3:$F$70,$B228+1)=\"<1\"),AU$116,IF(INDEX($F$3:$F$70,$B228+1)>=11,AU$118,AU$117)))","v":250000},{"$f":"IF($B$112=\"Connelly and Westminster\",AV$121/10,IF(OR(INDEX($F$3:$F$70,$B228+1)<=1,INDEX($F$3:$F$70,$B228+1)=\"<1\"),AV$116,IF(INDEX($F$3:$F$70,$B228+1)>=11,AV$118,AV$117)))","v":250000},{"$f":"IF($B$112=\"Connelly and Westminster\",AW$121/10,IF(OR(INDEX($F$3:$F$70,$B228+1)<=1,INDEX($F$3:$F$70,$B228+1)=\"<1\"),AW$116,IF(INDEX($F$3:$F$70,$B228+1)>=11,AW$118,AW$117)))","v":250000},{"$f":"IF($B$112=\"Connelly and Westminster\",AX$121/10,IF(OR(INDEX($F$3:$F$70,$B228+1)<=1,INDEX($F$3:$F$70,$B228+1)=\"<1\"),AX$116,IF(INDEX($F$3:$F$70,$B228+1)>=11,AX$118,AX$117)))","v":250000}]
["City of Longmont 1",55,"water filter plant",314882.68595977616,314882.68595977616,314882.68595977616,314882.68595977616,314882.68595977616,314882.68595977616,314882.68595977616,314882.68595977616,314882.68595977616,314882.68595977616,314882.68595977616,314882.68595977616,314882.68595977616,314882.68595977616,314882.68595977616,314882.68595977616,314882.68595977616,314882.68595977616,314882.68595977616,314882.68595977616,314882.68595977616,250000,250000,250000,250000,250000,250000,250000,250000,250000,250000,250000,250000,250000,250000,250000,250000,250000,250000,250000,250000,250000,250000,250000,250000,250000,250000,250000,250000]
["City of Longmont 2",56,"water filter plant",314882.68595977616,314882.68595977616,314882.68595977616,314882.68595977616,314882.68595977616,314882.68595977616,314882.68595977616,314882.68595977616,314882.68595977616,314882.68595977616,314882.68595977616,314882.68595977616,314882.68595977616,314882.68595977616,314882.68595977616,314882.68595977616,314882.68595977616,314882.68595977616,314882.68595977616,314882.68595977616,314882.68595977616,250000,250000,250000,250000,250000,250000,250000,250000,250000,250000,250000,250000,250000,250000,250000,250000,250000,250000,250000,250000,250000,250000,250000,250000,250000,250000,250000,250000]
["Louisville 1",57,"water filter plant",314882.68595977616,314882.68595977616,314882.68595977616,314882.68595977616,314882.68595977616,314882.68595977616,314882.68595977616,314882.68595977616,314882.68595977616,314882.68595977616,314882.68595977616,314882.68595977616,314882.68595977616,314882.68595977616,314882.68595977616,314882.68595977616,314882.68595977616,314882.68595977616,314882.68595977616,314882.68595977616,314882.68595977616,250000,250000,250000,250000,250000,250000,250000,250000,250000,250000,250000,250000,250000,250000,250000,250000,250000,250000,250000,250000,250000,250000,250000,250000,250000,250000,250000,250000]
["Louisville 2",58,"water filter plant",314882.68595977616,314882.68595977616,314882.68595977616,314882.68595977616,314882.68595977616,314882.68595977616,314882.68595977616,314882.68595977616,314882.68595977616,314882.68595977616,314882.68595977616,314882.68595977616,314882.68595977616,314882.68595977616,314882.68595977616,314882.68595977616,314882.68595977616,314882.68595977616,314882.68595977616,314882.68595977616,314882.68595977616,250000,250000,250000,250000,250000,250000,250000,250000,250000,250000,250000,250000,250000,250000,250000,250000,250000,250000,250000,250000,250000,250000,250000,250000,250000,250000,250000,250000]
["Superior",59,"water filter plant",314882.68595977616,314882.68595977616,314882.68595977616,314882.68595977616,314882.68595977616,314882.68595977616,314882.68595977616,314882.68595977616,314882.68595977616,314882.68595977616,314882.68595977616,314882.68595977616,314882.68595977616,314882.68595977616,314882.68595977616,314882.68595977616,314882.68595977616,314882.68595977616,314882.68595977616,314882.68595977616,314882.68595977616,250000,250000,250000,250000,250000,250000,250000,250000,250000,250000,250000,250000,250000,250000,250000,250000,250000,250000,250000,250000,250000,250000,250000,250000,250000,250000,250000,250000]
["Town of Erie",60,"water filter plant",314882.68595977616,314882.68595977616,314882.68595977616,314882.68595977616,314882.68595977616,314882.68595977616,314882.68595977616,314882.68595977616,314882.68595977616,314882.68595977616,314882.68595977616,314882.68595977616,314882.68595977616,314882.68595977616,314882.68595977616,314882.68595977616,314882.68595977616,314882.68595977616,314882.68595977616,314882.68595977616,314882.68595977616,250000,250000,250000,250000,250000,250000,250000,250000,250000,250000,250000,250000,250000,250000,250000,250000,250000,250000,250000,250000,250000,250000,250000,250000,250000,250000,250000,250000]
["Broomfield ",61,"water filter plant",314882.68595977616,314882.68595977616,314882.68595977616,314882.68595977616,314882.68595977616,314882.68595977616,314882.68595977616,314882.68595977616,314882.68595977616,314882.68595977616,314882.68595977616,314882.68595977616,314882.68595977616,314882.68595977616,314882.68595977616,314882.68595977616,314882.68595977616,314882.68595977616,314882.68595977616,314882.68595977616,314882.68595977616,250000,250000,250000,250000,250000,250000,250000,250000,250000,250000,250000,250000,250000,250000,250000,250000,250000,250000,250000,250000,250000,250000,250000,250000,250000,250000,250000,250000]
["City of Fort Lupton",62,"water filter plant",314882.68595977616,314882.68595977616,314882.68595977616,314882.68595977616,314882.68595977616,314882.68595977616,314882.68595977616,314882.68595977616,314882.68595977616,314882.68595977616,314882.68595977616,314882.68595977616,314882.68595977616,314882.68595977616,314882.68595977616,314882.68595977616,314882.68595977616,314882.68595977616,314882.68595977616,314882.68595977616,314882.68595977616,250000,250000,250000,250000,250000,250000,250000,250000,250000,250000,250000,250000,250000,250000,250000,250000,250000,250000,250000,250000,250000,250000,250000,250000,250000,250000,250000,250000]
["City of Fort Morgan",63,"water filter plant",314882.68595977616,314882.68595977616,314882.68595977616,314882.68595977616,314882.68595977616,314882.68595977616,314882.68595977616,314882.68595977616,314882.68595977616,314882.68595977616,314882.68595977616,314882.68595977616,314882.68595977616,314882.68595977616,314882.68595977616,314882.68595977616,314882.68595977616,314882.68595977616,314882.68595977616,314882.68595977616,314882.68595977616,250000,250000,250000,250000,250000,250000,250000,250000,250000,250000,250000,250000,250000,250000,250000,250000,250000,250000,250000,250000,250000,250000,250000,250000,250000,250000,250000,250000]
["Boulder Creek Supply Canal",64,"canal"]
["South Platte Supply Canal",65,"canal"]
["City of Boulder",66,"water filter plant",{"$f":"IF($B$112=\"Connelly and Westminster\",B$121/2,IF(OR(INDEX($F$3:$F$70,$B240+1)<=1,INDEX($F$3:$F$70,$B240+1)=\"<1\"),B$116,IF(INDEX($F$3:$F$70,$B240+1)>=11,B$118,B$117)))","v":1574413.4297988808},1574413.4297988808,1574413.4297988808,1574413.4297988808,1574413.4297988808,1574413.4297988808,1574413.4297988808,1574413.4297988808,1574413.4297988808,1574413.4297988808,{"$f":"IF($B$112=\"Connelly and Westminster\",L$121/2,IF(OR(INDEX($F$3:$F$70,$B240+1)<=1,INDEX($F$3:$F$70,$B240+1)=\"<1\"),L$116,IF(INDEX($F$3:$F$70,$B240+1)>=11,L$118,L$117)))","v":1574413.4297988808},1574413.4297988808,1574413.4297988808,1574413.4297988808,1574413.4297988808,1574413.4297988808,1574413.4297988808,1574413.4297988808,1574413.4297988808,1574413.4297988808,{"$f":"IF($B$112=\"Connelly and Westminster\",V$121/2,IF(OR(INDEX($F$3:$F$70,$B240+1)<=1,INDEX($F$3:$F$70,$B240+1)=\"<1\"),V$116,IF(INDEX($F$3:$F$70,$B240+1)>=11,V$118,V$117)))","v":1574413.4297988808},1250000,1250000,1250000,1250000,1250000,1250000,1250000,1250000,1250000,{"$f":"IF($B$112=\"Connelly and Westminster\",AF$121/2,IF(OR(INDEX($F$3:$F$70,$B240+1)<=1,INDEX($F$3:$F$70,$B240+1)=\"<1\"),AF$116,IF(INDEX($F$3:$F$70,$B240+1)>=11,AF$118,AF$117)))","v":1250000},1250000,1250000,1250000,1250000,1250000,1250000,1250000,1250000,1250000,{"$f":"IF($B$112=\"Connelly and Westminster\",AP$121/2,IF(OR(INDEX($F$3:$F$70,$B240+1)<=1,INDEX($F$3:$F$70,$B240+1)=\"<1\"),AP$116,IF(INDEX($F$3:$F$70,$B240+1)>=11,AP$118,AP$117)))","v":1250000},1250000,1250000,1250000,1250000,1250000,1250000,1250000,1250000]
["City of Laffeyette",67,"water filter plant",1574413.4297988808,1574413.4297988808,1574413.4297988808,1574413.4297988808,1574413.4297988808,1574413.4297988808,1574413.4297988808,1574413.4297988808,1574413.4297988808,1574413.4297988808,1574413.4297988808,1574413.4297988808,1574413.4297988808,1574413.4297988808,1574413.4297988808,1574413.4297988808,1574413.4297988808,1574413.4297988808,1574413.4297988808,1574413.4297988808,1574413.4297988808,1250000,1250000,1250000,1250000,1250000,1250000,1250000,1250000,1250000,1250000,1250000,1250000,1250000,1250000,1250000,1250000,1250000,1250000,1250000,1250000,1250000,1250000,1250000,1250000,1250000,1250000,1250000,1250000]

{"sheet":"InvasionRecordTestSheet","index":4,"n_rows":120,"n_cols":51,"rows_kept":120,"cut":false,"hidden":true,"merged":[]}
["InvasionRecord(no inspections)(Run999)","Year"]
["WaterBody",0,1,2,3,4,5,6,7,8,9,10,11,12,13,14,15,16,17,18,19,20,21,22,23,24,25,26,27,28,29,30,31,32,33,34,35,36,37,38,39,40,41,42,43,44,45,46,47,48,49]
[0,false,false,false,false,false,false,false,false,false,false,false,false,false,false,false,false,false,false,false,false,false,false,false,false,false,false,false,false,false,false,false,false,false,false,false,false,false,false,false,false,false,false,false,false,false,false,false,false,false,false]
[1,true,true,true,true,true,true,true,true,true,true,true,true,true,true,true,true,true,true,true,true,true,true,true,true,true,true,true,true,true,true,true,true,true,true,true,true,true,true,true,true,true,true,true,true,true,true,true,true,true,true]
[2,true,true,true,true,true,true,true,true,true,true,true,true,true,true,true,true,true,true,true,true,true,true,true,true,true,true,true,true,true,true,true,true,true,true,true,true,true,true,true,true,true,true,true,true,true,true,true,true,true,true]
[3,true,true,true,true,true,true,true,true,true,true,true,true,true,true,true,true,true,true,true,true,true,true,true,true,true,true,true,true,true,true,true,true,true,true,true,true,true,true,true,true,true,true,true,true,true,true,true,true,true,true]
[4,true,true,true,true,true,true,true,true,true,true,true,true,true,true,true,true,true,true,true,true,true,true,true,true,true,true,true,true,true,true,true,true,true,true,true,true,true,true,true,true,true,true,true,true,true,true,true,true,true,true]
[5,false,false,false,false,false,false,false,false,false,false,false,false,false,false,false,false,false,false,false,false,false,false,false,false,false,false,false,false,false,false,false,false,false,false,false,false,false,false,false,false,false,false,false,false,false,false,false,false,false,false]
[6,false,false,false,false,false,false,false,false,false,false,false,false,false,false,false,false,false,false,false,false,false,false,false,false,false,false,false,false,false,false,false,false,false,false,false,false,false,false,false,false,false,false,false,false,false,false,false,false,false,false]
[7,false,false,false,false,false,false,false,false,false,false,false,false,false,false,false,false,false,false,false,false,false,false,false,false,false,false,false,false,false,false,false,false,false,false,false,false,false,false,false,false,false,false,false,false,false,false,false,false,false,false]
[8,false,false,false,false,false,false,false,false,false,false,false,false,false,false,false,false,false,false,false,false,false,false,false,false,false,false,false,false,false,false,false,false,false,false,false,false,false,false,false,false,false,false,false,false,false,false,false,false,false,false]
[9,false,false,false,false,false,false,false,false,false,false,false,false,false,false,false,false,false,false,false,false,false,false,false,false,false,false,false,false,false,false,false,false,false,false,false,false,false,false,false,false,false,false,false,false,false,false,false,false,false,false]
[10,false,false,false,false,false,false,false,false,false,false,false,false,false,false,false,false,false,true,true,true,true,true,true,true,true,true,true,true,true,true,true,true,true,true,true,true,true,true,true,true,true,true,true,true,true,true,true,true,true,true]
[11,false,false,false,false,false,false,false,false,false,false,false,false,false,false,false,false,false,false,false,false,false,false,false,false,false,false,false,false,false,false,false,false,false,false,false,false,false,false,false,false,false,false,false,false,false,false,false,false,false,false]
[12,false,false,false,false,false,false,false,false,false,false,false,false,false,false,false,false,false,false,false,false,false,false,false,false,false,false,false,false,false,false,false,false,false,false,false,false,false,false,false,false,false,false,false,false,false,false,false,false,false,false]
["InvasionRecord (with inspections)(Run999)"]
["WaterBody",0,1,2,3,4,5,6,7,8,9,10,11,12,13,14,15,16,17,18,19,20,21,22,23,24,25,26,27,28,29,30,31,32,33,34,35,36,37,38,39,40,41,42,43,44,45,46,47,48,49]
[0,false,false,false,false,false,false,false,false,false,false,false,false,false,false,false,false,false,false,false,false,false,false,false,false,false,false,false,false,false,false,false,false,false,false,false,false,false,false,false,false,false,false,false,false,false,false,false,false,false,false]
[1,true,true,true,true,true,true,true,true,true,true,true,true,true,true,true,true,true,true,true,true,true,true,true,true,true,true,true,true,true,true,true,true,true,true,true,true,true,true,true,true,true,true,true,true,true,true,true,true,true,true]
[2,true,true,true,true,true,true,true,true,true,true,true,true,true,true,true,true,true,true,true,true,true,true,true,true,true,true,true,true,true,true,true,true,true,true,true,true,true,true,true,true,true,true,true,true,true,true,true,true,true,true]
[3,true,true,true,true,true,true,true,true,true,true,true,true,true,true,true,true,true,true,true,true,true,true,true,true,true,true,true,true,true,true,true,true,true,true,true,true,true,true,true,true,true,true,true,true,true,true,true,true,true,true]
[4,true,true,true,true,true,true,true,true,true,true,true,true,true,true,true,true,true,true,true,true,true,true,true,true,true,true,true,true,true,true,true,true,true,true,true,true,true,true,true,true,true,true,true,true,true,true,true,true,true,true]
[5,false,false,false,false,false,false,false,false,false,false,false,false,false,false,false,false,false,false,false,false,false,false,false,false,false,false,false,false,false,false,false,false,false,false,false,false,false,false,false,false,false,false,false,false,false,false,false,false,false,false]
[6,false,false,false,false,false,false,false,false,false,false,false,false,false,false,false,false,false,false,false,false,false,false,false,false,false,false,false,false,false,false,false,false,false,false,false,false,false,false,false,false,false,false,false,false,false,false,false,false,false,false]
[7,false,false,false,false,false,false,false,false,false,false,false,false,false,false,false,false,false,false,false,false,false,false,false,false,false,false,false,false,false,false,false,false,false,false,false,false,false,false,false,false,false,false,false,false,false,false,false,false,false,false]
[8,false,false,false,false,false,false,false,false,false,false,false,false,false,false,false,false,false,false,false,false,false,false,false,false,false,false,false,false,false,false,false,false,false,false,false,false,false,false,false,false,false,false,false,false,false,false,false,false,false,false]
[9,false,false,false,false,false,false,false,false,false,false,false,false,false,false,false,false,false,false,false,false,false,false,false,false,false,false,false,false,false,false,false,false,false,false,false,false,false,false,false,false,false,false,false,false,false,false,false,false,false,false]
[10,false,false,false,false,false,false,false,false,false,false,false,false,false,false,false,false,false,false,false,false,false,false,false,false,false,false,false,false,false,false,false,false,false,false,false,false,false,false,false,false,false,false,false,false,false,false,false,false,false,false]
[11,false,false,false,false,false,false,false,false,false,false,false,false,false,false,false,false,false,false,false,false,false,false,false,false,false,false,false,false,false,false,false,false,false,false,false,false,false,false,false,false,false,false,false,false,false,false,false,false,false,false]
[12,false,false,false,false,false,false,false,false,false,false,false,false,false,false,false,false,false,false,false,false,false,false,false,false,false,false,false,false,false,false,false,false,false,false,false,false,false,false,false,false,false,false,false,false,false,false,false,false,false,false]
["JointProb_Boats(no inspection)(Run999)"]
["WaterBody",0,1,2,3,4,5,6,7,8,9,10,11,12,13,14,15,16,17,18,19,20,21,22,23,24,25,26,27,28,29,30,31,32,33,34,35,36,37,38,39,40,41,42,43,44,45,46,47,48,49]
[0,0,0,0,0,0,0,0,0,0,0,0,0,0,0,0,0,0,0,0,0,0,0,0,0,0,0,0,0,0,0,0,0,0,0,0,0,0,0,0,0,0,0,0,0,0,0,0,0,0,0]
[1,0,0,0,0,0,0,0,0,0,0,0,0,0,0,0,0,0,0,0,0,0,0,0,0,0,0,0,0,0,0,0,0,0,0,0,0,0,0,0,0,0,0,0,0,0,0,0,0,0,0]
[2,4.4083032568864587E-6,3.318022574686941E-5,9.526069334228504E-5,1.5714814149342171E-4,2.1884317033277201E-4,2.8034637812690999E-4,3.4165836128229098E-4,4.0277971435103143E-4,4.637110300366798E-4,5.2445289919996081E-4,5.8500591086450675E-4,6.4537065222256549E-4,7.055477086407014E-4,7.6553766366546541E-4,8.2534109902905779E-4,8.8495859465496766E-4,9.4439072866359553E-4,1.003638077377862E-3,1.0627012153287963E-3,1.1215807152611013E-3,1.1802771481387176E-3,1.2387910831503524E-3,1.2971230877150042E-3,1.3552737274874604E-3,1.4132435663637866E-3,1.4710331664867949E-3,1.5286430882514891E-3,1.5860738903105043E-3,1.6433261295795254E-3,1.7004003612426843E-3,1.7572971387579427E-3,1.8140170138624657E-3,1.8705605365779609E-3,1.926928255216025E-3,1.9831207163834509E-3,2.0391384649875309E-3,2.0949820442413424E-3,2.1506519956690172E-3,2.2061488591109879E-3,2.261473172729225E-3,2.316625473012457E-3,2.3716062947813721E-3,2.4264161711938016E-3,2.4810556337498935E-3,2.5355252122972651E-3,2.5898254350361417E-3,2.6439568285244763E-3,2.6979199176830628E-3,2.7517152258006152E-3,2.8053432745388496E-3]
[3,2.4088558094437216E-7,1.8956362990274479E-6,5.4129099451949441E-6,8.929564972033343E-6,1.2445601488346725E-5,1.5961019602916958E-5,1.9475819424510378E-5,2.2990001061871103E-5,2.6503564623727716E-5,3.0016510218786598E-5,3.352883795573414E-5,3.7040547943241186E-5,4.0551640289958611E-5,4.4062115104515077E-5,4.7571972495523694E-5,5.1081212571577603E-5,5.4589835441249955E-5,5.8097841213093916E-5,6.1605229995647111E-5,6.5112001897424949E-5,6.8618157026922863E-5,7.2123695492620771E-5,7.5628617402978557E-5,7.9132922866433921E-5,8.2636611991409033E-5,8.6139684886306085E-5,8.9642141659507238E-5,9.3143982419376941E-5,9.6645207274257403E-5,1.0014581633247755E-4,1.0364580970234182E-4,1.0714518749213697E-4,1.1064394981013415E-4,1.1414209676458009E-4,1.1763962846370602E-4,1.2113654501572535E-4,1.2463284652882711E-4,1.2812853311118701E-4,1.3162360487095848E-4,1.351180619162773E-4,1.3861190435525696E-4,1.4210513229599765E-4,1.4559774584657737E-4,1.4908974511505414E-4,1.5258113020946818E-4,1.5607190123783976E-4,1.5956205830817361E-4,1.6305160152845001E-4,1.6654053100663592E-4,1.7002884685067389E-4]
[4,9.4978758430119831E-7,7.2288289440480828E-6,2.076648390039182E-5,3.4294972138417814E-5,4.781429986516317E-5,6.1324473283461695E-5,7.4825498591946094E-5,8.8317381985054673E-5,1.018001296530291E-4,1.1527374778192101E-4,1.2873824255358991E-4,1.4219362014571414E-4,1.5563988673178653E-4,1.6907704848111881E-4,1.8250511155884608E-4,1.9592408212592893E-4,2.093339663391558E-4,2.2273477035114731E-4,2.3612650031035854E-4,2.4950916236107903E-4,2.6288276264343938E-4,2.7624730729341128E-4,2.8960280244281215E-4,3.0294925421930685E-4,3.1628666874641278E-4,3.2961505214350149E-4,3.4293441052579698E-4,3.5624475000438637E-4,3.6954607668621798E-4,3.8283839667410116E-4,3.9612171606671963E-4,4.0939604095862058E-4,4.2266137744022991E-4,4.3591773159784575E-4,4.4916510951364952E-4,4.6240351726569931E-4,4.756329609279386E-4,4.8885344657020099E-4,5.0206498025820554E-4,5.1526756805356786E-4,5.2846121601379803E-4,5.416459301923049E-4,5.5482171663839624E-4,5.6798858139728737E-4,5.8114653051009489E-4,5.9429557001384971E-4,6.0743570594149257E-4,6.2056694432188091E-4,6.3368929117978644E-4,6.4680275253590439E-4]
[5,0,0,0,0,0,0,0,0,0,0,0,0,0,0,0,0,0,0,0,0,0,0,0,0,0,0,0,0,0,0,0,0,0,0,0,0,0,0,0,0,0,0,0,0,0,0,0,0,0,0]
[6,0,0,0,0,0,0,0,0,0,0,0,0,0,0,0,0,0,0,0,0,0,0,0,0,0,0,0,0,0,0,0,0,0,0,0,0,0,0,0,0,0,0,0,0,0,0,0,0,0,0]
[7,2.6864473837151515E-7,1.9338911299571215E-6,5.7531490316731215E-6,9.5723485860066404E-6,1.3391489793845857E-5,1.7210572656106704E-5,2.1029597173677361E-5,2.4848563347418251E-5,2.8667471178245307E-5,3.2486320667046709E-5,3.6305111814710633E-5,4.012384462212526E-5,4.3942519090206522E-5,4.7761135219814843E-5,5.1579693011866157E-5,5.5398192467220886E-5,5.9216633586794964E-5,6.3035016371476571E-5,6.6853340822153884E-5,7.0671606939715081E-5,7.4489814725048342E-5,7.8307964179041845E-5,8.2126055302611523E-5,8.5944088096617799E-5,8.9762062561976608E-5,9.3579978699548372E-5,9.7397836510249025E-5,1.0121563599496675E-4,1.0503337715458971E-4,1.088510599900061E-4,1.126686845021041E-4,1.1648625069179963E-4,1.2030375855995312E-4,1.2412120810748051E-4,1.2793859933524221E-4,1.3175593224415416E-4,1.3557320683510454E-4,1.3939042310898153E-4,1.4320758106667331E-4,1.4702468070906805E-4,1.5084172203705393E-4,1.5465870505151913E-4,1.5847562975337959E-4,1.6229249614349572E-4,1.6610930422278347E-4,1.6992605399213101E-4,1.7374274545239876E-4,1.7755937860450266E-4,1.8137595344933088E-4,1.8519246998777161E-4]
[8,0,0,0,0,0,0,0,0,0,0,0,0,0,0,0,0,0,0,0,0,0,0,0,0,0,0,0,0,0,0,0,0,0,0,0,0,0,0,0,0,0,0,0,0,0,0,0,0,0,0]
[9,0,0,0,0,0,0,0,0,0,0,0,0,0,0,0,0,0,0,0,0,0,0,0,0,0,0,0,0,0,0,0,0,0,0,0,0,0,0,0,0,0,0,0,0,0,0,0,0,0,0]
[10,1.4456807179884733E-4,1.0685612514527221E-3,2.9186688924009597E-3,4.5879715597516293E-3,6.0941387327037161E-3,7.4531131099979508E-3,8.6792793625278791E-3,9.7856163943097225E-3,1.0783834723485266E-2,1.1684500437528269E-2,1.2497147034713664E-2,1.3230376335685445E-2,1.389194953326682E-2,1.4488869344269966E-2,1.5027454132877892E-2,1.5513404790190408E-2,1.5951865077850659E-2,1.6347476074486222E-2,1.6704425301277442E-2,1.7026491046644533E-2,1.7317082359227846E-2,1.7579275132484886E-2,1.7815844662857572E-2,1.8029295026136229E-2,1.8221885582967515E-2,1.8395654894065673E-2,1.8552442298268364E-2,1.8693907381839611E-2,1.8821547545101371E-2,1.8936713852335654E-2,1.9040625332727452E-2,1.9134381883723309E-2,1.9218975913386779E-2,1.9295302844984548E-2,1.93641705949937E-2,1.942630812485429E-2,1.9482373156987066E-2,1.9532959136750048E-2,1.9578601514025788E-2,1.9619783410929674E-2,1.9656940735631595E-2,1.9690466796420544E-2,1.9720716464851767E-2,1.9748009932043131E-2,1.9772636097880939E-2,1.9794855629009737E-2,1.9814903717974754E-2,1.9832992572722377E-2,1.9849313662809898E-2,1.9864039746100494E-2]
[11,5.0533370594596503E-6,3.8240577749768525E-5,1.0959168935615438E-4,1.8068776426864109E-4,2.5152971408781477E-4,3.2211844715584803E-4,3.9245486856814171E-4,4.6253988018493566E-4,5.3237438064286603E-4,6.0195926536649408E-4,6.7129542657978325E-4,7.4038375331754176E-4,8.0922513143681933E-4,8.7782044362826994E-4,9.4617056942746251E-4,1.0142763852261671E-3,1.0821387642835844E-3,1.1497585767375495E-3,1.2171366896156833E-3,1.284273966846512E-3,1.3511712692705457E-3,1.4178294546513138E-3,1.4842493776863642E-3,1.5504318900182246E-3,1.6163778402453178E-3,1.6820880739328459E-3,1.7475634336236313E-3,1.8128047588489204E-3,1.8778128861391453E-3,1.9425886490346555E-3,2.0071328780964003E-3,2.0714464009165788E-3,2.1355300421292567E-3,2.1993846234209325E-3,2.2630109635410792E-3,2.3264098783126385E-3,2.3895821806424844E-3,2.4525286805318425E-3,2.5152501850866792E-3,2.5777474985280492E-3,2.64002142220241E-3,2.7020727545918909E-3,2.763902291324536E-3,2.8255108251845052E-3,2.8868991461222394E-3,2.9480680412645845E-3,3.0090182949248944E-3,3.0697506886130754E-3,3.1302660010456163E-3,3.190565008155568E-3]
[12,1.0620093396279673E-5,8.0325086571603199E-5,2.3128035386343893E-4,3.8220523457727085E-4,5.3309973482970618E-4,6.8396386073618642E-4,8.3479761841098732E-4,9.8560101396705235E-4,1.1363740535161593E-3,1.2871167431688368E-3,1.4378290890342815E-3,1.5885110972206073E-3,1.7391627738346793E-3,1.8897841249821135E-3,2.0403751567671935E-3,2.1909358752931207E-3,2.3414662866618474E-3,2.4919663969739936E-3,2.6424362123290135E-3,2.7928757388251957E-3,2.9432849825594964E-3,3.0936639496277063E-3,3.2440126461243668E-3,3.3943310781428537E-3,3.5446192517752106E-3,3.6948771731123153E-3,3.8451048482437966E-3,3.9953022832581175E-3,4.1454694842424089E-3,4.2956064572826358E-3,4.4457132084635975E-3,4.5957897438687612E-3,4.745836069580428E-3,4.8958521916797337E-3,5.0458381162464816E-3,5.1957938493592259E-3,5.3457193970954386E-3,5.4956147655312593E-3,5.6454799607416617E-3,5.7953149888003708E-3,5.9451198557798624E-3,6.0948945677514466E-3,6.2446391307851845E-3,6.3943535509498883E-3,6.5440378343131211E-3,6.6936919869413636E-3,6.843316014899764E-3,6.9929099242523052E-3,7.1424737210617206E-3,7.292007411389495E-3]
["JointProb_Boats(with inspection)(Run999)"]
["WaterBody",0,1,2,3,4,5,6,7,8,9,10,11,12,13,14,15,16,17,18,19,20,21,22,23,24,25,26,27,28,29,30,31,32,33,34,35,36,37,38,39,40,41,42,43,44,45,46,47,48,49]
[0,0,0,0,0,0,0,0,0,0,0,0,0,0,0,0,0,0,0,0,0,0,0,0,0,0,0,0,0,0,0,0,0,0,0,0,0,0,0,0,0,0,0,0,0,0,0,0,0,0,0]
[1,0,0,0,0,0,0,0,0,0,0,0,0,0,0,0,0,0,0,0,0,0,0,0,0,0,0,0,0,0,0,0,0,0,0,0,0,0,0,0,0,0,0,0,0,0,0,0,0,0,0]
[2,2.6164845087217617E-7,1.9163974510649773E-6,5.5043315958491771E-6,9.0916220153824941E-6,1.267826882515477E-5,1.6264272140640303E-5,1.9849632077291178E-5,2.3434348750537292E-5,2.7018422275788546E-5,3.0601852768434854E-5,3.4184640343846161E-5,3.7766785117370196E-5,4.1348287204336923E-5,4.492914672004966E-5,4.8509363779796203E-5,5.208893849884211E-5,5.5667870992432977E-5,5.9246161375792193E-5,6.2823809764123165E-5,6.6400816272609294E-5,6.9977181016411818E-5,7.3552904110671952E-5,7.7127985670510932E-5,8.0702425811030046E-5,8.4276224647308328E-5,8.7849382294402642E-5,9.1421898867354305E-5,9.4993774481180187E-5,9.8565009250874971E-5,1.021356032914178E-4,1.0570555671776338E-4,1.0927486964484645E-4,1.1284354218758175E-4,1.1641157446086403E-4,1.1997896657956364E-4,1.2354571865853537E-4,1.2711183081261181E-4,1.3067730315660331E-4,1.3424213580530254E-4,1.3780632887347766E-4,1.4136988247587912E-4,1.4493279672723514E-4,1.4849507174225396E-4,1.5205670763562384E-4,1.5561770452201306E-4,1.5917806251606771E-4,1.6273778173241384E-4,1.6629686228565756E-4,1.6985530429038497E-4,1.7341310786115783E-4]
[3,1.5310567038628876E-8,1.0585058022538619E-7,3.0760289977393994E-7,5.0935318411271526E-7,7.1110143326169609E-7,9.1284764724086643E-7,1.1145918260702104E-6,1.3163339697697118E-6,1.5180740783615754E-6,1.7198121518657849E-6,1.921548190304545E-6,2.1232821936956192E-6,2.3250141620612118E-6,2.5267440954213073E-6,2.7284719937958893E-6,2.9301978572071619E-6,3.1319216856751096E-6,3.333643479219717E-6,3.5353632378609666E-6,3.737080961618844E-6,3.9387966505155523E-6,4.1405103045710769E-6,4.3422219238076211E-6,4.5439315082429487E-6,4.7456390578992649E-6,4.9473445727965527E-6,5.1490480529547971E-6,5.3507494983939805E-6,5.5524489091363095E-6,5.7541462852017664E-6,5.9558416266103362E-6,6.1575349333842238E-6,6.3592262055411906E-6,6.5609154431034434E-6,6.7626026460931854E-6,6.9642878145281805E-6,7.1659709484306338E-6,7.3676520478205276E-6,7.5693311127178476E-6,7.771008143142577E-6,7.9726831391169209E-6,8.1743561006608623E-6,8.3760270277943863E-6,8.5776959205374759E-6,8.7793627789123371E-6,8.9810276029367304E-6,9.1826903926350842E-6,9.3843511480251608E-6,9.5860098691269435E-6,9.7876665559626379E-6]
[4,5.5578475517403801E-8,4.0814315363624234E-7,1.1749182846210183E-6,1.941664017801603E-6,2.7083803543037632E-6,3.4750672952554851E-6,4.241724841782535E-6,5.0083529950128995E-6,5.7749517560745648E-6,6.541521126093297E-6,7.308061106194863E-6,8.0745716975072489E-6,8.8410529011562209E-6,9.6075047182697667E-6,1.0373927149973649E-5,1.1140320197395858E-5,1.1906683861662159E-5,1.2673018143898319E-5,1.3439323045230101E-5,1.4205598566785494E-5,1.4971844709690263E-5,1.5738061475072395E-5,1.6504248864057657E-5,1.7270406877771817E-5,1.8036535517340634E-5,1.8802634783889882E-5,1.9568704678547546E-5,2.0334745202437164E-5,2.1100756356686735E-5,2.1866738142422016E-5,2.2632690560768775E-5,2.3398613612852781E-5,2.4164507299799798E-5,2.4930371622735592E-5,2.5696206582788151E-5,2.6462012181081019E-5,2.7227788418739964E-5,2.7993535296890748E-5,2.8759252816659142E-5,2.9524940979170912E-5,3.0290599785551821E-5,3.1056229236927633E-5,3.1821829334421903E-5,3.2587400079162607E-5,3.3352941472273299E-5,3.4118453514879745E-5,3.4883936208107706E-5,3.5649389553082944E-5,3.6414813550929017E-5,3.718020820277168E-5]
[5,0,0,0,0,0,0,0,0,0,0,0,0,0,0,0,0,0,0,0,0,0,0,0,0,0,0,0,0,0,0,0,0,0,0,0,0,0,0,0,0,0,0,0,0,0,0,0,0,0,0]
[6,0,0,0,0,0,0,0,0,0,0,0,0,0,0,0,0,0,0,0,0,0,0,0,0,0,0,0,0,0,0,0,0,0,0,0,0,0,0,0,0,0,0,0,0,0,0,0,0,0,0]
[7,9.5899697627466196E-9,1.3596134276760985E-7,3.2734332666706223E-7,5.1872516407258651E-7,7.1010685495642711E-7,9.0148839931858404E-7,1.0928697971868129E-6,1.284251048533358E-6,1.4756321533859751E-6,1.6670131117169085E-6,1.8583939235539138E-6,2.0497745888969909E-6,2.2411551077183844E-6,2.4325354800458499E-6,2.6239157058516316E-6,2.8152957851634852E-6,3.0066757179536552E-6,3.198055504249897E-6,3.3894351440244552E-6,3.5808146373050853E-6,3.7721939840640317E-6,3.96357318432905E-6,4.1549522380723847E-6,4.3463311453217912E-6,4.5377099060772697E-6,4.7290885203110644E-6,4.9204669880509311E-6,5.1118453092691141E-6,5.303223483993369E-6,5.4946015121959402E-6,5.6859793939045833E-6,5.8773571291192983E-6,6.0687347178123296E-6,6.2601121600114329E-6,6.4514894556888525E-6,6.6428666048723439E-6,6.8342436075619073E-6,7.025620463729787E-6,7.2169971734037386E-6,7.4083737365837621E-6,7.5997501532421019E-6,7.7911264234065136E-6,7.9825025470492417E-6,8.1738785241980416E-6,8.3652543548529135E-6,8.5566300389861016E-6,8.7480055766253617E-6,8.9393809677706937E-6,9.130756212394342E-6,9.3221313105240622E-6]
[8,0,0,0,0,0,0,0,0,0,0,0,0,0,0,0,0,0,0,0,0,0,0,0,0,0,0,0,0,0,0,0,0,0,0,0,0,0,0,0,0,0,0,0,0,0,0,0,0,0,0]
[9,0,0,0,0,0,0,0,0,0,0,0,0,0,0,0,0,0,0,0,0,0,0,0,0,0,0,0,0,0,0,0,0,0,0,0,0,0,0,0,0,0,0,0,0,0,0,0,0,0,0]
[10,8.3464805894917232E-6,6.2795778214927989E-5,1.8016863910533143E-4,2.9685051101250746E-4,4.1284546187662089E-4,5.2815753568935314E-4,6.427907526348897E-4,7.5674910923008377E-4,8.7003657846378428E-4,9.8265710993534539E-4,1.0946146299923277E-3,1.2059130418673857E-3,1.3165562258143448E-3,1.4265480392434803E-3,1.5358923168560046E-3,1.6445928707777546E-3,1.7526534906920955E-3,1.860077943972045E-3,1.9668699758116181E-3,2.0730333093563914E-3,2.1785716458333094E-3,2.2834886646797272E-3,2.3877880236716775E-3,2.4914733590514038E-3,2.5945482856541257E-3,2.6970163970340688E-3,2.7988812655897477E-3,2.9001464426885093E-3,3.0008154587903512E-3,3.1008918235710015E-3,3.2003790260442823E-3,3.2992805346837438E-3,3.3975997975435957E-3,3.495340242378906E-3,3.5925052767651188E-3,3.6890982882168432E-3,3.7851226443059607E-3,3.8805816927790283E-3,3.9754787616739897E-3,4.0698171594362089E-3,4.1636001750338086E-3,4.2568310780723359E-3,4.3495131189087563E-3,4.4416495287647687E-3,4.5332435198394581E-3,4.6242982854212845E-3,4.7148169999994115E-3,4.8048028193743812E-3,4.8942588807681341E-3,4.9831883029333906E-3]
[11,2.8320249056745795E-7,2.1947251990739324E-6,6.2953760924355782E-6,1.0395186126637147E-5,1.4494155474100711E-5,1.8592284307215046E-5,2.268957279832895E-5,2.678602111976014E-5,3.0881629443790802E-5,3.4976397942665384E-5,3.9070326788595015E-5,4.316341615375308E-5,4.7255666210281881E-5,5.1347077130283749E-5,5.5437649085827714E-5,5.9527382248949488E-5,6.3616276791647052E-5,6.7704332885882841E-5,7.1791550703586009E-5,7.587793041664792E-5,7.9963472196928903E-5,8.4048176216249267E-5,8.8132042646396074E-5,9.22150716591208E-5,9.6297263426141648E-5,1.0037861811913906E-4,1.044591359097602E-4,1.0853881696961443E-4,1.1261766147027785E-4,1.1669566958329325E-4,1.2077284148016565E-4,1.2484917733236457E-4,1.2892467731132396E-4,1.3299934158844451E-4,1.3707317033509136E-4,1.4114616372259636E-4,1.4521832192225138E-4,1.4928964510531716E-4,1.5336013344301679E-4,1.5742978710654222E-4,1.6149860626704537E-4,1.6556659109564497E-4,1.6963374176342638E-4,1.737000584414372E-4,1.7776554130069177E-4,1.8183019051216888E-4,1.8589400624681397E-4,1.8995698867553258E-4,1.9401913796920133E-4,1.9808045429865696E-4]
[12,5.7414626394858281E-7,4.4711891661608494E-6,1.3504344599318818E-5,2.2537391234672688E-5,3.1570329073471459E-5,4.06031581170474E-5,4.9635878366732777E-5,5.8668489823776593E-5,6.7700992489511114E-5,7.6733386365268608E-5,8.5765671452381342E-5,9.4797847752098319E-5,1.038299152657518E-4,1.1286187399467407E-4,1.2189372394019737E-4,1.3092546510357073E-4,1.3995709748612639E-4,1.4898862108919664E-4,1.5802003591411373E-4,1.6705134196212668E-4,1.7608253923456774E-4,1.8511362773276918E-4,1.9414460745798001E-4,2.031754784115325E-4,2.122062405947589E-4,2.2123689400899149E-4,2.3026743865547927E-4,2.3929787453563778E-4,2.4832820165071601E-4,2.5735842000196296E-4,2.6638852959071091E-4,2.7541853041837538E-4,2.8444842248612212E-4,2.9347820579536665E-4,3.0250788034735798E-4,3.1153744614342838E-4,3.205669031849101E-4,3.2959625147305216E-4,3.3862549100927009E-4,3.4765462179481288E-4,3.5668364383092954E-4,3.6571255711903561E-4,3.7474136166038008E-4,3.8377005745629522E-4,3.9279864450803004E-4,4.0182712281700006E-4,4.1085549238445429E-4,4.1988375321164173E-4,4.2891190529997791E-4,4.3793994865071184E-4]
["JointProb_Up1(no inspection)(Run999)"]
["WaterBody",0,1,2,3,4,5,6,7,8,9,10,11,12,13,14,15,16,17,18,19,20,21,22,23,24,25,26,27,28,29,30,31,32,33,34,35,36,37,38,39,40,41,42,43,44,45,46,47,48,49]
[0,0,0,0,0,0,0,0,0,0,0,0,0,0,0,0,0,0,0,0,0,0,0,0,0,0,0,0,0,0,0,0,0,0,0,0,0,0,0,0,0,0,0,0,0,0,0,0,0,0,0]
[1,0,0,0,0,0,0,0,0,0,0,0,0,0,0,0,0,0,0,0,0,0,0,0,0,0,0,0,0,0,0,0,0,0,0,0,0,0,0,0,0,0,0,0,0,0,0,0,0,0,0]
[2,0,0,0,0,0,0,0,0,0,0,0,0,0,0,0,0,0,0,0,0,0,0,0,0,0,0,0,0,0,0,0,0,0,0,0,0,0,0,0,0,0,0,0,0,0,0,0,0,0,0]
[3,0,0,0,0,0,0,0,0,0,1.8166125269965566E-2,1.8555878834410358E-2,1.8862798038083644E-2,1.9104487675271779E-2,1.9294810991717998E-2,1.944468487627719E-2,1.9562706050415404E-2,1.9655644173597643E-2,1.9728830148942389E-2,1.9786461902239781E-2,1.9831845173727058E-2,1.9867583134365863E-2,1.9895725702954802E-2,1.9917887128862326E-2,1.9935338584890681E-2,1.9949081081369939E-2,1.9959902883812993E-2,1.9968424727591031E-2,1.9975135423129911E-2,1.9980419893930897E-2,1.9984581255668238E-2,1.9987858202814159E-2,1.9990438700082835E-2,1.9992470764030504E-2,1.9994070953241138E-2,1.9995331054092184E-2,1.9996323345593869E-2,1.9997104745291761E-2,1.9997720074040246E-2,1.9998204626913423E-2,1.9998586197720058E-2,1.9998886673248183E-2,1.9999123288684782E-2,1.9999309616220953E-2,1.9999456343548785E-2,1.999957188690419E-2,1.9999662873819678E-2,1.9999734523277676E-2,1.9999790945069804E-2,1.9999835375533279E-2,1.9999870363186279E-2]
[4,0,0,0,0,0,0,0,0,0,1.9997018318054508E-2,1.9998764608958771E-2,1.9999488144257956E-2,1.9999787924396471E-2,1.9999912131372342E-2,1.999996359366378E-2,1.9999984915875527E-2,1.9999993750241446E-2,1.9999997410556906E-2,1.9999998927124066E-2,1.999999955547864E-2,1.9999999815822841E-2,1.9999999923690448E-2,1.9999999968382899E-2,1.9999999986900184E-2,1.9999999994572394E-2,1.9999999997751199E-2,1.999999999906826E-2,1.9999999999613955E-2,1.9999999999840052E-2,1.9999999999933731E-2,1.9999999999972543E-2,1.9999999999988624E-2,1.9999999999995285E-2,1.9999999999998047E-2,1.9999999999999192E-2,1.9999999999999664E-2,1.9999999999999862E-2,1.9999999999999941E-2,1.9999999999999976E-2,1.999999999999999E-2,1.9999999999999997E-2,0.02,0.02,0.02,0.02,0.02,0.02,0.02,0.02,0.02]
[5,0,0,0,0,0,0,0,0,0,1.6565142701879809E-4,1.8221053163330891E-4,1.9876853870479105E-4,2.1532544830601963E-4,2.3188126050971425E-4,2.4843597538859452E-4,2.6498959301543556E-4,2.8154211346290148E-4,2.9809353680376738E-4,3.1464386311072512E-4,3.3119309245649431E-4,3.477412249137668E-4,3.642882605552622E-4,3.8083419945367236E-4,3.9737904168168914E-4,4.1392278731200438E-4,4.3046543641730994E-4,4.4700698907024217E-4,4.6354744534352066E-4,4.8008680530980952E-4,4.9662506904174508E-4,5.1316223661199145E-4,5.2969830809321272E-4,5.4623328355807299E-4,5.6276716307918084E-4,5.7929994672922813E-4,5.9583163458079569E-4,6.1236222670651985E-4,6.2889172317906472E-4,6.4542012407101113E-4,6.6194742945499541E-4,6.7847363940362615E-4,6.9499875398951194E-4,7.1152277328523361E-4,7.2804569736339975E-4,7.4456752629661893E-4,7.6108826015744424E-4,7.7760789901848426E-4,7.9412644295231982E-4,8.10643892031504E-4,8.2716024632858987E-4]
[6,0,0,0,0,0,0,0,0,0,0,0,0,0,0,0,0,0,0,0,0,0,0,0,0,0,0,0,0,0,0,0,0,0,0,0,0,0,0,0,0,0,0,0,0,0,0,0,0,0,0]
[7,0,0,0,0,0,0,0,0,0,0,0,0,0,0,0,0,0,0,0,0,0,0,0,0,0,0,0,0,0,0,0,0,0,0,0,0,0,0,0,0,0,0,0,0,0,0,0,0,0,0]
[8,0,0,0,0,0,0,0,0,0,0,0,0,0,0,0,0,0,0,0,0,0,0,0,0,0,0,0,0,0,0,0,0,0,0,0,0,0,0,0,0,0,0,0,0,0,0,0,0,0,0]
[9,0,0,0,0,0,0,0,0,0,0,0,0,0,0,0,0,0,0,0,0,0,0,0,0,0,0,0,0,0,0,0,0,0,0,0,0,0,0,0,0,0,0,0,0,0,0,0,0,0,0]
[10,0,0,0,0,0,0,0,0,0,0,0,0,0,0,0,0,0,0,0,0,0,0,0,0,0,0,0,0,0,0,0,0,0,0,0,0,0,0,0,0,0,0,0,0,0,0,0,0,0,0]
[11,0,0,0,0,0,0,0,0,0,0,0,0,0,0,0,0,0,0,0,0,0,0,0,0,0,0,0,0,0,0,0,0,0,0,0,0,0,0,0,0,0,0,0,0,0,0,0,0,0,0]
[12,0,0,0,0,0,0,0,0,0,0,0,0,0,0,0,0,0,0,0,0,0,0,0,0,0,0,0,0,0,0,0,0,0,0,0,0,0,0,0,0,0,0,0,0,0,0,0,0,0,0]
["JointProb_Up1(with inspection)(Run999)"]
["WaterBody",0,1,2,3,4,5,6,7,8,9,10,11,12,13,14,15,16,17,18,19,20,21,22,23,24,25,26,27,28,29,30,31,32,33,34,35,36,37,38,39,40,41,42,43,44,45,46,47,48,49]
[0,0,0,0,0,0,0,0,0,0,0,0,0,0,0,0,0,0,0,0,0,0,0,0,0,0,0,0,0,0,0,0,0,0,0,0,0,0,0,0,0,0,0,0,0,0,0,0,0,0,0]
[1,0,0,0,0,0,0,0,0,0,0,0,0,0,0,0,0,0,0,0,0,0,0,0,0,0,0,0,0,0,0,0,0,0,0,0,0,0,0,0,0,0,0,0,0,0,0,0,0,0,0]
[2,0,0,0,0,0,0,0,0,0,0,0,0,0,0,0,0,0,0,0,0,0,0,0,0,0,0,0,0,0,0,0,0,0,0,0,0,0,0,0,0,0,0,0,0,0,0,0,0,0,0]
[3,0,0,0,0,0,0,0,0,0,1.8166125269965566E-2,1.8555878834410358E-2,1.8862798038083644E-2,1.9104487675271779E-2,1.9294810991717998E-2,1.944468487627719E-2,1.9562706050415404E-2,1.9655644173597643E-2,1.9728830148942389E-2,1.9786461902239781E-2,1.9831845173727058E-2,1.9867583134365863E-2,1.9895725702954802E-2,1.9917887128862326E-2,1.9935338584890681E-2,1.9949081081369939E-2,1.9959902883812993E-2,1.9968424727591031E-2,1.9975135423129911E-2,1.9980419893930897E-2,1.9984581255668238E-2,1.9987858202814159E-2,1.9990438700082835E-2,1.9992470764030504E-2,1.9994070953241138E-2,1.9995331054092184E-2,1.9996323345593869E-2,1.9997104745291761E-2,1.9997720074040246E-2,1.9998204626913423E-2,1.9998586197720058E-2,1.9998886673248183E-2,1.9999123288684782E-2,1.9999309616220953E-2,1.9999456343548785E-2,1.999957188690419E-2,1.9999662873819678E-2,1.9999734523277676E-2,1.9999790945069804E-2,1.9999835375533279E-2,1.9999870363186279E-2]
[4,0,0,0,0,0,0,0,0,0,1.9997018318054508E-2,1.9998764608958771E-2,1.9999488144257956E-2,1.9999787924396471E-2,1.9999912131372342E-2,1.999996359366378E-2,1.9999984915875527E-2,1.9999993750241446E-2,1.9999997410556906E-2,1.9999998927124066E-2,1.999999955547864E-2,1.9999999815822841E-2,1.9999999923690448E-2,1.9999999968382899E-2,1.9999999986900184E-2,1.9999999994572394E-2,1.9999999997751199E-2,1.999999999906826E-2,1.9999999999613955E-2,1.9999999999840052E-2,1.9999999999933731E-2,1.9999999999972543E-2,1.9999999999988624E-2,1.9999999999995285E-2,1.9999999999998047E-2,1.9999999999999192E-2,1.9999999999999664E-2,1.9999999999999862E-2,1.9999999999999941E-2,1.9999999999999976E-2,1.999999999999999E-2,1.9999999999999997E-2,0.02,0.02,0.02,0.02,0.02,0.02,0.02,0.02,0.02]
[5,0,0,0,0,0,0,0,0,0,1.6565142701879809E-4,1.8221053163330891E-4,1.9876853870479105E-4,2.1532544830601963E-4,2.3188126050971425E-4,2.4843597538859452E-4,2.6498959301543556E-4,2.8154211346290148E-4,2.9809353680376738E-4,3.1464386311072512E-4,3.3119309245649431E-4,3.477412249137668E-4,3.642882605552622E-4,3.8083419945367236E-4,3.9737904168168914E-4,4.1392278731200438E-4,4.3046543641730994E-4,4.4700698907024217E-4,4.6354744534352066E-4,4.8008680530980952E-4,4.9662506904174508E-4,5.1316223661199145E-4,5.2969830809321272E-4,5.4623328355807299E-4,5.6276716307918084E-4,5.7929994672922813E-4,5.9583163458079569E-4,6.1236222670651985E-4,6.2889172317906472E-4,6.4542012407101113E-4,6.6194742945499541E-4,6.7847363940362615E-4,6.9499875398951194E-4,7.1152277328523361E-4,7.2804569736339975E-4,7.4456752629661893E-4,7.6108826015744424E-4,7.7760789901848426E-4,7.9412644295231982E-4,8.10643892031504E-4,8.2716024632858987E-4]
[6,0,0,0,0,0,0,0,0,0,0,0,0,0,0,0,0,0,0,0,0,0,0,0,0,0,0,0,0,0,0,0,0,0,0,0,0,0,0,0,0,0,0,0,0,0,0,0,0,0,0]
[7,0,0,0,0,0,0,0,0,0,0,0,0,0,0,0,0,0,0,0,0,0,0,0,0,0,0,0,0,0,0,0,0,0,0,0,0,0,0,0,0,0,0,0,0,0,0,0,0,0,0]
[8,0,0,0,0,0,0,0,0,0,0,0,0,0,0,0,0,0,0,0,0,0,0,0,0,0,0,0,0,0,0,0,0,0,0,0,0,0,0,0,0,0,0,0,0,0,0,0,0,0,0]
[9,0,0,0,0,0,0,0,0,0,0,0,0,0,0,0,0,0,0,0,0,0,0,0,0,0,0,0,0,0,0,0,0,0,0,0,0,0,0,0,0,0,0,0,0,0,0,0,0,0,0]
[10,0,0,0,0,0,0,0,0,0,0,0,0,0,0,0,0,0,0,0,0,0,0,0,0,0,0,0,0,0,0,0,0,0,0,0,0,0,0,0,0,0,0,0,0,0,0,0,0,0,0]
[11,0,0,0,0,0,0,0,0,0,0,0,0,0,0,0,0,0,0,0,0,0,0,0,0,0,0,0,0,0,0,0,0,0,0,0,0,0,0,0,0,0,0,0,0,0,0,0,0,0,0]
[12,0,0,0,0,0,0,0,0,0,0,0,0,0,0,0,0,0,0,0,0,0,0,0,0,0,0,0,0,0,0,0,0,0,0,0,0,0,0,0,0,0,0,0,0,0,0,0,0,0,0]
["JointProb_Up2(no inspection)(Run999)"]
["WaterBody",0,1,2,3,4,5,6,7,8,9,10,11,12,13,14,15,16,17,18,19,20,21,22,23,24,25,26,27,28,29,30,31,32,33,34,35,36,37,38,39,40,41,42,43,44,45,46,47,48,49]
[0,0,0,0,0,0,0,0,0,0,0,0,0,0,0,0,0,0,0,0,0,0,0,0,0,0,0,0,0,0,0,0,0,0,0,0,0,0,0,0,0,0,0,0,0,0,0,0,0,0,0]
[1,0,0,0,0,0,0,0,0,0,0,0,0,0,0,0,0,0,0,0,0,0,0,0,0,0,0,0,0,0,0,0,0,0,0,0,0,0,0,0,0,0,0,0,0,0,0,0,0,0,0]
[2,0,0,0,0,0,0,0,0,0,0,0,0,0,0,0,0,0,1.4735826881837865E-2,1.5112074061994104E-2,1.5461429660624059E-2,1.5785815704509924E-2,1.6087016847072352E-2,1.6366690186881111E-2,1.6626374384405611E-2,1.6867498127162268E-2,1.7091387989830922E-2,1.7299275732583719E-2,1.7492305077779276E-2,1.7671538002304955E-2,1.7837960580185445E-2,1.7992488407601551E-2,1.813597164016564E-2,1.8269199670167012E-2,1.8392905469519695E-2,1.8507769622305922E-2,1.8614424069100959E-2,1.8713455583679095E-2,1.880540900122846E-2,1.8890790215835007E-2,1.8970068963726848E-2,1.9043681407591242E-2,1.9112032536182242E-2,1.9175498392420755E-2,1.923442814224522E-2,1.9289145995594954E-2,1.9339952990094698E-2,1.9387128647253584E-2,1.943093251029027E-2,1.9471605572044862E-2,1.9509371600833405E-2]
[3,0,0,0,0,0,0,0,0,0,0,0,0,0,0,0,0,0,0,0,0,0,0,0,0,0,0,0,0,0,0,0,0,0,0,0,0,0,0,0,0,0,0,0,0,0,0,0,0,0,0]
[4,0,0,0,0,0,0,0,0,0,0,0,0,0,0,0,0,0,0,0,0,0,0,0,0,0,0,0,0,0,0,0,0,0,0,0,0,0,0,0,0,0,0,0,0,0,0,0,0,0,0]
[5,0,0,0,0,0,0,0,0,0,0,0,0,0,0,0,0,0,0,0,0,0,0,0,0,0,0,0,0,0,0,0,0,0,0,0,0,0,0,0,0,0,0,0,0,0,0,0,0,0,0]
[6,0,0,0,0,0,0,0,0,0,0,0,0,0,0,0,0,0,0,0,0,0,0,0,0,0,0,0,0,0,0,0,0,0,0,0,0,0,0,0,0,0,0,0,0,0,0,0,0,0,0]
[7,0,0,0,0,0,0,0,0,0,0,0,0,0,0,0,0,0,0,0,0,0,0,0,0,0,0,0,0,0,0,0,0,0,0,0,0,0,0,0,0,0,0,0,0,0,0,0,0,0,0]
[8,0,0,0,0,0,0,0,0,0,0,0,0,0,0,0,0,0,0,0,0,0,0,0,0,0,0,0,0,0,0,0,0,0,0,0,0,0,0,0,0,0,0,0,0,0,0,0,0,0,0]
[9,0,0,0,0,0,0,0,0,0,0,0,0,0,0,0,0,0,0,0,0,0,0,0,0,0,0,0,0,0,0,0,0,0,0,0,0,0,0,0,0,0,0,0,0,0,0,0,0,0,0]
[10,0,0,0,0,0,0,0,0,0,0,0,0,0,0,0,0,0,0,0,0,0,0,0,0,0,0,0,0,0,0,0,0,0,0,0,0,0,0,0,0,0,0,0,0,0,0,0,0,0,0]
[11,0,0,0,0,0,0,0,0,0,0,0,0,0,0,0,0,0,0,0,0,0,0,0,0,0,0,0,0,0,0,0,0,0,0,0,0,0,0,0,0,0,0,0,0,0,0,0,0,0,0]
[12,0,0,0,0,0,0,0,0,0,0,0,0,0,0,0,0,0,0,0,0,0,0,0,0,0,0,0,0,0,0,0,0,0,0,0,0,0,0,0,0,0,0,0,0,0,0,0,0,0,0]
["JointProb_Up2(with inspection)(Run999)"]
["WaterBody",0,1,2,3,4,5,6,7,8,9,10,11,12,13,14,15,16,17,18,19,20,21,22,23,24,25,26,27,28,29,30,31,32,33,34,35,36,37,38,39,40,41,42,43,44,45,46,47,48,49]
[0,0,0,0,0,0,0,0,0,0,0,0,0,0,0,0,0,0,0,0,0,0,0,0,0,0,0,0,0,0,0,0,0,0,0,0,0,0,0,0,0,0,0,0,0,0,0,0,0,0,0]
[1,0,0,0,0,0,0,0,0,0,0,0,0,0,0,0,0,0,0,0,0,0,0,0,0,0,0,0,0,0,0,0,0,0,0,0,0,0,0,0,0,0,0,0,0,0,0,0,0,0,0]
[2,0,0,0,0,0,0,0,0,0,0,0,0,0,0,0,0,0,1.4735826881837865E-2,1.5112074061994104E-2,1.5461429660624059E-2,1.5785815704509924E-2,1.6087016847072352E-2,1.6366690186881111E-2,1.6626374384405611E-2,1.6867498127162268E-2,1.7091387989830922E-2,1.7299275732583719E-2,1.7492305077779276E-2,1.7671538002304955E-2,1.7837960580185445E-2,1.7992488407601551E-2,1.813597164016564E-2,1.8269199670167012E-2,1.8392905469519695E-2,1.8507769622305922E-2,1.8614424069100959E-2,1.8713455583679095E-2,1.880540900122846E-2,1.8890790215835007E-2,1.8970068963726848E-2,1.9043681407591242E-2,1.9112032536182242E-2,1.9175498392420755E-2,1.923442814224522E-2,1.9289145995594954E-2,1.9339952990094698E-2,1.9387128647253584E-2,1.943093251029027E-2,1.9471605572044862E-2,1.9509371600833405E-2]
[3,0,0,0,0,0,0,0,0,0,0,0,0,0,0,0,0,0,0,0,0,0,0,0,0,0,0,0,0,0,0,0,0,0,0,0,0,0,0,0,0,0,0,0,0,0,0,0,0,0,0]
[4,0,0,0,0,0,0,0,0,0,0,0,0,0,0,0,0,0,0,0,0,0,0,0,0,0,0,0,0,0,0,0,0,0,0,0,0,0,0,0,0,0,0,0,0,0,0,0,0,0,0]
[5,0,0,0,0,0,0,0,0,0,0,0,0,0,0,0,0,0,0,0,0,0,0,0,0,0,0,0,0,0,0,0,0,0,0,0,0,0,0,0,0,0,0,0,0,0,0,0,0,0,0]
[6,0,0,0,0,0,0,0,0,0,0,0,0,0,0,0,0,0,0,0,0,0,0,0,0,0,0,0,0,0,0,0,0,0,0,0,0,0,0,0,0,0,0,0,0,0,0,0,0,0,0]
[7,0,0,0,0,0,0,0,0,0,0,0,0,0,0,0,0,0,0,0,0,0,0,0,0,0,0,0,0,0,0,0,0,0,0,0,0,0,0,0,0,0,0,0,0,0,0,0,0,0,0]
[8,0,0,0,0,0,0,0,0,0,0,0,0,0,0,0,0,0,0,0,0,0,0,0,0,0,0,0,0,0,0,0,0,0,0,0,0,0,0,0,0,0,0,0,0,0,0,0,0,0,0]
[9,0,0,0,0,0,0,0,0,0,0,0,0,0,0,0,0,0,0,0,0,0,0,0,0,0,0,0,0,0,0,0,0,0,0,0,0,0,0,0,0,0,0,0,0,0,0,0,0,0,0]
[10,0,0,0,0,0,0,0,0,0,0,0,0,0,0,0,0,0,0,0,0,0,0,0,0,0,0,0,0,0,0,0,0,0,0,0,0,0,0,0,0,0,0,0,0,0,0,0,0,0,0]
[11,0,0,0,0,0,0,0,0,0,0,0,0,0,0,0,0,0,0,0,0,0,0,0,0,0,0,0,0,0,0,0,0,0,0,0,0,0,0,0,0,0,0,0,0,0,0,0,0,0,0]
[12,0,0,0,0,0,0,0,0,0,0,0,0,0,0,0,0,0,0,0,0,0,0,0,0,0,0,0,0,0,0,0,0,0,0,0,0,0,0,0,0,0,0,0,0,0,0,0,0,0,0]

{"sheet":"Direct Program Costs","index":5,"n_rows":55,"n_cols":2,"rows_kept":55,"cut":false,"hidden":false,"merged":[]}
[]
["Horsetooth Reservoir and Carter Lake"]
[]
["Capital Expenditures"]
["Decontamination Units (4 at $8000 each)",32000]
["Yearly Principle Payment (Interest Free)",{"$f":"B5/term_length","v":1600}]
[]
["Yearly Variable Costs"]
["Training",3682]
["Staffing",299313]
["Equipment",18990]
["Forms ",3000]
["Brochures",2500]
["Total Yearly Variable Costs",327485]
[]
["Source, Formula, and Assumption Information for this Section"]
["*2010 budget and personal correspondence with Elizabeth Brown"]
["*Capital costs are interest free and are calculated using straight line depreciation.  The life of the asset is assumed to be equal to the term length of capital expenditure loans."]
["Boulder Reservoir"]
[]
["Yearly Variable Costs"]
["Staffing",88461.333333333328]
["Signage",1333.3333333333333]
["Materials",6700]
["Total Yearly Variable Costs",96494.666666666657]
[]
["Source, Formula, and Assumption Information for this Section"]
["*In 2009, inspections were conducted for 3/4 of the season on Boulder Reservoir.  2009 cost data is multiplied by (4/3) to project full season costs."]
[]
[]
[]
[]
[]
["Grand County Reservoirs"]
[]
["Capital Expenditures"]
["Decontamination Units (6 at $6500 each)",39000]
["Equipment",22118]
["Yearly Principle Payment (Interest Free)",{"$f":"SUM(B37:B38)/term_length","v":3055.9}]
[]
["Yearly Variable Costs"]
["Training",1458]
["Staffing",370400]
["Operating Expenditures (including brochures, signs, equipment, supplies, travel, per diem, equipment repair, building materials, road materials, equipment repair and maintenance, uniforms, training materials, gas, etc)",22118]
["Vehicle Lease ($1400/month x 5 months)",7000]
["Travel and Mileage (1000 miles/month x 5 months x $.45/mile)",2250]
["Total Yearly Variable Costs",{"$f":"SUM(B42:B46)","v":403226}]
[]
["Source, Formula, and Assumption Information for this Section"]
["*Data from DOW 2009 ANS budget"]
["*2009 budget vaues for opporating expenditures have been split in half, with half attributed to yearly expenses, and the other half counted as capital expenditures."]
["*Capital costs are interest free and are calculated using straight line depreciation.  The life of the asset is assumed to be equal to the term length of capital expenditure loans."]
["Total System Costs"]
["Yearly Variable Costs",{"$f":"SUM(B14,B25,B47)","v":827205.66666666663}]
["Yearly Principle Payments (Interest Free)",{"$f":"SUM(B6,B39)","v":4655.8999999999996}]

{"sheet":"Output","index":6,"n_rows":766,"n_cols":1001,"rows_kept":281,"cut":true,"hidden":true,"merged":[[21,12,21,13],[52,12,52,13]],"bounds":{"rows_first":125,"rows_last":31,"rows_between":125,"halvings":4}}
["Inspection Program Costs and Benefits"]
["Run",0,1,2,3,4,5,6,7,8,9,10,11,12,13,14,15,16,17,18,19,20,21,22,23,24,25,26,27,28,29,30,31,32,33,34,35,36,37,38,39,40,41,42,43,44,45,46,47,48,49,50,51,52,53,54,55,56,57,58,59,60,61,62,63,64,65,66,67,68,69,70,71,72,73,74,75,76,77,78,79,80,81,82,83,84,85,86,87,88,89,90,91,92,93,94,95,96,97,98,99,100,101,102,103,104,105,106,107,108,109,110,111,112,113,114,115,116,117,118,119,120,121,122,123,124,125,126,127,128,129,130,131,132,133,134,135,136,137,138,139,140,141,142,143,144,145,146,147,148,149,150,151,152,153,154,155,156,157,158,159,160,161,162,163,164,165,166,167,168,169,170,171,172,173,174,175,176,177,178,179,180,181,182,183,184,185,186,187,188,189,190,191,192,193,194,195,196,197,198,199,200,201,202,203,204,205,206,207,208,209,210,211,212,213,214,215,216,217,218,219,220,221,222,223,224,225,226,227,228,229,230,231,232,233,234,235,236,237,238,239,240,241,242,243,244,245,246,247,248,249,250,251,252,253,254,255,256,257,258,259,260,261,262,263,264,265,266,267,268,269,270,271,272,273,274,275,276,277,278,279,280,281,282,283,284,285,286,287,288,289,290,291,292,293,294,295,296,297,298,299,300,301,302,303,304,305,306,307,308,309,310,311,312,313,314,315,316,317,318,319,320,321,322,323,324,325,326,327,328,329,330,331,332,333,334,335,336,337,338,339,340,341,342,343,344,345,346,347,348,349,350,351,352,353,354,355,356,357,358,359,360,361,362,363,364,365,366,367,368,369,370,371,372,373,374,375,376,377,378,379,380,381,382,383,384,385,386,387,388,389,390,391,392,393,394,395,396,397,398,399,400,401,402,403,404,405,406,407,408,409,410,411,412,413,414,415,416,417,418,419,420,421,422,423,424,425,426,427,428,429,430,431,432,433,434,435,436,437,438,439,440,441,442,443,444,445,446,447,448,449,450,451,452,453,454,455,456,457,458,459,460,461,462,463,464,465,466,467,468,469,470,471,472,473,474,475,476,477,478,479,480,481,482,483,484,485,486,487,488,489,490,491,492,493,494,495,496,497,498,499,500,501,502,503,504,505,506,507,508,509,510,511,512,513,514,515,516,517,518,519,520,521,522,523,524,525,526,527,528,529,530,531,532,533,534,535,536,537,538,539,540,541,542,543,544,545,546,547,548,549,550,551,552,553,554,555,556,557,558,559,560,561,562,563,564,565,566,567,568,569,570,571,572,573,574,575,576,577,578,579,580,581,582,583,584,585,586,587,588,589,590,591,592,593,594,595,596,597,598,599,600,601,602,603,604,605,606,607,608,609,610,611,612,613,614,615,616,617,618,619,620,621,622,623,624,625,626,627,628,629,630,631,632,633,634,635,636,637,638,639,640,641,642,643,644,645,646,647,648,649,650,651,652,653,654,655,656,657,658,659,660,661,662,663,664,665,666,667,668,669,670,671,672,673,674,675,676,677,678,679,680,681,682,683,684,685,686,687,688,689,690,691,692,693,694,695,696,697,698,699,700,701,702,703,704,705,706,707,708,709,710,711,712,713,714,715,716,717,718,719,720,721,722,723,724,725,726,727,728,729,730,731,732,733,734,735,736,737,738,739,740,741,742,743,744,745,746,747,748,749,750,751,752,753,754,755,756,757,758,759,760,761,762,763,764,765,766,767,768,769,770,771,772,773,774,775,776,777,778,779,780,781,782,783,784,785,786,787,788,789,790,791,792,793,794,795,796,797,798,799,800,801,802,803,804,805,806,807,808,809,810,811,812,813,814,815,816,817,818,819,820,821,822,823,824,825,826,827,828,829,830,831,832,833,834,835,836,837,838,839,840,841,842,843,844,845,846,847,848,849,850,851,852,853,854,855,856,857,858,859,860,861,862,863,864,865,866,867,868,869,870,871,872,873,874,875,876,877,878,879,880,881,882,883,884,885,886,887,888,889,890,891,892,893,894,895,896,897,898,899,900,901,902,903,904,905,906,907,908,909,910,911,912,913,914,915,916,917,918,919,920,921,922,923,924,925,926,927,928,929,930,931,932,933,934,935,936,937,938,939,940,941,942,943,944,945,946,947,948,949,950,951,952,953,954,955,956,957,958,959,960,961,962,963,964,965,966,967,968,969,970,971,972,973,974,975,976,977,978,979,980,981,982,983,984,985,986,987,988,989,990,991,992,993,994,995,996,997,998,999]
["NPV Control Costs (Base-Case)",10995929.238178983,34879769.919670723,14843990.952127827,14843990.952127827,0,0,0,0,56949262.913679227,31767423.342235312,0,0,0,931653.73806712683,0,16111454.557683866,0,0,24602064.294066887,0,0,34879769.919670723,13609248.0339047,0,0,0,0,7927845.3231815873,24293667.692405224,12161419.208315376,155993.91010365385,24602064.294066887,0,0,0,3712907.929983458,0,0,0,0,0,0,0,0,42962867.374907255,0,0,0,11234567.213227728,21601269.542516083,0,0,0,0,36498070.729650244,23417043.087681878,17481904.639497969,15846497.574633643,0,0,0,31767423.342235312,0,36498070.729650244,24602064.294066887,0,13609248.0339047,28747836.672332834,0,20192081.53647485,0,0,17140527.605686083,0,3712907.929983458,0,20192081.53647485,0,12406381.089702917,12406381.089702917,0,0,23047801.030717403,43484765.136129357,0,0,0,0,0,0,17481904.639497969,4685397.8354526693,0,0,0,0,1771359.2835504063,43484765.136129357,0,0,0,0,12406381.089702917,0,8915050.9443882275,13609248.0339047,36498070.729650244,0,16111454.557683866,28747836.672332834,0,1842597.0395650682,0,24602064.294066887,31767423.342235312,12406381.089702917,0,3807384.4279691628,37108.078567370198,0,0,20192081.53647485,10025397.639739167,148493.14711096953,27329614.968557816,0,7676901.2619754765,0,0,0,0,0,62302850.928232193,0,0,5753057.4141276404,33303246.967912797,30203641.2512579,169252.43191655021,39933862.406457327,18819272.957769316,0,18819272.957769316,0,0,12406381.089702917,2799363.7168525304,39933862.406457327,0,12406381.089702917,0,0,8915050.9443882275,0,23047801.030717403,0,0,17481904.639497969,17481904.639497969,0,43982.163733647205,2765523.706438194,24602064.294066887,0,11234567.213227728,0,0,341377.03381186957,0,0,17481904.639497969,99388.858394283758,0,0,17481904.639497969,15846497.574633643,0,1771359.2835504063,0,0,0,30203641.2512579,0,31811405.505968958,0,20192081.53647485,0,24602064.294066887,2765523.706438194,6779611.2809266755,0,8915050.9443882275,0,23402310.32788191,0,6627183.0654172674,23047801.030717403,0,0,36498070.729650244,28747836.672332834,0,6627183.0654172674,0,28747836.672332834,0,4685397.8354526693,0,18819272.957769316,37502052.487466201,0,4608345.2719844338,0,0,38159256.511094235,0,0,13609248.0339047,9860527.4163218029,40500.175861363285,36498070.729650244,0,0,0,0,0,8915050.9443882275,18819272.957769316,0,25948005.904967912,0,33303246.967912797,0,4685397.8354526693,33303246.967912797,0,0,3637844.5461858572,11234567.213227728,31917043.582753282,4685397.8354526693,36498070.729650244,0,35741266.389543168,25948005.904967912,0,0,1842597.0395650682,25948005.904967912,19126998.127795689,943496.53603547649,14843990.952127827,24602064.294066887,23598427.942870308,0,0,18819272.957769316,0,6627183.0654172674,0,0,15542234.009805493,943496.53603547649,0,5825363.0708952174,0,6779611.2809266755,47226359.3319159,0,28747836.672332834,23047801.030717403,0,23047801.030717403,0,0,0,20192081.53647485,0,20192081.53647485,0,304541.6445215065,0,20192081.53647485,51240123.310617842,0,16123318.36909858,5604564.2670166744,0,0,17481904.639497969,6779611.2809266755,19126998.127795689,0,12601905.800110526,0,0,0,169252.43191655021,0,0,0,12406381.089702917,17481904.639497969,34256060.495468572,0,0,14843990.952127827,0,12406381.089702917,3712907.929983458,48242881.103687562,22421456.027741618,0,13609248.0339047,0,33303246.967912797,0,17481904.639497969,2692398.1498891432,0,0,0,0,13609248.0339047,943496.53603547649,34256060.495468572,0,0,0,1842597.0395650682,0,0,0,16111454.557683866,0,21601269.542516083,19832371.787848949,943496.53603547649,0,10025397.639739167,3712907.929983458,15096334.572694793,18468849.43256142,21601269.542516083,43484765.136129357,16044225.635888772,2765523.706438194,0,6779611.2809266755,12406381.089702917,23047801.030717403,0,42102634.996666923,0,11234567.213227728,24602064.294066887,0,5825363.0708952174,10200802.783967597,13609248.0339047,39933862.406457327,0,0,0,36498070.729650244,39933862.406457327,11234567.213227728,0,4685397.8354526693,51240123.310617842,13832810.69652516,33303246.967912797,0,0,21601269.542516083,0,21601269.542516083,943496.53603547649,33303246.967912797,6779611.2809266755,0,0,16111454.557683866,27419305.923037842,2765523.706438194,15846497.574633643,21601269.542516083,931653.73806712683,13357794.662660386,12161419.208315376,6779611.2809266755,43484765.136129357,5753057.4141276404,0,0,3712907.929983458,943496.53603547649,25948005.904967912,0,0,0,0,0,0,38159256.511094235,45331098.319345042,0,0,0,30203641.2512579,28747836.672332834,39933862.406457327,0,0,0,0,0,0,0,45331098.319345042,0,0,0,0,0,874097.84532465157,14843990.952127827,0,0,12161419.208315376,8754436.9907424767,20192081.53647485,0,0,0,25948005.904967912,0,0,0,0,36498070.729650244,0,0,0,0,12406381.089702917,16111454.557683866,0,0,17759419.128186997,0,28747836.672332834,0,28747836.672332834,10200802.783967597,0,0,7833368.8251958825,0,32695639.15086247,16111454.557683866,0,0,0,0,0,70897816.292466342,1771359.2835504063,45331098.319345042,0,0,13609248.0339047,0,0,31767423.342235312,0,0,0,18819272.957769316,33303246.967912797,24602064.294066887,47226359.3319159,0,5753057.4141276404,0,7833368.8251958825,25948005.904967912,39933862.406457327,16111454.557683866,1842597.0395650682,0,0,0,55642613.355609268,0,10025397.639739167,55398197.689930312,0,33303246.967912797,51240123.310617842,22884479.686363991,10025397.639739167,0,7833368.8251958825,7833368.8251958825,47556.424284546636,0,30203641.2512579,2692398.1498891432,0,16870927.196087684,11234567.213227728,0,0,0,0,39933862.406457327,0,50091600.322105847,1771359.2835504063,0,0,13609248.0339047,0,0,0,577247.63420810923,0,0,2692398.1498891432,41686096.66733668,0,7676901.2619754765,23047801.030717403,17481904.639497969,0,0,0,3712907.929983458,11234567.213227728,39933862.406457327,4835018.0759706385,6779611.2809266755,0,0,0,0,0,0,0,43872412.851557456,874097.84532465157,0,46400284.064122505,24602064.294066887,40070118.97507748,0,0,47226359.3319159,0,0,0,24602064.294066887,0,943496.53603547649,0,34879769.919670723,20192081.53647485,0,0,0,27329614.968557816,0,0,0,4685397.8354526693,39933862.406457327,0,13609248.0339047,0,7833368.8251958825,3712907.929983458,8707466.6705205347,21601269.542516083,1842597.0395650682,13573435.346305259,27329614.968557816,38159256.511094235,1853296.9548376189,0,0,0,41199570.489436865,11471213.371381739,4685397.8354526693,0,0,10025397.639739167,0,18819272.957769316,3712907.929983458,8915050.9443882275,16111454.557683866,10025397.639739167,31767423.342235312,16111454.557683866,0,34879769.919670723,0,43982.163733647205,0,0,0,53291973.48545745,0,313548.88042592251,0,0,0,13609248.0339047,0,0,41686096.66733668,7676901.2619754765,5753057.4141276404,0,14843990.952127827,0,6876689.5849856567,17861750.278645001,0,3637844.5461858572,0,0,0,0,55398197.689930312,24602064.294066887,20192081.53647485,27719365.188518316,0,0,0,0,18819272.957769316,0,18819272.957769316,1842597.0395650682,33303246.967912797,0,6779611.2809266755,1771359.2835504063,0,58402711.839018732,0,11234567.213227728,11234567.213227728,0,4608345.2719844338,4685397.8354526693,39933862.406457327,45331098.319345042,0,0,0,0,14843990.952127827,0,0,13609248.0339047,0,80875584.266230687,27329614.968557816,0,16111454.557683866,16111454.557683866,30203641.2512579,0,5753057.4141276404,39933862.406457327,0,25477386.576300375,0,8915050.9443882275,35753867.764995374,51240123.310617842,0,0,0,0,109607.56156902062,0,0,931653.73806712683,0,0,0,47226359.3319159,0,0,12406381.089702917,4685397.8354526693,14843990.952127827,0,0,10025397.639739167,17140527.605686083,0,47226359.3319159,0,21601269.542516083,0,0,21601269.542516083,11234567.213227728,0,0,0,0,0,0,16111454.557683866,28747836.672332834,0,51240123.310617842,44594334.246966451,0,50929791.644636303,0,20192081.53647485,13609248.0339047,0,0,0,0,0,0,53447967.395561099,1842597.0395650682,0,0,13609248.0339047,4685397.8354526693,33303246.967912797,0,0,0,0,14843990.952127827,10025397.639739167,0,11234567.213227728,49241243.452030763,14843990.952127827,0,33303246.967912797,0,23047801.030717403,25948005.904967912,33303246.967912797,6779611.2809266755,0,7833368.8251958825,0,156467.56322040962,243129.68404659894,0,0,12161419.208315376,2765523.706438194,0,0,0,24602064.294066887,0,25948005.904967912,0,30967459.514743675,0,0,0,0,31767423.342235312,0,0,0,0,8984449.6350990515,4608345.2719844338,1842597.0395650682,0,25948005.904967912,12484214.016397184,0,0,0,387647.71542810276,49241243.452030763,0,14843990.952127827,0,33303246.967912797,45331098.319345042,30203641.2512579,0,12406381.089702917,5604564.2670166744,24602064.294066887,0,0,47226359.3319159,0,0,19327788.529208094,28946518.527217314,0,24602064.294066887,17140527.605686083,55502629.086283997,0,17759419.128186997,0,0,0,0,0,0,12406381.089702917,0,28993986.341414776,20192081.53647485,0,0,0,0,0,12406381.089702917,0,0,0,8915050.9443882275,58905634.036424063,0,0,0,4685397.8354526693,0,12161419.208315376,28946518.527217314,16111454.557683866,12406381.089702917,14843990.952127827,0,0,21601269.542516083,10995929.238178983,45665797.185449854,10025397.639739167,0,3712907.929983458,9860527.4163218029,0,0,0,10025397.639739167,28747836.672332834,3712907.929983458,0,0,23529549.232354276,0,1842597.0395650682,4685397.8354526693,0,0,4685397.8354526693,20192081.53647485,41686096.66733668,25533718.032134015,12601905.800110526,0,99388.858394283758,8915050.9443882275,20192081.53647485,0,34879769.919670723,8915050.9443882275,0,13832810.69652516,12552895.490574084,0,6876689.5849856567,0,0,0,0,30203641.2512579,0,30203641.2512579,0,59466745.365485691,0,0,0,17140527.605686083,24602064.294066887,17481904.639497969,0,0,7833368.8251958825,38159256.511094235,226105.98600559743,0,12467344.920725934,16111454.557683866,32695639.15086247,0,38159256.511094235,4685397.8354526693,18819272.957769316,0,33356181.94431727,0,0,0,14843990.952127827,4685397.8354526693,0,0,0,7833368.8251958825,14843990.952127827,39933862.406457327,0,0,0,11234567.213227728,0,26846524.227680575,0,0,7833368.8251958825,30203641.2512579,34879769.919670723,5825363.0708952174,31767423.342235312,0,2692398.1498891432,0,18819272.957769316,8321253.2019678904,57560236.83582174,0,21601269.542516083,0,5604564.2670166744,155993.91010365385,0,0,0,0,21601269.542516083,18819272.957769316,0,0,0,0,24143594.417137969,0,18819272.957769316,14843990.952127827,5753057.4141276404,0,34879769.919670723,0,0,0,11234567.213227728,0,0,0,75661308.998560488,874097.84532465157,0,0,4608345.2719844338,1842597.0395650682,0,10025397.639739167,23047801.030717403,0,6779611.2809266755,17140527.605686083,0,28747836.672332834,13609248.0339047,34879769.919670723,45331098.319345042,0,0]
["NPV Control Costs (P.M. case)",0,0,0,0,0,0,0,0,0,0,0,0,0,0,0,0,0,0,0,0,0,0,0,0,0,0,0,0,0,0,0,0,0,0,0,0,0,0,0,0,0,0,0,0,0,0,0,0,0,0,0,0,0,0,0,0,0,0,0,0,0,0,0,0,0,0,0,0,0,0,0,0,0,0,0,0,0,0,0,0,0,0,0,0,0,0,0,0,0,0,0,0,0,0,0,0,0,0,0,0,0,0,0,0,0,0,0,0,0,0,0,0,0,0,0,0,0,0,0,0,0,0,0,0,0,0,0,0,0,0,0,0,0,0,0,0,0,0,0,0,0,0,0,0,0,0,0,0,0,0,0,0,0,0,0,0,0,0,0,0,0,0,0,0,0,0,0,0,0,0,0,0,0,0,0,0,0,0,0,0,0,0,0,0,0,0,0,0,0,0,0,0,0,0,0,0,0,0,0,0,0,0,0,0,0,0,0,0,0,0,0,0,0,0,0,0,0,0,0,0,0,0,0,0,0,0,0,0,0,0,0,0,0,4685397.8354526693,0,0,0,0,0,0,4685397.8354526693,0,0,0,0,0,0,0,0,0,0,0,0,0,0,0,0,0,0,0,0,0,0,0,0,0,0,0,0,0,0,0,0,0,0,0,0,0,0,0,0,0,0,0,0,0,0,0,0,0,0,0,0,0,0,0,0,0,0,0,0,0,0,0,0,0,0,0,0,0,0,0,0,13609248.0339047,0,0,0,0,0,0,0,0,0,0,0,0,0,0,0,0,0,0,0,0,0,0,0,0,0,0,0,0,0,0,0,0,0,0,0,0,0,0,0,0,0,0,0,0,0,0,0,0,0,0,0,0,0,0,0,0,0,0,0,0,0,0,0,0,0,0,0,0,0,0,0,0,0,0,0,0,0,0,0,0,0,0,0,0,0,0,0,0,0,0,0,0,0,0,0,0,0,0,0,0,0,0,0,0,0,0,0,0,0,0,0,0,0,0,0,0,0,0,0,0,0,0,0,0,0,0,0,0,0,0,0,0,0,0,0,0,0,0,0,0,0,0,0,0,0,0,0,0,0,0,0,0,0,0,0,0,0,0,0,0,0,0,0,0,0,0,0,0,0,0,0,0,0,0,0,0,0,0,0,0,0,0,0,0,0,0,0,0,0,0,0,0,0,0,0,0,0,0,0,0,0,0,0,0,0,0,0,0,0,0,0,0,0,0,0,0,0,0,0,0,0,0,0,0,0,0,0,0,0,0,0,0,0,0,0,0,0,0,0,0,0,0,0,0,0,0,0,0,0,0,0,0,0,0,0,0,0,0,0,0,0,0,0,0,0,0,0,0,0,11234567.213227728,0,0,0,0,0,0,0,0,0,0,0,0,0,0,0,0,0,0,0,0,0,0,0,0,0,0,0,0,0,0,0,0,0,0,0,0,0,0,0,0,0,0,0,0,0,0,0,0,0,0,0,0,0,0,0,0,0,0,0,0,0,0,0,0,0,0,0,0,0,0,0,0,0,0,0,0,0,0,0,0,0,0,0,0,0,0,0,0,0,0,0,0,0,0,0,0,0,0,0,0,0,0,0,0,0,0,0,0,0,0,0,0,0,0,0,0,0,0,0,0,0,0,0,0,0,0,0,0,0,0,0,0,0,0,0,0,0,0,0,0,0,0,0,0,0,0,0,0,0,0,0,0,0,0,0,0,0,0,0,0,0,0,0,0,0,0,0,0,0,0,0,0,0,0,0,0,0,0,0,0,0,0,0,0,0,0,0,0,0,0,0,0,0,0,0,0,0,0,0,0,0,0,0,0,0,0,0,0,0,0,0,0,0,0,0,0,0,0,0,0,0,0,0,0,0,0,0,0,0,0,0,0,0,0,0,0,0,0,0,0,0,0,0,0,0,0,0,0,0,0,0,0,0,0,0,0,0,0,0,0,0,0,0,0,0,0,0,0,0,0,0,0,0,0,0,0,0,0,0,0,0,0,0,0,0,0,0,0,0,0,0,0,0,0,0,0,0,0,0,0,0,0,0,0,0,0,0,0,0,0,0,0,0,0,0,0,0,0,0,0,0,0,0,0,0,0,0,0,0,0,0,0,0,0,0,0,0,0,0,0,0,0,0,0,0,0,0,0,0,0,0,0,0,0,0,0,0,0,0,0,0,0,0,0,0,0,0,0,0,0,0,0,0,0,0,0,0,0,0,0,0,0,0,0,0,0,0,0,0,0,0,0,0,0,0,0,0,0,0,0,0,0,0,0,0,0,0,0,0,0,0,0,0,0,0,0]
[]
[]
["Time Horizon",{"$f":"horizon","v":50}]
["Discount Rate",{"$f":"d_rate","v":2.6499999999999999E-2}]
[]
["NPV Direct Costs",23450767.871264517]
["NPV Indirect Costs",36040097.000148222]
["Program Costs",59490864.871412747]
[]
["Average NPV Control Costs                             (Base-Case Scenario)",{"$f":"AVERAGE($B$3:$ALM$3)","v":10110107.563003607}]
["Average NPV Control Costs             (Preventative Management Scenario)",{"$f":"AVERAGE($B$4:$ALM$4)","v":34214.610918037768}]
["Average Program Benefits",{"$f":"B14-B15","v":10075892.95208557}]
[]
["Inspection Program Benefits"]
["Run",0,1,2,3,4,5,6,7,8,9,10,11,12,13,14,15,16,17,18,19,20,21,22,23,24,25,26,27,28,29,30,31,32,33,34,35,36,37,38,39,40,41,42,43,44,45,46,47,48,49,50,51,52,53,54,55,56,57,58,59,60,61,62,63,64,65,66,67,68,69,70,71,72,73,74,75,76,77,78,79,80,81,82,83,84,85,86,87,88,89,90,91,92,93,94,95,96,97,98,99,100,101,102,103,104,105,106,107,108,109,110,111,112,113,114,115,116,117,118,119,120,121,122,123,124,125,126,127,128,129,130,131,132,133,134,135,136,137,138,139,140,141,142,143,144,145,146,147,148,149,150,151,152,153,154,155,156,157,158,159,160,161,162,163,164,165,166,167,168,169,170,171,172,173,174,175,176,177,178,179,180,181,182,183,184,185,186,187,188,189,190,191,192,193,194,195,196,197,198,199,200,201,202,203,204,205,206,207,208,209,210,211,212,213,214,215,216,217,218,219,220,221,222,223,224,225,226,227,228,229,230,231,232,233,234,235,236,237,238,239,240,241,242,243,244,245,246,247,248,249,250,251,252,253,254,255,256,257,258,259,260,261,262,263,264,265,266,267,268,269,270,271,272,273,274,275,276,277,278,279,280,281,282,283,284,285,286,287,288,289,290,291,292,293,294,295,296,297,298,299,300,301,302,303,304,305,306,307,308,309,310,311,312,313,314,315,316,317,318,319,320,321,322,323,324,325,326,327,328,329,330,331,332,333,334,335,336,337,338,339,340,341,342,343,344,345,346,347,348,349,350,351,352,353,354,355,356,357,358,359,360,361,362,363,364,365,366,367,368,369,370,371,372,373,374,375,376,377,378,379,380,381,382,383,384,385,386,387,388,389,390,391,392,393,394,395,396,397,398,399,400,401,402,403,404,405,406,407,408,409,410,411,412,413,414,415,416,417,418,419,420,421,422,423,424,425,426,427,428,429,430,431,432,433,434,435,436,437,438,439,440,441,442,443,444,445,446,447,448,449,450,451,452,453,454,455,456,457,458,459,460,461,462,463,464,465,466,467,468,469,470,471,472,473,474,475,476,477,478,479,480,481,482,483,484,485,486,487,488,489,490,491,492,493,494,495,496,497,498,499,500,501,502,503,504,505,506,507,508,509,510,511,512,513,514,515,516,517,518,519,520,521,522,523,524,525,526,527,528,529,530,531,532,533,534,535,536,537,538,539,540,541,542,543,544,545,546,547,548,549,550,551,552,553,554,555,556,557,558,559,560,561,562,563,564,565,566,567,568,569,570,571,572,573,574,575,576,577,578,579,580,581,582,583,584,585,586,587,588,589,590,591,592,593,594,595,596,597,598,599,600,601,602,603,604,605,606,607,608,609,610,611,612,613,614,615,616,617,618,619,620,621,622,623,624,625,626,627,628,629,630,631,632,633,634,635,636,637,638,639,640,641,642,643,644,645,646,647,648,649,650,651,652,653,654,655,656,657,658,659,660,661,662,663,664,665,666,667,668,669,670,671,672,673,674,675,676,677,678,679,680,681,682,683,684,685,686,687,688,689,690,691,692,693,694,695,696,697,698,699,700,701,702,703,704,705,706,707,708,709,710,711,712,713,714,715,716,717,718,719,720,721,722,723,724,725,726,727,728,729,730,731,732,733,734,735,736,737,738,739,740,741,742,743,744,745,746,747,748,749,750,751,752,753,754,755,756,757,758,759,760,761,762,763,764,765,766,767,768,769,770,771,772,773,774,775,776,777,778,779,780,781,782,783,784,785,786,787,788,789,790,791,792,793,794,795,796,797,798,799,800,801,802,803,804,805,806,807,808,809,810,811,812,813,814,815,816,817,818,819,820,821,822,823,824,825,826,827,828,829,830,831,832,833,834,835,836,837,838,839,840,841,842,843,844,845,846,847,848,849,850,851,852,853,854,855,856,857,858,859,860,861,862,863,864,865,866,867,868,869,870,871,872,873,874,875,876,877,878,879,880,881,882,883,884,885,886,887,888,889,890,891,892,893,894,895,896,897,898,899,900,901,902,903,904,905,906,907,908,909,910,911,912,913,914,915,916,917,918,919,920,921,922,923,924,925,926,927,928,929,930,931,932,933,934,935,936,937,938,939,940,941,942,943,944,945,946,947,948,949,950,951,952,953,954,955,956,957,958,959,960,961,962,963,964,965,966,967,968,969,970,971,972,973,974,975,976,977,978,979,980,981,982,983,984,985,986,987,988,989,990,991,992,993,994,995,996,997,998,999]
["Benefits",10995929.238178983,34879769.919670723,14843990.952127827,14843990.952127827,0,0,0,0,56949262.913679227,31767423.342235312,0,0,0,931653.73806712683,0,16111454.557683866,0,0,24602064.294066887,0,0,34879769.919670723,13609248.0339047,0,0,0,0,7927845.3231815873,24293667.692405224,12161419.208315376,155993.91010365385,24602064.294066887,0,0,0,3712907.929983458,0,0,0,0,0,0,0,0,42962867.374907255,0,0,0,11234567.213227728,21601269.542516083,0,0,0,0,36498070.729650244,23417043.087681878,17481904.639497969,15846497.574633643,0,0,0,31767423.342235312,0,36498070.729650244,24602064.294066887,0,13609248.0339047,28747836.672332834,0,20192081.53647485,0,0,17140527.605686083,0,3712907.929983458,0,20192081.53647485,0,12406381.089702917,12406381.089702917,0,0,23047801.030717403,43484765.136129357,0,0,0,0,0,0,17481904.639497969,4685397.8354526693,0,0,0,0,1771359.2835504063,43484765.136129357,0,0,0,0,12406381.089702917,0,8915050.9443882275,13609248.0339047,36498070.729650244,0,16111454.557683866,28747836.672332834,0,1842597.0395650682,0,24602064.294066887,31767423.342235312,12406381.089702917,0,3807384.4279691628,37108.078567370198,0,0,20192081.53647485,10025397.639739167,148493.14711096953,27329614.968557816,0,7676901.2619754765,0,0,0,0,0,62302850.928232193,0,0,5753057.4141276404,33303246.967912797,30203641.2512579,169252.43191655021,39933862.406457327,18819272.957769316,0,18819272.957769316,0,0,12406381.089702917,2799363.7168525304,39933862.406457327,0,12406381.089702917,0,0,8915050.9443882275,0,23047801.030717403,0,0,17481904.639497969,17481904.639497969,0,43982.163733647205,2765523.706438194,24602064.294066887,0,11234567.213227728,0,0,341377.03381186957,0,0,17481904.639497969,99388.858394283758,0,0,17481904.639497969,15846497.574633643,0,1771359.2835504063,0,0,0,30203641.2512579,0,31811405.505968958,0,20192081.53647485,0,24602064.294066887,2765523.706438194,6779611.2809266755,0,8915050.9443882275,0,23402310.32788191,0,6627183.0654172674,23047801.030717403,0,0,36498070.729650244,28747836.672332834,0,6627183.0654172674,0,28747836.672332834,0,4685397.8354526693,0,18819272.957769316,37502052.487466201,0,4608345.2719844338,0,0,38159256.511094235,0,0,13609248.0339047,9860527.4163218029,40500.175861363285,36498070.729650244,0,0,0,0,0,8915050.9443882275,18819272.957769316,0,25948005.904967912,0,33303246.967912797,0,0,33303246.967912797,0,0,3637844.5461858572,11234567.213227728,31917043.582753282,0,36498070.729650244,0,35741266.389543168,25948005.904967912,0,0,1842597.0395650682,25948005.904967912,19126998.127795689,943496.53603547649,14843990.952127827,24602064.294066887,23598427.942870308,0,0,18819272.957769316,0,6627183.0654172674,0,0,15542234.009805493,943496.53603547649,0,5825363.0708952174,0,6779611.2809266755,47226359.3319159,0,28747836.672332834,23047801.030717403,0,23047801.030717403,0,0,0,20192081.53647485,0,20192081.53647485,0,304541.6445215065,0,20192081.53647485,51240123.310617842,0,16123318.36909858,5604564.2670166744,0,0,17481904.639497969,6779611.2809266755,19126998.127795689,0,12601905.800110526,0,0,0,169252.43191655021,0,0,0,12406381.089702917,17481904.639497969,34256060.495468572,0,0,14843990.952127827,0,12406381.089702917,3712907.929983458,48242881.103687562,22421456.027741618,0,0,0,33303246.967912797,0,17481904.639497969,2692398.1498891432,0,0,0,0,13609248.0339047,943496.53603547649,34256060.495468572,0,0,0,1842597.0395650682,0,0,0,16111454.557683866,0,21601269.542516083,19832371.787848949,943496.53603547649,0,10025397.639739167,3712907.929983458,15096334.572694793,18468849.43256142,21601269.542516083,43484765.136129357,16044225.635888772,2765523.706438194,0,6779611.2809266755,12406381.089702917,23047801.030717403,0,42102634.996666923,0,11234567.213227728,24602064.294066887,0,5825363.0708952174,10200802.783967597,13609248.0339047,39933862.406457327,0,0,0,36498070.729650244,39933862.406457327,11234567.213227728,0,4685397.8354526693,51240123.310617842,13832810.69652516,33303246.967912797,0,0,21601269.542516083,0,21601269.542516083,943496.53603547649,33303246.967912797,6779611.2809266755,0,0,16111454.557683866,27419305.923037842,2765523.706438194,15846497.574633643,21601269.542516083,931653.73806712683,13357794.662660386,12161419.208315376,6779611.2809266755,43484765.136129357,5753057.4141276404,0,0,3712907.929983458,943496.53603547649,25948005.904967912,0,0,0,0,0,0,38159256.511094235,45331098.319345042,0,0,0,30203641.2512579,28747836.672332834,39933862.406457327,0,0,0,0,0,0,0,45331098.319345042,0,0,0,0,0,874097.84532465157,14843990.952127827,0,0,12161419.208315376,8754436.9907424767,20192081.53647485,0,0,0,25948005.904967912,0,0,0,0,36498070.729650244,0,0,0,0,12406381.089702917,16111454.557683866,0,0,17759419.128186997,0,28747836.672332834,0,28747836.672332834,10200802.783967597,0,0,7833368.8251958825,0,32695639.15086247,16111454.557683866,0,0,0,0,0,70897816.292466342,1771359.2835504063,45331098.319345042,0,0,13609248.0339047,0,0,31767423.342235312,0,0,0,18819272.957769316,33303246.967912797,24602064.294066887,47226359.3319159,0,5753057.4141276404,0,7833368.8251958825,25948005.904967912,39933862.406457327,16111454.557683866,1842597.0395650682,0,0,0,55642613.355609268,0,10025397.639739167,55398197.689930312,0,33303246.967912797,51240123.310617842,22884479.686363991,10025397.639739167,0,7833368.8251958825,7833368.8251958825,47556.424284546636,0,30203641.2512579,2692398.1498891432,0,16870927.196087684,11234567.213227728,0,0,0,0,39933862.406457327,0,50091600.322105847,1771359.2835504063,0,0,13609248.0339047,0,0,0,577247.63420810923,0,0,2692398.1498891432,41686096.66733668,0,7676901.2619754765,23047801.030717403,17481904.639497969,0,0,0,3712907.929983458,11234567.213227728,39933862.406457327,4835018.0759706385,6779611.2809266755,0,0,0,0,0,0,0,43872412.851557456,874097.84532465157,0,46400284.064122505,24602064.294066887,40070118.97507748,0,0,47226359.3319159,0,0,0,24602064.294066887,0,943496.53603547649,0,34879769.919670723,20192081.53647485,0,0,0,27329614.968557816,0,0,0,4685397.8354526693,39933862.406457327,0,13609248.0339047,0,7833368.8251958825,3712907.929983458,8707466.6705205347,10366702.329288354,1842597.0395650682,13573435.346305259,27329614.968557816,38159256.511094235,1853296.9548376189,0,0,0,41199570.489436865,11471213.371381739,4685397.8354526693,0,0,10025397.639739167,0,18819272.957769316,3712907.929983458,8915050.9443882275,16111454.557683866,10025397.639739167,31767423.342235312,16111454.557683866,0,34879769.919670723,0,43982.163733647205,0,0,0,53291973.48545745,0,313548.88042592251,0,0,0,13609248.0339047,0,0,41686096.66733668,7676901.2619754765,5753057.4141276404,0,14843990.952127827,0,6876689.5849856567,17861750.278645001,0,3637844.5461858572,0,0,0,0,55398197.689930312,24602064.294066887,20192081.53647485,27719365.188518316,0,0,0,0,18819272.957769316,0,18819272.957769316,1842597.0395650682,33303246.967912797,0,6779611.2809266755,1771359.2835504063,0,58402711.839018732,0,11234567.213227728,11234567.213227728,0,4608345.2719844338,4685397.8354526693,39933862.406457327,45331098.319345042,0,0,0,0,14843990.952127827,0,0,13609248.0339047,0,80875584.266230687,27329614.968557816,0,16111454.557683866,16111454.557683866,30203641.2512579,0,5753057.4141276404,39933862.406457327,0,25477386.576300375,0,8915050.9443882275,35753867.764995374,51240123.310617842,0,0,0,0,109607.56156902062,0,0,931653.73806712683,0,0,0,47226359.3319159,0,0,12406381.089702917,4685397.8354526693,14843990.952127827,0,0,10025397.639739167,17140527.605686083,0,47226359.3319159,0,21601269.542516083,0,0,21601269.542516083,11234567.213227728,0,0,0,0,0,0,16111454.557683866,28747836.672332834,0,51240123.310617842,44594334.246966451,0,50929791.644636303,0,20192081.53647485,13609248.0339047,0,0,0,0,0,0,53447967.395561099,1842597.0395650682,0,0,13609248.0339047,4685397.8354526693,33303246.967912797,0,0,0,0,14843990.952127827,10025397.639739167,0,11234567.213227728,49241243.452030763,14843990.952127827,0,33303246.967912797,0,23047801.030717403,25948005.904967912,33303246.967912797,6779611.2809266755,0,7833368.8251958825,0,156467.56322040962,243129.68404659894,0,0,12161419.208315376,2765523.706438194,0,0,0,24602064.294066887,0,25948005.904967912,0,30967459.514743675,0,0,0,0,31767423.342235312,0,0,0,0,8984449.6350990515,4608345.2719844338,1842597.0395650682,0,25948005.904967912,12484214.016397184,0,0,0,387647.71542810276,49241243.452030763,0,14843990.952127827,0,33303246.967912797,45331098.319345042,30203641.2512579,0,12406381.089702917,5604564.2670166744,24602064.294066887,0,0,47226359.3319159,0,0,19327788.529208094,28946518.527217314,0,24602064.294066887,17140527.605686083,55502629.086283997,0,17759419.128186997,0,0,0,0,0,0,12406381.089702917,0,28993986.341414776,20192081.53647485,0,0,0,0,0,12406381.089702917,0,0,0,8915050.9443882275,58905634.036424063,0,0,0,4685397.8354526693,0,12161419.208315376,28946518.527217314,16111454.557683866,12406381.089702917,14843990.952127827,0,0,21601269.542516083,10995929.238178983,45665797.185449854,10025397.639739167,0,3712907.929983458,9860527.4163218029,0,0,0,10025397.639739167,28747836.672332834,3712907.929983458,0,0,23529549.232354276,0,1842597.0395650682,4685397.8354526693,0,0,4685397.8354526693,20192081.53647485,41686096.66733668,25533718.032134015,12601905.800110526,0,99388.858394283758,8915050.9443882275,20192081.53647485,0,34879769.919670723,8915050.9443882275,0,13832810.69652516,12552895.490574084,0,6876689.5849856567,0,0,0,0,30203641.2512579,0,30203641.2512579,0,59466745.365485691,0,0,0,17140527.605686083,24602064.294066887,17481904.639497969,0,0,7833368.8251958825,38159256.511094235,226105.98600559743,0,12467344.920725934,16111454.557683866,32695639.15086247,0,38159256.511094235,4685397.8354526693,18819272.957769316,0,33356181.94431727,0,0,0,14843990.952127827,4685397.8354526693,0,0,0,7833368.8251958825,14843990.952127827,39933862.406457327,0,0,0,11234567.213227728,0,26846524.227680575,0,0,7833368.8251958825,30203641.2512579,34879769.919670723,5825363.0708952174,31767423.342235312,0,2692398.1498891432,0,18819272.957769316,8321253.2019678904,57560236.83582174,0,21601269.542516083,0,5604564.2670166744,155993.91010365385,0,0,0,0,21601269.542516083,18819272.957769316,0,0,0,0,24143594.417137969,0,18819272.957769316,14843990.952127827,5753057.4141276404,0,34879769.919670723,0,0,0,11234567.213227728,0,0,0,75661308.998560488,874097.84532465157,0,0,4608345.2719844338,1842597.0395650682,0,10025397.639739167,23047801.030717403,0,6779611.2809266755,17140527.605686083,0,28747836.672332834,13609248.0339047,34879769.919670723,45331098.319345042,0,0]
[]
["Upper Limit","Frequency",null,null,"Min","Q1","Median","Q3","Max","Mean","StDev","Bound","95% Confidence Interval"]
[500000,{"$f":"COUNTIF($B$20:$ALM$20, \"<=500000\")","v":512},null,null,{"$f":"MIN(B20:ALM20)","v":0},{"$f":"QUARTILE(B20:ALM20,1)","v":0},{"$f":"MEDIAN(B20:ALM20)","v":129050.35433999507},{"$f":"QUARTILE(B20:ALM20,3)","v":17140527.605686083},{"$f":"MAX(B20:ALM20)","v":80875584.266230687},{"$f":"AVERAGE(B20:ALM20)","v":10075892.952085571},{"$f":"STDEV(B20:ALM20)","v":14572867.459621413},{"$f":"1.96*K23/SQRT(COUNT(B20:ALM20))","v":903235.68295824807},{"$f":"J23-L23","v":9172657.2691273242},{"$f":"J23+L23","v":10979128.635043819},"*Think more about the CI, given a non-standard distribution"]
[1000000,{"$f":"COUNTIF($B$20:$ALM$20,\"<=1000000\")-COUNTIF($B$20:$ALM$20, \"<=500000\")","v":14}]
[1500000,{"$f":"COUNTIF($B$20:$ALM$20,\"<=1500000\")-COUNTIF($B$20:$ALM$20, \"<=1000000\")","v":0}]
[2000000,{"$f":"COUNTIF($B$20:$ALM$20,\"<=2000000\")-COUNTIF($B$20:$ALM$20, \"<=1500000\")","v":16}]
[2500000,{"$f":"COUNTIF($B$20:$ALM$20,\"<=2500000\")-COUNTIF($B$20:$ALM$20, \"<=2000000\")","v":0}]
[3000000,{"$f":"COUNTIF($B$20:$ALM$20,\"<=3000000\")-COUNTIF($B$20:$ALM$20, \"<=2500000\")","v":10}]
[3500000,{"$f":"COUNTIF($B$20:$ALM$20,\"<=3500000\")-COUNTIF($B$20:$ALM$20, \"<=3000000\")","v":0}]
[4000000,{"$f":"COUNTIF($B$20:$ALM$20,\"<=4000000\")-COUNTIF($B$20:$ALM$20, \"<=3500000\")","v":13}]
[4500000,{"$f":"COUNTIF($B$20:$ALM$20,\"<=4500000\")-COUNTIF($B$20:$ALM$20, \"<=4000000\")","v":0}]
[5000000,{"$f":"COUNTIF($B$20:$ALM$20,\"<=5000000\")-COUNTIF($B$20:$ALM$20, \"<=4500000\")","v":18}]
[5500000,{"$f":"COUNTIF($B$20:$ALM$20,\"<=5500000\")-COUNTIF($B$20:$ALM$20, \"<=5000000\")","v":0}]
[6000000,{"$f":"COUNTIF($B$20:$ALM$20,\"<=6000000\")-COUNTIF($B$20:$ALM$20, \"<=5500000\")","v":12}]
[6500000,{"$f":"COUNTIF($B$20:$ALM$20,\"<=6500000\")-COUNTIF($B$20:$ALM$20, \"<=6000000\")","v":0}]
[7000000,{"$f":"COUNTIF($B$20:$ALM$20,\"<=7000000\")-COUNTIF($B$20:$ALM$20, \"<=6500000\")","v":15}]
[7500000,{"$f":"COUNTIF($B$20:$ALM$20,\"<=7500000\")-COUNTIF($B$20:$ALM$20, \"<=7000000\")","v":0}]
[8000000,{"$f":"COUNTIF($B$20:$ALM$20,\"<=8000000\")-COUNTIF($B$20:$ALM$20, \"<=7500000\")","v":13}]
[8500000,{"$f":"COUNTIF($B$20:$ALM$20,\"<=8500000\")-COUNTIF($B$20:$ALM$20, \"<=8000000\")","v":1}]
[9000000,{"$f":"COUNTIF($B$20:$ALM$20,\"<=9000000\")-COUNTIF($B$20:$ALM$20, \"<=8500000\")","v":12}]
[9500000,{"$f":"COUNTIF($B$20:$ALM$20,\"<=9500000\")-COUNTIF($B$20:$ALM$20, \"<=9000000\")","v":0}]
[10000000,{"$f":"COUNTIF($B$20:$ALM$20,\"<=10000000\")-COUNTIF($B$20:$ALM$20, \"<=9500000\")","v":2}]
[10500000,{"$f":"COUNTIF($B$20:$ALM$20,\"<=10500000\")-COUNTIF($B$20:$ALM$20, \"<=10000000\")","v":14}]
[11000000,{"$f":"COUNTIF($B$20:$ALM$20,\"<=11000000\")-COUNTIF($B$20:$ALM$20, \"<=10500000\")","v":2}]
[11500000,{"$f":"COUNTIF($B$20:$ALM$20,\"<=11500000\")-COUNTIF($B$20:$ALM$20, \"<=11000000\")","v":14}]
[12000000,{"$f":"COUNTIF($B$20:$ALM$20,\"<=12000000\")-COUNTIF($B$20:$ALM$20, \"<=11500000\")","v":0}]
[]
[]
["Net Benefits of the Inspection Program"]
["Run",0,1,2,3,4,5,6,7,8,9,10,11,12,13,14,15,16,17,18,19,20,21,22,23,24,25,26,27,28,29,30,31,32,33,34,35,36,37,38,39,40,41,42,43,44,45,46,47,48,49,50,51,52,53,54,55,56,57,58,59,60,61,62,63,64,65,66,67,68,69,70,71,72,73,74,75,76,77,78,79,80,81,82,83,84,85,86,87,88,89,90,91,92,93,94,95,96,97,98,99,100,101,102,103,104,105,106,107,108,109,110,111,112,113,114,115,116,117,118,119,120,121,122,123,124,125,126,127,128,129,130,131,132,133,134,135,136,137,138,139,140,141,142,143,144,145,146,147,148,149,150,151,152,153,154,155,156,157,158,159,160,161,162,163,164,165,166,167,168,169,170,171,172,173,174,175,176,177,178,179,180,181,182,183,184,185,186,187,188,189,190,191,192,193,194,195,196,197,198,199,200,201,202,203,204,205,206,207,208,209,210,211,212,213,214,215,216,217,218,219,220,221,222,223,224,225,226,227,228,229,230,231,232,233,234,235,236,237,238,239,240,241,242,243,244,245,246,247,248,249,250,251,252,253,254,255,256,257,258,259,260,261,262,263,264,265,266,267,268,269,270,271,272,273,274,275,276,277,278,279,280,281,282,283,284,285,286,287,288,289,290,291,292,293,294,295,296,297,298,299,300,301,302,303,304,305,306,307,308,309,310,311,312,313,314,315,316,317,318,319,320,321,322,323,324,325,326,327,328,329,330,331,332,333,334,335,336,337,338,339,340,341,342,343,344,345,346,347,348,349,350,351,352,353,354,355,356,357,358,359,360,361,362,363,364,365,366,367,368,369,370,371,372,373,374,375,376,377,378,379,380,381,382,383,384,385,386,387,388,389,390,391,392,393,394,395,396,397,398,399,400,401,402,403,404,405,406,407,408,409,410,411,412,413,414,415,416,417,418,419,420,421,422,423,424,425,426,427,428,429,430,431,432,433,434,435,436,437,438,439,440,441,442,443,444,445,446,447,448,449,450,451,452,453,454,455,456,457,458,459,460,461,462,463,464,465,466,467,468,469,470,471,472,473,474,475,476,477,478,479,480,481,482,483,484,485,486,487,488,489,490,491,492,493,494,495,496,497,498,499,500,501,502,503,504,505,506,507,508,509,510,511,512,513,514,515,516,517,518,519,520,521,522,523,524,525,526,527,528,529,530,531,532,533,534,535,536,537,538,539,540,541,542,543,544,545,546,547,548,549,550,551,552,553,554,555,556,557,558,559,560,561,562,563,564,565,566,567,568,569,570,571,572,573,574,575,576,577,578,579,580,581,582,583,584,585,586,587,588,589,590,591,592,593,594,595,596,597,598,599,600,601,602,603,604,605,606,607,608,609,610,611,612,613,614,615,616,617,618,619,620,621,622,623,624,625,626,627,628,629,630,631,632,633,634,635,636,637,638,639,640,641,642,643,644,645,646,647,648,649,650,651,652,653,654,655,656,657,658,659,660,661,662,663,664,665,666,667,668,669,670,671,672,673,674,675,676,677,678,679,680,681,682,683,684,685,686,687,688,689,690,691,692,693,694,695,696,697,698,699,700,701,702,703,704,705,706,707,708,709,710,711,712,713,714,715,716,717,718,719,720,721,722,723,724,725,726,727,728,729,730,731,732,733,734,735,736,737,738,739,740,741,742,743,744,745,746,747,748,749,750,751,752,753,754,755,756,757,758,759,760,761,762,763,764,765,766,767,768,769,770,771,772,773,774,775,776,777,778,779,780,781,782,783,784,785,786,787,788,789,790,791,792,793,794,795,796,797,798,799,800,801,802,803,804,805,806,807,808,809,810,811,812,813,814,815,816,817,818,819,820,821,822,823,824,825,826,827,828,829,830,831,832,833,834,835,836,837,838,839,840,841,842,843,844,845,846,847,848,849,850,851,852,853,854,855,856,857,858,859,860,861,862,863,864,865,866,867,868,869,870,871,872,873,874,875,876,877,878,879,880,881,882,883,884,885,886,887,888,889,890,891,892,893,894,895,896,897,898,899,900,901,902,903,904,905,906,907,908,909,910,911,912,913,914,915,916,917,918,919,920,921,922,923,924,925,926,927,928,929,930,931,932,933,934,935,936,937,938,939,940,941,942,943,944,945,946,947,948,949,950,951,952,953,954,955,956,957,958,959,960,961,962,963,964,965,966,967,968,969,970,971,972,973,974,975,976,977,978,979,980,981,982,983,984,985,986,987,988,989,990,991,992,993,994,995,996,997,998,999]
["Net Benefits",-48494935.633233763,-24611094.951742023,-44646873.919284917,-44646873.919284917,-59490864.871412747,-59490864.871412747,-59490864.871412747,-59490864.871412747,-2541601.9577335194,-27723441.529177435,-59490864.871412747,-59490864.871412747,-59490864.871412747,-58559211.133345619,-59490864.871412747,-43379410.313728884,-59490864.871412747,-59490864.871412747,-34888800.577345863,-59490864.871412747,-59490864.871412747,-24611094.951742023,-45881616.837508045,-59490864.871412747,-59490864.871412747,-59490864.871412747,-59490864.871412747,-51563019.548231162,-35197197.179007523,-47329445.663097367,-59334870.96130909,-34888800.577345863,-59490864.871412747,-59490864.871412747,-59490864.871412747,-55777956.941429287,-59490864.871412747,-59490864.871412747,-59490864.871412747,-59490864.871412747,-59490864.871412747,-59490864.871412747,-59490864.871412747,-59490864.871412747,-16527997.496505491,-59490864.871412747,-59490864.871412747,-59490864.871412747,-48256297.65818502,-37889595.328896664,-59490864.871412747,-59490864.871412747,-59490864.871412747,-59490864.871412747,-22992794.141762502,-36073821.783730865,-42008960.231914774,-43644367.296779104,-59490864.871412747,-59490864.871412747,-59490864.871412747,-27723441.529177435,-59490864.871412747,-22992794.141762502,-34888800.577345863,-59490864.871412747,-45881616.837508045,-30743028.199079912,-59490864.871412747,-39298783.3349379,-59490864.871412747,-59490864.871412747,-42350337.265726663,-59490864.871412747,-55777956.941429287,-59490864.871412747,-39298783.3349379,-59490864.871412747,-47084483.781709827,-47084483.781709827,-59490864.871412747,-59490864.871412747,-36443063.840695344,-16006099.73528339,-59490864.871412747,-59490864.871412747,-59490864.871412747,-59490864.871412747,-59490864.871412747,-59490864.871412747,-42008960.231914774,-54805467.035960078,-59490864.871412747,-59490864.871412747,-59490864.871412747,-59490864.871412747,-57719505.587862343,-16006099.73528339,-59490864.871412747,-59490864.871412747,-59490864.871412747,-59490864.871412747,-47084483.781709827,-59490864.871412747,-50575813.927024521,-45881616.837508045,-22992794.141762502,-59490864.871412747,-43379410.313728884,-30743028.199079912,-59490864.871412747,-57648267.831847675,-59490864.871412747,-34888800.577345863,-27723441.529177435,-47084483.781709827,-59490864.871412747,-55683480.443443581,-59453756.792845376,-59490864.871412747,-59490864.871412747,-39298783.3349379,-49465467.231673583,-59342371.724301778,-32161249.902854931,-59490864.871412747,-51813963.609437272,-59490864.871412747,-59490864.871412747,-59490864.871412747,-59490864.871412747,-59490864.871412747,2811986.0568194464,-59490864.871412747,-59490864.871412747,-53737807.457285106,-26187617.90349995,-29287223.620154846,-59321612.439496197,-19557002.464955419,-40671591.913643435,-59490864.871412747,-40671591.913643435,-59490864.871412747,-59490864.871412747,-47084483.781709827,-56691501.154560216,-19557002.464955419,-59490864.871412747,-47084483.781709827,-59490864.871412747,-59490864.871412747,-50575813.927024521,-59490864.871412747,-36443063.840695344,-59490864.871412747,-59490864.871412747,-42008960.231914774,-42008960.231914774,-59490864.871412747,-59446882.7076791,-56725341.164974555,-34888800.577345863,-59490864.871412747,-48256297.65818502,-59490864.871412747,-59490864.871412747,-59149487.837600879,-59490864.871412747,-59490864.871412747,-42008960.231914774,-59391476.013018467,-59490864.871412747,-59490864.871412747,-42008960.231914774,-43644367.296779104,-59490864.871412747,-57719505.587862343,-59490864.871412747,-59490864.871412747,-59490864.871412747,-29287223.620154846,-59490864.871412747,-27679459.365443788,-59490864.871412747,-39298783.3349379,-59490864.871412747,-34888800.577345863,-56725341.164974555,-52711253.590486072,-59490864.871412747,-50575813.927024521,-59490864.871412747,-36088554.543530837,-59490864.871412747,-52863681.805995479,-36443063.840695344,-59490864.871412747,-59490864.871412747,-22992794.141762502,-30743028.199079912,-59490864.871412747,-52863681.805995479,-59490864.871412747,-30743028.199079912,-59490864.871412747,-54805467.035960078,-59490864.871412747,-40671591.913643435,-21988812.383946545,-59490864.871412747,-54882519.599428311,-59490864.871412747,-59490864.871412747,-21331608.360318512,-59490864.871412747,-59490864.871412747,-45881616.837508045,-49630337.45509094,-59450364.695551381,-22992794.141762502,-59490864.871412747,-59490864.871412747,-59490864.871412747,-59490864.871412747,-59490864.871412747,-50575813.927024521,-40671591.913643435,-59490864.871412747,-33542858.966444835,-59490864.871412747,-26187617.90349995,-59490864.871412747,-59490864.871412747,-26187617.90349995,-59490864.871412747,-59490864.871412747,-55853020.325226888,-48256297.65818502,-27573821.288659465,-59490864.871412747,-22992794.141762502,-59490864.871412747,-23749598.481869578,-33542858.966444835,-59490864.871412747,-59490864.871412747,-57648267.831847675,-33542858.966444835,-40363866.743617058,-58547368.335377268,-44646873.919284917,-34888800.577345863,-35892436.928542435,-59490864.871412747,-59490864.871412747,-40671591.913643435,-59490864.871412747,-52863681.805995479,-59490864.871412747,-59490864.871412747,-43948630.861607254,-58547368.335377268,-59490864.871412747,-53665501.800517529,-59490864.871412747,-52711253.590486072,-12264505.539496846,-59490864.871412747,-30743028.199079912,-36443063.840695344,-59490864.871412747,-36443063.840695344,-59490864.871412747,-59490864.871412747,-59490864.871412747,-39298783.3349379,-59490864.871412747,-39298783.3349379,-59490864.871412747,-59186323.226891242,-59490864.871412747,-39298783.3349379,-8250741.5607949048,-59490864.871412747,-43367546.502314165,-53886300.604396075,-59490864.871412747,-59490864.871412747,-42008960.231914774,-52711253.590486072,-40363866.743617058,-59490864.871412747,-46888959.07130222,-59490864.871412747,-59490864.871412747,-59490864.871412747,-59321612.439496197,-59490864.871412747,-59490864.871412747,-59490864.871412747,-47084483.781709827,-42008960.231914774,-25234804.375944175,-59490864.871412747,-59490864.871412747,-44646873.919284917,-59490864.871412747,-47084483.781709827,-55777956.941429287,-11247983.767725185,-37069408.843671128,-59490864.871412747,-59490864.871412747,-59490864.871412747,-26187617.90349995,-59490864.871412747,-42008960.231914774,-56798466.721523605,-59490864.871412747,-59490864.871412747,-59490864.871412747,-59490864.871412747,-45881616.837508045,-58547368.335377268,-25234804.375944175,-59490864.871412747,-59490864.871412747,-59490864.871412747,-57648267.831847675,-59490864.871412747,-59490864.871412747,-59490864.871412747,-43379410.313728884,-59490864.871412747,-37889595.328896664,-39658493.083563797,-58547368.335377268,-59490864.871412747,-49465467.231673583,-55777956.941429287,-44394530.298717953,-41022015.438851327,-37889595.328896664,-16006099.73528339,-43446639.235523976,-56725341.164974555,-59490864.871412747,-52711253.590486072,-47084483.781709827,-36443063.840695344,-59490864.871412747,-17388229.874745823,-59490864.871412747,-48256297.65818502,-34888800.577345863,-59490864.871412747,-53665501.800517529,-49290062.087445147,-45881616.837508045,-19557002.464955419,-59490864.871412747,-59490864.871412747,-59490864.871412747,-22992794.141762502,-19557002.464955419,-48256297.65818502,-59490864.871412747,-54805467.035960078,-8250741.5607949048,-45658054.174887583,-26187617.90349995,-59490864.871412747,-59490864.871412747,-37889595.328896664,-59490864.871412747,-37889595.328896664,-58547368.335377268,-26187617.90349995,-52711253.590486072,-59490864.871412747,-59490864.871412747,-43379410.313728884,-32071558.948374905,-56725341.164974555,-43644367.296779104,-37889595.328896664,-58559211.133345619,-46133070.208752364,-47329445.663097367,-52711253.590486072,-16006099.73528339,-53737807.457285106,-59490864.871412747,-59490864.871412747,-55777956.941429287,-58547368.335377268,-33542858.966444835,-59490864.871412747,-59490864.871412747,-59490864.871412747,-59490864.871412747,-59490864.871412747,-59490864.871412747,-21331608.360318512,-14159766.552067704,-59490864.871412747,-59490864.871412747,-59490864.871412747,-29287223.620154846,-30743028.199079912,-19557002.464955419,-59490864.871412747,-59490864.871412747,-59490864.871412747,-59490864.871412747,-59490864.871412747,-59490864.871412747,-59490864.871412747,-14159766.552067704,-59490864.871412747,-59490864.871412747,-59490864.871412747,-59490864.871412747,-59490864.871412747,-58616767.026088096,-44646873.919284917,-59490864.871412747,-59490864.871412747,-47329445.663097367,-50736427.880670272,-39298783.3349379,-59490864.871412747,-59490864.871412747,-59490864.871412747,-33542858.966444835,-59490864.871412747,-59490864.871412747,-59490864.871412747,-59490864.871412747,-22992794.141762502,-59490864.871412747,-59490864.871412747,-59490864.871412747,-59490864.871412747,-47084483.781709827,-43379410.313728884,-59490864.871412747,-59490864.871412747,-41731445.743225753,-59490864.871412747,-30743028.199079912,-59490864.871412747,-30743028.199079912,-49290062.087445147,-59490864.871412747,-59490864.871412747,-51657496.04621686,-59490864.871412747,-26795225.720550276,-43379410.313728884,-59490864.871412747,-59490864.871412747,-59490864.871412747,-59490864.871412747,-59490864.871412747,11406951.421053596,-57719505.587862343,-14159766.552067704,-59490864.871412747,-59490864.871412747,-45881616.837508045,-59490864.871412747,-59490864.871412747,-27723441.529177435,-59490864.871412747,-59490864.871412747,-59490864.871412747,-40671591.913643435,-26187617.90349995,-34888800.577345863,-12264505.539496846,-59490864.871412747,-53737807.457285106,-59490864.871412747,-51657496.04621686,-33542858.966444835,-19557002.464955419,-43379410.313728884,-57648267.831847675,-59490864.871412747,-59490864.871412747,-59490864.871412747,-3848251.5158034787,-59490864.871412747,-49465467.231673583,-4092667.1814824343,-59490864.871412747,-26187617.90349995,-8250741.5607949048,-36606385.185048759,-49465467.231673583,-59490864.871412747,-51657496.04621686,-51657496.04621686,-59443308.447128199,-59490864.871412747,-29287223.620154846,-56798466.721523605,-59490864.871412747,-42619937.675325066,-48256297.65818502,-59490864.871412747,-59490864.871412747,-59490864.871412747,-59490864.871412747,-19557002.464955419,-59490864.871412747,-9399264.5493068993,-57719505.587862343,-59490864.871412747,-59490864.871412747,-45881616.837508045,-59490864.871412747,-59490864.871412747,-59490864.871412747,-58913617.237204641,-59490864.871412747,-59490864.871412747,-56798466.721523605,-17804768.204076067,-59490864.871412747,-51813963.609437272,-36443063.840695344,-42008960.231914774,-59490864.871412747,-59490864.871412747,-59490864.871412747,-55777956.941429287,-48256297.65818502,-19557002.464955419,-54655846.795442104,-52711253.590486072,-59490864.871412747,-59490864.871412747,-59490864.871412747,-59490864.871412747,-59490864.871412747,-59490864.871412747,-59490864.871412747,-15618452.019855291,-58616767.026088096,-59490864.871412747,-13090580.807290241,-34888800.577345863,-19420745.896335267,-59490864.871412747,-59490864.871412747,-12264505.539496846,-59490864.871412747,-59490864.871412747,-59490864.871412747,-34888800.577345863,-59490864.871412747,-58547368.335377268,-59490864.871412747,-24611094.951742023,-39298783.3349379,-59490864.871412747,-59490864.871412747,-59490864.871412747,-32161249.902854931,-59490864.871412747,-59490864.871412747,-59490864.871412747,-54805467.035960078,-19557002.464955419,-59490864.871412747,-45881616.837508045,-59490864.871412747,-51657496.04621686,-55777956.941429287,-50783398.20089221,-49124162.542124391,-57648267.831847675,-45917429.525107488,-32161249.902854931,-21331608.360318512,-57637567.916575126,-59490864.871412747,-59490864.871412747,-59490864.871412747,-18291294.381975882,-48019651.500031009,-54805467.035960078,-59490864.871412747,-59490864.871412747,-49465467.231673583,-59490864.871412747,-40671591.913643435,-55777956.941429287,-50575813.927024521,-43379410.313728884,-49465467.231673583,-27723441.529177435,-43379410.313728884,-59490864.871412747,-24611094.951742023,-59490864.871412747,-59446882.7076791,-59490864.871412747,-59490864.871412747,-59490864.871412747,-6198891.3859552965,-59490864.871412747,-59177315.990986824,-59490864.871412747,-59490864.871412747,-59490864.871412747,-45881616.837508045,-59490864.871412747,-59490864.871412747,-17804768.204076067,-51813963.609437272,-53737807.457285106,-59490864.871412747,-44646873.919284917,-59490864.871412747,-52614175.286427088,-41629114.592767745,-59490864.871412747,-55853020.325226888,-59490864.871412747,-59490864.871412747,-59490864.871412747,-59490864.871412747,-4092667.1814824343,-34888800.577345863,-39298783.3349379,-31771499.682894431,-59490864.871412747,-59490864.871412747,-59490864.871412747,-59490864.871412747,-40671591.913643435,-59490864.871412747,-40671591.913643435,-57648267.831847675,-26187617.90349995,-59490864.871412747,-52711253.590486072,-57719505.587862343,-59490864.871412747,-1088153.0323940143,-59490864.871412747,-48256297.65818502,-48256297.65818502,-59490864.871412747,-54882519.599428311,-54805467.035960078,-19557002.464955419,-14159766.552067704,-59490864.871412747,-59490864.871412747,-59490864.871412747,-59490864.871412747,-44646873.919284917,-59490864.871412747,-59490864.871412747,-45881616.837508045,-59490864.871412747,21384719.394817941,-32161249.902854931,-59490864.871412747,-43379410.313728884,-43379410.313728884,-29287223.620154846,-59490864.871412747,-53737807.457285106,-19557002.464955419,-59490864.871412747,-34013478.295112371,-59490864.871412747,-50575813.927024521,-23736997.106417373,-8250741.5607949048,-59490864.871412747,-59490864.871412747,-59490864.871412747,-59490864.871412747,-59381257.309843726,-59490864.871412747,-59490864.871412747,-58559211.133345619,-59490864.871412747,-59490864.871412747,-59490864.871412747,-12264505.539496846,-59490864.871412747,-59490864.871412747,-47084483.781709827,-54805467.035960078,-44646873.919284917,-59490864.871412747,-59490864.871412747,-49465467.231673583,-42350337.265726663,-59490864.871412747,-12264505.539496846,-59490864.871412747,-37889595.328896664,-59490864.871412747,-59490864.871412747,-37889595.328896664,-48256297.65818502,-59490864.871412747,-59490864.871412747,-59490864.871412747,-59490864.871412747,-59490864.871412747,-59490864.871412747,-43379410.313728884,-30743028.199079912,-59490864.871412747,-8250741.5607949048,-14896530.624446295,-59490864.871412747,-8561073.2267764434,-59490864.871412747,-39298783.3349379,-45881616.837508045,-59490864.871412747,-59490864.871412747,-59490864.871412747,-59490864.871412747,-59490864.871412747,-59490864.871412747,-6042897.4758516476,-57648267.831847675,-59490864.871412747,-59490864.871412747,-45881616.837508045,-54805467.035960078,-26187617.90349995,-59490864.871412747,-59490864.871412747,-59490864.871412747,-59490864.871412747,-44646873.919284917,-49465467.231673583,-59490864.871412747,-48256297.65818502,-10249621.419381984,-44646873.919284917,-59490864.871412747,-26187617.90349995,-59490864.871412747,-36443063.840695344,-33542858.966444835,-26187617.90349995,-52711253.590486072,-59490864.871412747,-51657496.04621686,-59490864.871412747,-59334397.308192335,-59247735.18736615,-59490864.871412747,-59490864.871412747,-47329445.663097367,-56725341.164974555,-59490864.871412747,-59490864.871412747,-59490864.871412747,-34888800.577345863,-59490864.871412747,-33542858.966444835,-59490864.871412747,-28523405.356669072,-59490864.871412747,-59490864.871412747,-59490864.871412747,-59490864.871412747,-27723441.529177435,-59490864.871412747,-59490864.871412747,-59490864.871412747,-59490864.871412747,-50506415.236313693,-54882519.599428311,-57648267.831847675,-59490864.871412747,-33542858.966444835,-47006650.855015561,-59490864.871412747,-59490864.871412747,-59490864.871412747,-59103217.15598464,-10249621.419381984,-59490864.871412747,-44646873.919284917,-59490864.871412747,-26187617.90349995,-14159766.552067704,-29287223.620154846,-59490864.871412747,-47084483.781709827,-53886300.604396075,-34888800.577345863,-59490864.871412747,-59490864.871412747,-12264505.539496846,-59490864.871412747,-59490864.871412747,-40163076.342204653,-30544346.344195433,-59490864.871412747,-34888800.577345863,-42350337.265726663,-3988235.7851287499,-59490864.871412747,-41731445.743225753,-59490864.871412747,-59490864.871412747,-59490864.871412747,-59490864.871412747,-59490864.871412747,-59490864.871412747,-47084483.781709827,-59490864.871412747,-30496878.529997971,-39298783.3349379,-59490864.871412747,-59490864.871412747,-59490864.871412747,-59490864.871412747,-59490864.871412747,-47084483.781709827,-59490864.871412747,-59490864.871412747,-59490864.871412747,-50575813.927024521,-585230.83498868346,-59490864.871412747,-59490864.871412747,-59490864.871412747,-54805467.035960078,-59490864.871412747,-47329445.663097367,-30544346.344195433,-43379410.313728884,-47084483.781709827,-44646873.919284917,-59490864.871412747,-59490864.871412747,-37889595.328896664,-48494935.633233763,-13825067.685962893,-49465467.231673583,-59490864.871412747,-55777956.941429287,-49630337.45509094,-59490864.871412747,-59490864.871412747,-59490864.871412747,-49465467.231673583,-30743028.199079912,-55777956.941429287,-59490864.871412747,-59490864.871412747,-35961315.639058471,-59490864.871412747,-57648267.831847675,-54805467.035960078,-59490864.871412747,-59490864.871412747,-54805467.035960078,-39298783.3349379,-17804768.204076067,-33957146.839278728,-46888959.07130222,-59490864.871412747,-59391476.013018467,-50575813.927024521,-39298783.3349379,-59490864.871412747,-24611094.951742023,-50575813.927024521,-59490864.871412747,-45658054.174887583,-46937969.380838662,-59490864.871412747,-52614175.286427088,-59490864.871412747,-59490864.871412747,-59490864.871412747,-59490864.871412747,-29287223.620154846,-59490864.871412747,-29287223.620154846,-59490864.871412747,-24119.505927056074,-59490864.871412747,-59490864.871412747,-59490864.871412747,-42350337.265726663,-34888800.577345863,-42008960.231914774,-59490864.871412747,-59490864.871412747,-51657496.04621686,-21331608.360318512,-59264758.88540715,-59490864.871412747,-47023519.950686812,-43379410.313728884,-26795225.720550276,-59490864.871412747,-21331608.360318512,-54805467.035960078,-40671591.913643435,-59490864.871412747,-26134682.927095477,-59490864.871412747,-59490864.871412747,-59490864.871412747,-44646873.919284917,-54805467.035960078,-59490864.871412747,-59490864.871412747,-59490864.871412747,-51657496.04621686,-44646873.919284917,-19557002.464955419,-59490864.871412747,-59490864.871412747,-59490864.871412747,-48256297.65818502,-59490864.871412747,-32644340.643732172,-59490864.871412747,-59490864.871412747,-51657496.04621686,-29287223.620154846,-24611094.951742023,-53665501.800517529,-27723441.529177435,-59490864.871412747,-56798466.721523605,-59490864.871412747,-40671591.913643435,-51169611.669444859,-1930628.0355910063,-59490864.871412747,-37889595.328896664,-59490864.871412747,-53886300.604396075,-59334870.96130909,-59490864.871412747,-59490864.871412747,-59490864.871412747,-59490864.871412747,-37889595.328896664,-40671591.913643435,-59490864.871412747,-59490864.871412747,-59490864.871412747,-59490864.871412747,-35347270.454274774,-59490864.871412747,-40671591.913643435,-44646873.919284917,-53737807.457285106,-59490864.871412747,-24611094.951742023,-59490864.871412747,-59490864.871412747,-59490864.871412747,-48256297.65818502,-59490864.871412747,-59490864.871412747,-59490864.871412747,16170444.127147742,-58616767.026088096,-59490864.871412747,-59490864.871412747,-54882519.599428311,-57648267.831847675,-59490864.871412747,-49465467.231673583,-36443063.840695344,-59490864.871412747,-52711253.590486072,-42350337.265726663,-59490864.871412747,-30743028.199079912,-45881616.837508045,-24611094.951742023,-14159766.552067704,-59490864.871412747,-59490864.871412747]
[]
["Upper Limit","Frequency",null,null,"Min","Q1","Median","Q3","Max","Mean","StDev","Bound","95% Confidence Interval"]
[-14500000,{"$f":"COUNTIF(B$51:ALM$51,\"<=-14500000\")-COUNTIF(B$51:ALM$51,\"<=-15000000\")","v":1},null,null,{"$f":"MIN(B51:ALM51)","v":-59490864.871412747},{"$f":"QUARTILE(B51:ALM51,1)","v":-59490864.871412747},{"$f":"MEDIAN(B51:ALM51)","v":-59361814.517072752},{"$f":"QUARTILE(B51:ALM51,3)","v":-42350337.265726663},{"$f":"MAX(B51:ALM51)","v":21384719.394817941},{"$f":"AVERAGE(B51:ALM51)","v":-49414971.919327587},{"$f":"STDEV(B51:ALM51)","v":14572867.459620968},{"$f":"1.96*K54/SQRT(COUNT(B51:ALM51))","v":903235.68295822048},{"$f":"J54-L54","v":-50318207.60228581},{"$f":"J54+L54","v":-48511736.236369364},"*Think more about the CI, given a non-standard distribution"]
[-14000000,{"$f":"COUNTIF(B$51:ALM$51,\"<=-14000000\")-COUNTIF(B$51:ALM$51,\"<=-14500000\")","v":6}]
[-13500000,{"$f":"COUNTIF(B$51:ALM$51,\"<=-13500000\")-COUNTIF(B$51:ALM$51,\"<=-14000000\")","v":1}]
[-13000000,{"$f":"COUNTIF(B$51:ALM$51,\"<=-13000000\")-COUNTIF(B$51:ALM$51,\"<=-13500000\")","v":1}]
[-12500000,{"$f":"COUNTIF(B$51:ALM$51,\"<=-12500000\")-COUNTIF(B$51:ALM$51,\"<=-13000000\")","v":0}]
[-12000000,{"$f":"COUNTIF(B$51:ALM$51,\"<=-12000000\")-COUNTIF(B$51:ALM$51,\"<=-12500000\")","v":6}]
[-11500000,{"$f":"COUNTIF(B$51:ALM$51,\"<=-11500000\")-COUNTIF(B$51:ALM$51,\"<=-12000000\")","v":0}]
[-11000000,{"$f":"COUNTIF(B$51:ALM$51,\"<=-11000000\")-COUNTIF(B$51:ALM$51,\"<=-11500000\")","v":1}]
[-10500000,{"$f":"COUNTIF(B$51:ALM$51,\"<=-10500000\")-COUNTIF(B$51:ALM$51,\"<=-11000000\")","v":0}]
[-10000000,{"$f":"COUNTIF(B$51:ALM$51,\"<=-10000000\")-COUNTIF(B$51:ALM$51,\"<=-15000000\")","v":18}]
[-9500000,{"$f":"COUNTIF(B$51:ALM$51,\"<=-9500000\")-COUNTIF(B$51:ALM$51,\"<=-10000000\")","v":0}]
[-9000000,{"$f":"COUNTIF(B$51:ALM$51,\"<=-9000000\")-COUNTIF(B$51:ALM$51,\"<=-9500000\")","v":1}]
[-8500000,{"$f":"COUNTIF(B$51:ALM$51,\"<=-8500000\")-COUNTIF(B$51:ALM$51,\"<=-9000000\")","v":1}]
[-8000000,{"$f":"COUNTIF(B$51:ALM$51,\"<=-8000000\")-COUNTIF(B$51:ALM$51,\"<=-8500000\")","v":5}]
[-7500000,{"$f":"COUNTIF(B$51:ALM$51,\"<=-7500000\")-COUNTIF(B$51:ALM$51,\"<=-8000000\")","v":0}]
[-7000000,{"$f":"COUNTIF(B$51:ALM$51,\"<=-7000000\")-COUNTIF(B$51:ALM$51,\"<=-7500000\")","v":0}]
[-6500000,{"$f":"COUNTIF(B$51:ALM$51,\"<=-6500000\")-COUNTIF(B$51:ALM$51,\"<=-7000000\")","v":0}]
[-6000000,{"$f":"COUNTIF(B$51:ALM$51,\"<=-6000000\")-COUNTIF(B$51:ALM$51,\"<=-6500000\")","v":2}]
[-5500000,{"$f":"COUNTIF(B$51:ALM$51,\"<=-5500000\")-COUNTIF(B$51:ALM$51,\"<=-6000000\")","v":0}]
[-5000000,{"$f":"COUNTIF(B$51:ALM$51,\"<=-5000000\")-COUNTIF(B$51:ALM$51,\"<=-5500000\")","v":0}]
[-4500000,{"$f":"COUNTIF(B$51:ALM$51,\"<=-4500000\")-COUNTIF(B$51:ALM$51,\"<=-5000000\")","v":0}]
[-4000000,{"$f":"COUNTIF(B$51:ALM$51,\"<=-4000000\")-COUNTIF(B$51:ALM$51,\"<=-4500000\")","v":2}]
[-3500000,{"$f":"COUNTIF(B$51:ALM$51,\"<=-3500000\")-COUNTIF(B$51:ALM$51,\"<=-4000000\")","v":2}]
[-3000000,{"$f":"COUNTIF(B$51:ALM$51,\"<=-3000000\")-COUNTIF(B$51:ALM$51,\"<=-3500000\")","v":0}]
[-2500000,{"$f":"COUNTIF(B$51:ALM$51,\"<=-2500000\")-COUNTIF(B$51:ALM$51,\"<=-3000000\")","v":1}]
[-2000000,{"$f":"COUNTIF(B$51:ALM$51,\"<=-2000000\")-COUNTIF(B$51:ALM$51,\"<=-2500000\")","v":0}]
[-1500000,{"$f":"COUNTIF(B$51:ALM$51,\"<=-1500000\")-COUNTIF(B$51:ALM$51,\"<=-2000000\")","v":1}]
[-1000000,{"$f":"COUNTIF(B$51:ALM$51,\"<=-1000000\")-COUNTIF(B$51:ALM$51,\"<=-1500000\")","v":1}]
[-500000,{"$f":"COUNTIF(B$51:ALM$51,\"<=-500000\")-COUNTIF(B$51:ALM$51,\"<=-1000000\")","v":1}]
[0,{"$f":"COUNTIF(B$51:ALM$51,\"<=0\")-COUNTIF(B$51:ALM$51,\"<=-500000\")","v":1}]
[500000,{"$f":"COUNTIF(B$51:ALM$51,\"<=500000\")-COUNTIF(B$51:ALM$51,\"<=0\")","v":0}]
[1000000,{"$f":"COUNTIF(B$51:ALM$51,\"<=1000000\")-COUNTIF(B$51:ALM$51,\"<=500000\")","v":0}]
[1500000,{"$f":"COUNTIF(B$51:ALM$51,\"<=1500000\")-COUNTIF(B$51:ALM$51,\"<=1000000\")","v":0}]
[2000000,{"$f":"COUNTIF(B$51:ALM$51,\"<=2000000\")-COUNTIF(B$51:ALM$51,\"<=1500000\")","v":0}]
[2500000,{"$f":"COUNTIF(B$51:ALM$51,\"<=2500000\")-COUNTIF(B$51:ALM$51,\"<=2000000\")","v":0}]
[3000000,{"$f":"COUNTIF(B$51:ALM$51,\"<=3000000\")-COUNTIF(B$51:ALM$51,\"<=2500000\")","v":1}]
[3500000,{"$f":"COUNTIF(B$51:ALM$51,\"<=3500000\")-COUNTIF(B$51:ALM$51,\"<=3000000\")","v":0}]
[4000000,{"$f":"COUNTIF(B$51:ALM$51,\"<=4000000\")-COUNTIF(B$51:ALM$51,\"<=3500000\")","v":0}]
[4500000,{"$f":"COUNTIF(B$51:ALM$51,\"<=4500000\")-COUNTIF(B$51:ALM$51,\"<=4000000\")","v":0}]
[5000000,{"$f":"COUNTIF(B$51:ALM$51,\"<=5000000\")-COUNTIF(B$51:ALM$51,\"<=4500000\")","v":0}]
[]
[]
["Establishment Patterns"]
["Base-Case Scenario"]
["Run",0,1,2,3,4,5,6,7,8,9,10,11,12,13,14,15,16,17,18,19,20,21,22,23,24,25,26,27,28,29,30,31,32,33,34,35,36,37,38,39,40,41,42,43,44,45,46,47,48,49,50,51,52,53,54,55,56,57,58,59,60,61,62,63,64,65,66,67,68,69,70,71,72,73,74,75,76,77,78,79,80,81,82,83,84,85,86,87,88,89,90,91,92,93,94,95,96,97,98,99,100,101,102,103,104,105,106,107,108,109,110,111,112,113,114,115,116,117,118,119,120,121,122,123,124,125,126,127,128,129,130,131,132,133,134,135,136,137,138,139,140,141,142,143,144,145,146,147,148,149,150,151,152,153,154,155,156,157,158,159,160,161,162,163,164,165,166,167,168,169,170,171,172,173,174,175,176,177,178,179,180,181,182,183,184,185,186,187,188,189,190,191,192,193,194,195,196,197,198,199,200,201,202,203,204,205,206,207,208,209,210,211,212,213,214,215,216,217,218,219,220,221,222,223,224,225,226,227,228,229,230,231,232,233,234,235,236,237,238,239,240,241,242,243,244,245,246,247,248,249,250,251,252,253,254,255,256,257,258,259,260,261,262,263,264,265,266,267,268,269,270,271,272,273,274,275,276,277,278,279,280,281,282,283,284,285,286,287,288,289,290,291,292,293,294,295,296,297,298,299,300,301,302,303,304,305,306,307,308,309,310,311,312,313,314,315,316,317,318,319,320,321,322,323,324,325,326,327,328,329,330,331,332,333,334,335,336,337,338,339,340,341,342,343,344,345,346,347,348,349,350,351,352,353,354,355,356,357,358,359,360,361,362,363,364,365,366,367,368,369,370,371,372,373,374,375,376,377,378,379,380,381,382,383,384,385,386,387,388,389,390,391,392,393,394,395,396,397,398,399,400,401,402,403,404,405,406,407,408,409,410,411,412,413,414,415,416,417,418,419,420,421,422,423,424,425,426,427,428,429,430,431,432,433,434,435,436,437,438,439,440,441,442,443,444,445,446,447,448,449,450,451,452,453,454,455,456,457,458,459,460,461,462,463,464,465,466,467,468,469,470,471,472,473,474,475,476,477,478,479,480,481,482,483,484,485,486,487,488,489,490,491,492,493,494,495,496,497,498,499,500,501,502,503,504,505,506,507,508,509,510,511,512,513,514,515,516,517,518,519,520,521,522,523,524,525,526,527,528,529,530,531,532,533,534,535,536,537,538,539,540,541,542,543,544,545,546,547,548,549,550,551,552,553,554,555,556,557,558,559,560,561,562,563,564,565,566,567,568,569,570,571,572,573,574,575,576,577,578,579,580,581,582,583,584,585,586,587,588,589,590,591,592,593,594,595,596,597,598,599,600,601,602,603,604,605,606,607,608,609,610,611,612,613,614,615,616,617,618,619,620,621,622,623,624,625,626,627,628,629,630,631,632,633,634,635,636,637,638,639,640,641,642,643,644,645,646,647,648,649,650,651,652,653,654,655,656,657,658,659,660,661,662,663,664,665,666,667,668,669,670,671,672,673,674,675,676,677,678,679,680,681,682,683,684,685,686,687,688,689,690,691,692,693,694,695,696,697,698,699,700,701,702,703,704,705,706,707,708,709,710,711,712,713,714,715,716,717,718,719,720,721,722,723,724,725,726,727,728,729,730,731,732,733,734,735,736,737,738,739,740,741,742,743,744,745,746,747,748,749,750,751,752,753,754,755,756,757,758,759,760,761,762,763,764,765,766,767,768,769,770,771,772,773,774,775,776,777,778,779,780,781,782,783,784,785,786,787,788,789,790,791,792,793,794,795,796,797,798,799,800,801,802,803,804,805,806,807,808,809,810,811,812,813,814,815,816,817,818,819,820,821,822,823,824,825,826,827,828,829,830,831,832,833,834,835,836,837,838,839,840,841,842,843,844,845,846,847,848,849,850,851,852,853,854,855,856,857,858,859,860,861,862,863,864,865,866,867,868,869,870,871,872,873,874,875,876,877,878,879,880,881,882,883,884,885,886,887,888,889,890,891,892,893,894,895,896,897,898,899,900,901,902,903,904,905,906,907,908,909,910,911,912,913,914,915,916,917,918,919,920,921,922,923,924,925,926,927,928,929,930,931,932,933,934,935,936,937,938,939,940,941,942,943,944,945,946,947,948,949,950,951,952,953,954,955,956,957,958,959,960,961,962,963,964,965,966,967,968,969,970,971,972,973,974,975,976,977,978,979,980,981,982,983,984,985,986,987,988,989,990,991,992,993,994,995,996,997,998,999]
["Windy Gap Reservoir",-999,-999,-999,-999,-999,-999,-999,-999,-999,-999,-999,-999,-999,-999,-999,-999,-999,-999,-999,-999,-999,-999,-999,-999,-999,-999,-999,-999,-999,-999,-999,-999,-999,-999,-999,-999,-999,-999,-999,-999,-999,-999,-999,-999,-999,-999,-999,-999,-999,-999,-999,-999,-999,-999,-999,-999,-999,-999,-999,-999,-999,-999,-999,-999,-999,-999,-999,-999,-999,-999,-999,-999,-999,-999,-999,-999,-999,-999,-999,-999,-999,-999,-999,-999,-999,-999,-999,-999,-999,-999,-999,-999,-999,-999,-999,-999,-999,-999,-999,-999,-999,-999,-999,-999,-999,-999,-999,-999,-999,-999,-999,-999,-999,-999,-999,-999,-999,-999,-999,-999,-999,-999,-999,-999,-999,-999,-999,-999,-999,-999,-999,-999,-999,-999,-999,-999,-999,-999,-999,-999,-999,-999,-999,-999,-999,-999,-999,-999,-999,-999,-999,-999,-999,-999,-999,-999,-999,-999,-999,-999,-999,-999,-999,-999,-999,-999,-999,-999,-999,-999,-999,-999,-999,-999,-999,-999,-999,-999,-999,-999,-999,-999,-999,-999,-999,-999,-999,-999,-999,-999,-999,-999,-999,-999,-999,-999,-999,-999,-999,-999,-999,-999,-999,-999,-999,-999,-999,-999,-999,-999,-999,-999,-999,-999,-999,-999,-999,-999,-999,-999,-999,-999,-999,-999,-999,-999,-999,-999,-999,-999,-999,-999,-999,-999,-999,-999,-999,-999,-999,-999,-999,-999,-999,-999,-999,-999,-999,-999,-999,-999,-999,-999,-999,-999,-999,-999,-999,-999,-999,-999,-999,-999,-999,-999,-999,-999,-999,-999,-999,-999,-999,-999,-999,-999,-999,-999,-999,-999,-999,-999,-999,-999,-999,-999,-999,-999,-999,-999,-999,-999,-999,-999,-999,-999,-999,-999,-999,-999,-999,-999,-999,-999,-999,-999,-999,-999,-999,-999,-999,-999,-999,-999,-999,-999,-999,-999,-999,-999,-999,-999,-999,-999,-999,-999,-999,-999,-999,-999,-999,-999,-999,-999,-999,-999,-999,-999,-999,-999,-999,-999,-999,-999,-999,-999,-999,-999,-999,-999,-999,-999,-999,-999,-999,-999,-999,-999,-999,-999,-999,-999,-999,-999,-999,-999,-999,-999,-999,-999,-999,-999,-999,-999,-999,-999,-999,-999,-999,-999,-999,-999,-999,-999,-999,-999,-999,-999,-999,-999,-999,-999,-999,-999,-999,-999,-999,-999,-999,-999,-999,-999,-999,-999,-999,-999,-999,-999,-999,-999,-999,-999,-999,-999,-999,-999,-999,-999,-999,-999,-999,-999,-999,-999,-999,-999,-999,-999,-999,-999,-999,-999,-999,-999,-999,-999,-999,-999,-999,-999,-999,-999,-999,-999,-999,-999,-999,-999,-999,-999,-999,-999,-999,-999,-999,-999,-999,-999,-999,-999,-999,-999,-999,-999,-999,-999,-999,-999,-999,-999,-999,-999,-999,-999,-999,-999,-999,-999,-999,-999,-999,-999,-999,-999,-999,-999,-999,-999,-999,-999,-999,-999,-999,-999,-999,-999,-999,-999,-999,-999,-999,-999,-999,-999,-999,-999,-999,-999,-999,-999,-999,-999,-999,-999,-999,-999,-999,-999,-999,-999,-999,-999,-999,-999,-999,-999,-999,-999,-999,-999,-999,-999,-999,-999,-999,-999,-999,-999,-999,-999,-999,-999,-999,-999,-999,-999,-999,-999,-999,-999,-999,-999,-999,-999,-999,-999,-999,-999,-999,-999,-999,-999,-999,-999,-999,-999,-999,-999,-999,-999,-999,-999,-999,-999,-999,-999,-999,-999,-999,-999,-999,-999,-999,-999,-999,-999,-999,-999,-999,-999,-999,-999,-999,-999,-999,-999,-999,-999,-999,-999,-999,-999,-999,-999,-999,-999,-999,-999,-999,-999,-999,-999,-999,-999,-999,-999,-999,-999,-999,-999,-999,-999,-999,-999,-999,-999,-999,-999,-999,-999,-999,-999,-999,-999,-999,-999,-999,-999,-999,-999,-999,-999,-999,-999,-999,-999,-999,-999,-999,-999,-999,-999,-999,-999,-999,-999,-999,-999,-999,-999,-999,-999,-999,-999,-999,-999,-999,-999,-999,-999,-999,-999,-999,-999,-999,-999,-999,-999,-999,-999,-999,-999,-999,-999,-999,-999,-999,-999,-999,-999,-999,-999,-999,-999,-999,-999,-999,-999,-999,-999,-999,-999,-999,-999,-999,-999,-999,-999,-999,-999,-999,-999,-999,-999,-999,-999,-999,-999,-999,-999,-999,-999,-999,-999,-999,-999,-999,-999,-999,-999,-999,-999,-999,-999,-999,-999,-999,-999,-999,-999,-999,-999,-999,-999,-999,-999,-999,-999,-999,-999,-999,-999,-999,-999,-999,-999,-999,-999,-999,-999,-999,-999,-999,-999,-999,-999,-999,-999,-999,-999,-999,-999,-999,-999,-999,-999,-999,-999,-999,-999,-999,-999,-999,-999,-999,-999,-999,-999,-999,-999,-999,-999,-999,-999,-999,-999,-999,-999,-999,-999,-999,-999,-999,-999,-999,-999,-999,-999,-999,-999,-999,-999,-999,-999,-999,-999,-999,-999,-999,-999,-999,-999,-999,-999,-999,-999,-999,-999,-999,-999,-999,-999,-999,-999,-999,-999,-999,-999,-999,-999,-999,-999,-999,-999,-999,-999,-999,-999,-999,-999,-999,-999,-999,-999,-999,-999,-999,-999,-999,-999,-999,-999,-999,-999,-999,-999,-999,-999,-999,-999,-999,-999,-999,-999,-999,-999,-999,-999,-999,-999,-999,-999,-999,-999,-999,-999,-999,-999,-999,-999,-999,-999,-999,-999,-999,-999,-999,-999,-999,-999,-999,-999,-999,-999,-999,-999,-999,-999,-999,-999,-999,-999,-999,-999,-999,-999,-999,-999,-999,-999,-999,-999,-999,-999,-999,-999,-999,-999,-999,-999,-999,-999,-999,-999,-999,-999,-999,-999,-999,-999,-999,-999,-999,-999,-999,-999,-999,-999,-999,-999,-999,-999,-999,-999,-999,-999,-999,-999,-999,-999,-999,-999,-999,-999,-999,-999,-999,-999,-999,-999,-999,-999,-999,-999,-999,-999,-999,-999,-999,-999,-999,-999,-999,-999,-999,-999,-999,-999,-999,-999,-999,-999,-999,-999,-999,-999,-999,-999,-999,-999,-999,-999]
["Willow Creek Reservoir",-999,-999,-999,-999,-999,-999,-999,-999,-999,-999,-999,-999,-999,-999,-999,-999,-999,-999,-999,-999,-999,-999,-999,-999,-999,-999,-999,-999,-999,-999,-999,-999,-999,-999,-999,-999,-999,-999,-999,-999,-999,-999,-999,-999,-999,-999,-999,-999,-999,-999,-999,-999,-999,-999,-999,-999,-999,-999,-999,-999,-999,-999,-999,-999,-999,-999,-999,-999,-999,-999,-999,-999,-999,-999,-999,-999,-999,-999,-999,-999,-999,-999,-999,-999,-999,-999,-999,-999,-999,-999,-999,-999,-999,-999,-999,-999,-999,-999,-999,-999,-999,-999,-999,-999,-999,-999,-999,-999,-999,-999,-999,-999,-999,-999,-999,-999,-999,-999,-999,-999,-999,-999,-999,-999,-999,-999,-999,-999,-999,-999,-999,-999,-999,-999,-999,-999,-999,-999,-999,-999,-999,-999,-999,-999,-999,-999,-999,-999,-999,-999,-999,-999,-999,-999,-999,-999,-999,-999,-999,-999,-999,-999,-999,-999,-999,-999,-999,-999,-999,-999,-999,-999,-999,-999,-999,-999,-999,-999,-999,-999,-999,-999,-999,-999,-999,-999,-999,-999,-999,-999,-999,-999,-999,-999,-999,-999,-999,-999,-999,-999,-999,-999,-999,-999,-999,-999,-999,-999,-999,-999,-999,-999,-999,-999,-999,-999,-999,-999,-999,-999,-999,-999,-999,-999,-999,-999,-999,-999,-999,-999,-999,-999,-999,-999,-999,-999,-999,-999,-999,-999,-999,-999,-999,-999,-999,-999,-999,-999,-999,-999,-999,-999,-999,-999,-999,-999,-999,-999,-999,-999,-999,-999,-999,-999,-999,-999,-999,-999,-999,-999,-999,-999,-999,-999,-999,-999,-999,-999,-999,-999,-999,-999,-999,-999,-999,-999,-999,-999,-999,-999,-999,-999,-999,-999,-999,-999,-999,-999,-999,-999,-999,-999,-999,-999,-999,-999,-999,-999,-999,-999,-999,-999,-999,-999,-999,-999,-999,-999,-999,-999,-999,-999,-999,-999,-999,-999,-999,-999,-999,-999,-999,-999,-999,-999,-999,-999,-999,-999,-999,-999,-999,-999,-999,-999,-999,-999,-999,-999,-999,-999,-999,-999,-999,-999,-999,-999,-999,-999,-999,-999,-999,-999,-999,-999,-999,-999,-999,-999,-999,-999,-999,-999,-999,-999,-999,-999,-999,-999,-999,-999,-999,-999,-999,-999,-999,-999,-999,-999,-999,-999,-999,-999,-999,-999,-999,-999,-999,-999,-999,-999,-999,-999,-999,-999,-999,-999,-999,-999,-999,-999,-999,-999,-999,-999,-999,-999,-999,-999,-999,-999,-999,-999,-999,-999,-999,-999,-999,-999,-999,-999,-999,-999,-999,-999,-999,-999,-999,-999,-999,-999,-999,-999,-999,-999,-999,-999,-999,-999,-999,-999,-999,-999,-999,-999,-999,-999,-999,-999,-999,-999,-999,-999,-999,-999,-999,-999,-999,-999,-999,-999,-999,-999,-999,-999,-999,-999,-999,-999,-999,-999,-999,-999,-999,-999,-999,-999,-999,-999,-999,-999,-999,-999,-999,-999,-999,-999,-999,-999,-999,-999,-999,-999,-999,-999,-999,-999,-999,-999,-999,-999,-999,-999,-999,-999,-999,-999,-999,-999,-999,-999,-999,-999,-999,-999,-999,-999,-999,-999,-999,-999,-999,-999,-999,-999,-999,-999,-999,-999,-999,-999,-999,-999,-999,-999,-999,-999,-999,-999,-999,-999,-999,-999,-999,-999,-999,-999,-999,-999,-999,-999,-999,-999,-999,-999,-999,-999,-999,-999,-999,-999,-999,-999,-999,-999,-999,-999,-999,-999,-999,-999,-999,-999,-999,-999,-999,-999,-999,-999,-999,-999,-999,-999,-999,-999,-999,-999,-999,-999,-999,-999,-999,-999,-999,-999,-999,-999,-999,-999,-999,-999,-999,-999,-999,-999,-999,-999,-999,-999,-999,-999,-999,-999,-999,-999,-999,-999,-999,-999,-999,-999,-999,-999,-999,-999,-999,-999,-999,-999,-999,-999,-999,-999,-999,-999,-999,-999,-999,-999,-999,-999,-999,-999,-999,-999,-999,-999,-999,-999,-999,-999,-999,-999,-999,-999,-999,-999,-999,-999,-999,-999,-999,-999,-999,-999,-999,-999,-999,-999,-999,-999,-999,-999,-999,-999,-999,-999,-999,-999,-999,-999,-999,-999,-999,-999,-999,-999,-999,-999,-999,-999,-999,-999,-999,-999,-999,-999,-999,-999,-999,-999,-999,-999,-999,-999,-999,-999,-999,-999,-999,-999,-999,-999,-999,-999,-999,-999,-999,-999,-999,-999,-999,-999,-999,-999,-999,-999,-999,-999,-999,-999,-999,-999,-999,-999,-999,-999,-999,-999,-999,-999,-999,-999,-999,-999,-999,-999,-999,-999,-999,-999,-999,-999,-999,-999,-999,-999,-999,-999,-999,-999,-999,-999,-999,-999,-999,-999,-999,-999,-999,-999,-999,-999,-999,-999,-999,-999,-999,-999,-999,-999,-999,-999,-999,-999,-999,-999,-999,-999,-999,-999,-999,-999,-999,-999,-999,-999,-999,-999,-999,-999,-999,-999,-999,-999,-999,-999,-999,-999,-999,-999,-999,-999,-999,-999,-999,-999,-999,-999,-999,-999,-999,-999,-999,-999,-999,-999,-999,-999,-999,-999,-999,-999,-999,-999,-999,-999,-999,-999,-999,-999,-999,-999,-999,-999,-999,-999,-999,-999,-999,-999,-999,-999,-999,-999,-999,-999,-999,-999,-999,-999,-999,-999,-999,-999,-999,-999,-999,-999,-999,-999,-999,-999,-999,-999,-999,-999,-999,-999,-999,-999,-999,-999,-999,-999,-999,-999,-999,-999,-999,-999,-999,-999,-999,-999,-999,-999,-999,-999,-999,-999,-999,-999,-999,-999,-999,-999,-999,-999,-999,-999,-999,-999,-999,-999,-999,-999,-999,-999,-999,-999,-999,-999,-999,-999,-999,-999,-999,-999,-999,-999,-999,-999,-999,-999,-999,-999,-999,-999,-999,-999,-999,-999,-999,-999,-999,-999,-999,-999,-999,-999,-999,-999,-999,-999,-999,-999,-999,-999,-999,-999,-999,-999,-999,-999,-999,-999,-999,-999,-999,-999,-999,-999,-999,-999,-999,-999,-999,-999,-999,-999,-999,-999,-999,-999,-999,-999,-999,-999,-999,-999]
["Lake Granby",-999,-999,-999,-999,-999,-999,-999,-999,-999,-999,-999,-999,-999,-999,-999,-999,-999,-999,-999,-999,-999,-999,-999,-999,-999,-999,-999,35,-999,-999,30,-999,-999,-999,-999,-999,-999,-999,-999,-999,-999,-999,-999,-999,-999,-999,-999,-999,-999,-999,46,-999,-999,-999,-999,-999,-999,-999,-999,-999,-999,-999,-999,-999,-999,-999,-999,-999,-999,-999,-999,-999,-999,-999,-999,-999,-999,-999,46,-999,-999,-999,-999,-999,-999,-999,-999,-999,-999,-999,-999,-999,-999,-999,-999,-999,-999,-999,-999,-999,-999,-999,-999,-999,-999,-999,-999,-999,-999,-999,-999,-999,-999,-999,-999,-999,-999,35,41,45,-999,-999,-999,-999,-999,-999,-999,-999,-999,-999,-999,-999,-999,45,-999,-999,-999,-999,28,-999,-999,-999,-999,-999,-999,-999,-999,-999,-999,-999,-999,-999,-999,-999,-999,-999,-999,-999,-999,-999,39,-999,-999,-999,-999,-999,-999,-999,-999,-999,-999,34,-999,-999,-999,-999,-999,-999,-999,-999,47,-999,-999,39,-999,-999,-999,-999,-999,-999,-999,-999,-999,-999,-999,-999,-999,-999,-999,-999,-999,-999,-999,-999,-999,-999,-999,-999,-999,-999,-999,-999,-999,-999,-999,-999,-999,-999,-999,40,-999,-999,47,-999,-999,-999,-999,-999,-999,-999,-999,-999,-999,-999,-999,-999,-999,-999,-999,31,-999,-999,-999,-999,43,-999,-999,-999,-999,-999,-999,-999,-999,-999,-999,-999,-999,-999,-999,-999,-999,-999,-999,-999,-999,-999,-999,-999,-999,-999,-999,-999,-999,-999,-999,-999,-999,-999,-999,-999,20,-999,-999,-999,45,-999,-999,-999,-999,-999,-999,-999,-999,-999,-999,-999,-999,28,-999,-999,-999,-999,-999,-999,-999,-999,-999,-999,-999,-999,-999,-999,-999,-999,-999,-999,-999,-999,-999,-999,-999,-999,-999,-999,-999,-999,-999,-999,-999,-999,-999,-999,-999,-999,-999,-999,-999,-999,-999,-999,-999,-999,-999,-999,-999,-999,-999,-999,-999,-999,-999,-999,-999,-999,-999,-999,-999,-999,-999,-999,-999,-999,-999,-999,-999,-999,-999,-999,-999,-999,-999,-999,-999,-999,-999,-999,-999,-999,-999,-999,-999,-999,-999,36,-999,-999,-999,-999,-999,-999,45,-999,-999,-999,-999,-999,-999,-999,-999,-999,-999,-999,-999,-999,-999,-999,-999,-999,-999,-999,-999,-999,-999,-999,-999,-999,-999,-999,-999,-999,-999,-999,-999,-999,-999,-999,-999,-999,-999,-999,-999,-999,-999,-999,-999,-999,-999,-999,-999,-999,-999,-999,-999,-999,-999,-999,-999,-999,-999,-999,-999,-999,-999,-999,-999,-999,-999,-999,-999,-999,-999,-999,-999,-999,-999,-999,-999,-999,-999,-999,-999,-999,-999,-999,-999,-999,-999,-999,-999,-999,-999,-999,-999,-999,-999,-999,-999,-999,-999,-999,-999,-999,-999,-999,-999,-999,-999,-999,-999,-999,-999,-999,-999,-999,-999,38,-999,-999,-999,-999,-999,-999,-999,-999,-999,-999,-999,-999,-999,-999,-999,-999,-999,-999,-999,-999,17,-999,-999,-999,-999,-999,-999,-999,-999,-999,-999,-999,-999,-999,-999,31,-999,-999,-999,-999,-999,-999,-999,-999,15,-999,-999,-999,-999,-999,-999,-999,-999,-999,-999,-999,-999,-999,-999,-999,-999,-999,-999,-999,-999,-999,-999,-999,-999,-999,-999,-999,-999,-999,-999,-999,-999,-999,-999,-999,-999,-999,-999,-999,-999,-999,-999,-999,-999,-999,-999,-999,-999,43,-999,-999,-999,-999,-999,-999,-999,-999,-999,39,-999,-999,-999,-999,-999,19,-999,-999,-999,-999,-999,-999,-999,-999,-999,-999,-999,-999,-999,-999,-999,-999,-999,-999,-999,48,-999,-999,-999,-999,-999,-999,-999,-999,-999,-999,-999,-999,-999,-999,-999,-999,-999,-999,-999,-999,-999,-999,-999,-999,-999,-999,-999,-999,-999,-999,-999,-999,-999,-999,-999,-999,-999,-999,-999,-999,-999,-999,-999,-999,-999,-999,-999,-999,-999,-999,-999,-999,-999,-999,32,-999,-999,-999,-999,-999,-999,-999,-999,45,-999,-999,-999,-999,-999,-999,-999,-999,-999,-999,-999,-999,-999,-999,-999,-999,-999,-999,-999,-999,-999,-999,-999,-999,-999,-999,-999,-999,-999,-999,-999,-999,-999,-999,-999,-999,-999,30,-999,-999,-999,-999,-999,-999,-999,-999,-999,-999,-999,-999,-999,-999,-999,-999,-999,-999,-999,-999,-999,-999,-999,-999,-999,-999,-999,23,-999,-999,-999,-999,-999,-999,-999,-999,42,-999,-999,-999,-999,-999,-999,-999,-999,-999,-999,-999,-999,-999,-999,-999,-999,-999,18,46,-999,-999,15,-999,-999,-999,-999,-999,-999,-999,-999,-999,-999,-999,-999,-999,-999,-999,-999,-999,-999,-999,-999,-999,33,-999,-999,-999,-999,-999,-999,-999,-999,-999,-999,48,-999,-999,-999,-999,-999,-999,-999,-999,-999,-999,-999,-999,-999,-999,-999,-999,-999,-999,-999,-999,-999,-999,-999,-999,-999,-999,-999,-999,-999,-999,-999,-999,-999,-999,-999,-999,-999,-999,-999,-999,-999,-999,-999,-999,-999,-999,-999,-999,-999,-999,-999,34,-999,-999,-999,-999,-999,-999,-999,-999,-999,-999,-999,-999,-999,-999,-999,-999,-999,-999,-999,-999,-999,-999,-999,-999,-999,-999,-999,-999,-999,25,-999,-999,-999,-999,-999,-999,-999,-999,-999,-999,-999,-999,-999,-999,-999,-999,-999,-999,-999,-999,-999,-999,-999,-999,-999,-999,-999,-999,-999,-999,-999,-999,-999,-999,-999,-999,-999,-999,-999,-999,-999,-999,-999,-999,30,-999,-999,-999,-999,-999,-999,-999,-999,-999,-999,-999,-999,-999,-999,-999,-999,-999,-999,-999,-999,-999,-999,-999,-999,-999,-999,-999,-999,-999,-999,-999,-999,-999,-999,-999,-999,-999,-999,-999,-999,-999,-999,-999]
["Shadow Mountain Reservoir",-999,-999,-999,-999,-999,-999,-999,-999,-999,-999,-999,-999,-999,-999,-999,-999,-999,-999,-999,-999,-999,-999,-999,-999,-999,-999,-999,-999,-999,-999,-999,-999,-999,-999,-999,-999,-999,-999,-999,-999,-999,-999,-999,-999,-999,-999,-999,48,-999,-999,-999,-999,-999,-999,-999,-999,-999,-999,-999,-999,-999,-999,-999,-999,-999,-999,-999,-999,34,-999,-999,-999,-999,-999,-999,-999,-999,-999,-999,-999,-999,-999,-999,-999,-999,-999,-999,-999,-999,-999,-999,-999,-999,-999,-999,-999,-999,-999,-999,-999,-999,-999,-999,-999,-999,-999,-999,-999,-999,-999,-999,-999,-999,-999,-999,-999,-999,-999,-999,-999,-999,-999,-999,-999,-999,-999,-999,-999,-999,-999,-999,-999,-999,-999,-999,-999,-999,-999,-999,-999,-999,-999,-999,-999,-999,-999,-999,-999,-999,-999,-999,-999,-999,-999,-999,38,-999,-999,-999,-999,-999,-999,-999,-999,-999,-999,-999,-999,-999,-999,-999,-999,-999,-999,-999,-999,-999,-999,-999,-999,-999,-999,-999,-999,-999,-999,-999,-999,-999,-999,-999,-999,-999,-999,-999,-999,-999,-999,-999,-999,-999,-999,-999,-999,-999,-999,-999,-999,-999,-999,-999,-999,-999,-999,-999,-999,-999,-999,-999,-999,-999,-999,-999,-999,-999,-999,-999,-999,42,-999,-999,45,-999,-999,-999,-999,-999,-999,-999,-999,-999,-999,-999,-999,-999,-999,-999,-999,-999,-999,-999,-999,-999,-999,-999,-999,-999,-999,-999,-999,-999,-999,-999,-999,-999,-999,-999,-999,-999,-999,-999,-999,-999,-999,-999,-999,-999,-999,-999,-999,-999,-999,-999,-999,-999,-999,-999,-999,-999,-999,-999,-999,-999,-999,-999,-999,-999,42,-999,-999,-999,-999,-999,-999,-999,-999,-999,-999,-999,-999,-999,-999,-999,-999,-999,-999,-999,-999,-999,-999,-999,-999,-999,-999,-999,-999,-999,-999,-999,-999,-999,-999,-999,-999,-999,-999,-999,-999,-999,-999,-999,-999,-999,-999,-999,-999,-999,-999,-999,-999,-999,-999,-999,-999,-999,-999,-999,-999,-999,-999,-999,-999,-999,-999,-999,-999,-999,-999,-999,-999,-999,-999,-999,-999,-999,-999,-999,-999,-999,-999,-999,-999,-999,-999,-999,-999,-999,-999,-999,-999,-999,-999,-999,-999,-999,-999,-999,-999,-999,-999,-999,-999,-999,-999,-999,-999,-999,-999,-999,-999,-999,-999,-999,-999,-999,-999,-999,-999,-999,-999,-999,-999,-999,-999,-999,-999,-999,-999,-999,-999,-999,-999,-999,-999,-999,-999,-999,-999,-999,-999,-999,-999,-999,-999,-999,-999,-999,-999,-999,33,-999,-999,24,-999,-999,-999,-999,-999,-999,-999,-999,-999,-999,-999,-999,-999,-999,-999,-999,-999,-999,-999,-999,-999,-999,-999,-999,-999,-999,-999,-999,-999,-999,-999,-999,-999,-999,-999,-999,-999,-999,-999,-999,-999,-999,-999,-999,-999,-999,-999,-999,-999,-999,-999,-999,-999,-999,-999,-999,-999,-999,-999,-999,-999,-999,-999,-999,-999,-999,-999,-999,-999,-999,-999,-999,-999,-999,-999,-999,-999,-999,-999,-999,-999,-999,-999,-999,-999,-999,-999,-999,-999,-999,-999,-999,-999,-999,-999,-999,-999,35,-999,-999,-999,-999,-999,-999,-999,-999,-999,-999,-999,-999,-999,-999,-999,-999,-999,-999,-999,30,-999,-999,-999,-999,-999,-999,-999,41,-999,-999,-999,-999,-999,-999,-999,-999,-999,-999,-999,-999,-999,-999,-999,-999,-999,-999,-999,-999,-999,-999,-999,-999,-999,-999,-999,37,-999,-999,-999,-999,-999,-999,-999,-999,-999,-999,-999,-999,-999,-999,-999,-999,-999,-999,-999,-999,-999,-999,-999,-999,-999,-999,-999,-999,20,-999,-999,-999,-999,-999,-999,-999,-999,-999,-999,-999,-999,-999,-999,-999,-999,-999,-999,-999,-999,-999,-999,-999,-999,-999,-999,-999,-999,-999,-999,-999,-999,-999,-999,-999,-999,-999,-999,35,-999,-999,-999,-999,-999,-999,-999,-999,-999,-999,-999,-999,-999,-999,-999,-999,-999,-999,-999,-999,-999,-999,-999,-999,-999,-999,-999,-999,-999,37,-999,-999,-999,-999,-999,-999,-999,-999,-999,-999,-999,-999,48,-999,-999,-999,-999,-999,-999,-999,-999,-999,-999,-999,-999,-999,-999,-999,-999,-999,-999,-999,39,-999,-999,-999,-999,-999,-999,-999,-999,-999,-999,-999,-999,-999,-999,-999,-999,-999,-999,-999,-999,-999,-999,-999,-999,-999,-999,26,-999,-999,-999,-999,-999,-999,-999,-999,-999,-999,-999,-999,-999,-999,-999,-999,-999,-999,-999,-999,-999,-999,28,-999,-999,-999,-999,39,-999,-999,-999,-999,-999,-999,-999,-999,-999,-999,-999,-999,-999,-999,-999,-999,-999,-999,-999,-999,-999,-999,-999,-999,-999,-999,-999,-999,-999,-999,-999,-999,-999,46,-999,-999,-999,-999,-999,-999,-999,-999,-999,-999,-999,-999,-999,-999,-999,-999,-999,-999,-999,-999,-999,-999,-999,-999,-999,-999,-999,-999,-999,-999,-999,-999,-999,-999,-999,-999,-999,-999,-999,-999,-999,-999,-999,-999,-999,-999,-999,-999,-999,-999,-999,-999,-999,-999,-999,-999,-999,39,-999,-999,-999,-999,-999,-999,-999,-999,-999,-999,-999,-999,-999,-999,-999,-999,-999,-999,-999,-999,-999,-999,-999,-999,-999,-999,-999,-999,-999,-999,-999,41,-999,-999,-999,-999,-999,-999,47,-999,-999,-999,-999,-999,-999,-999,-999,-999,-999,-999,-999,-999,-999,-999,-999,-999,-999,-999,-999,-999,-999,-999,-999,-999,-999,-999,-999,-999,-999,-999,-999,-999,-999,-999,-999,-999,-999,-999,-999,-999,-999,-999,-999,-999,-999,-999,-999,-999,-999,-999,-999,-999,-999,-999,-999,40,-999,-999,-999,-999,-999,-999,-999,-999,-999,-999,-999,-999,-999,-999,-999,-999,-999,-999,-999]
["Grand Lake",-999,-999,-999,-999,-999,-999,-999,-999,-999,-999,-999,-999,-999,-999,-999,-999,-999,-999,-999,-999,-999,-999,-999,-999,-999,-999,-999,-999,-999,-999,-999,-999,-999,-999,-999,-999,-999,-999,-999,-999,-999,-999,-999,-999,-999,-999,-999,-999,-999,-999,-999,-999,-999,-999,-999,23,-999,-999,-999,-999,-999,-999,-999,-999,-999,-999,-999,-999,-999,-999,-999,-999,-999,-999,-999,-999,-999,-999,-999,-999,-999,-999,-999,-999,-999,-999,-999,-999,-999,-999,-999,-999,-999,-999,-999,-999,-999,-999,-999,-999,-999,-999,-999,-999,-999,-999,-999,-999,-999,-999,-999,-999,-999,-999,-999,-999,-999,-999,-999,-999,-999,-999,-999,36,-999,-999,-999,-999,-999,-999,-999,-999,-999,-999,-999,-999,-999,-999,-999,-999,-999,-999,-999,-999,-999,-999,-999,-999,-999,-999,-999,-999,-999,-999,-999,-999,-999,-999,-999,-999,-999,-999,-999,-999,-999,-999,-999,26,-999,-999,-999,-999,-999,-999,-999,-999,-999,-999,-999,-999,-999,-999,-999,-999,-999,-999,-999,-999,-999,-999,-999,-999,-999,-999,-999,-999,-999,-999,-999,-999,-999,-999,-999,-999,-999,-999,-999,-999,-999,-999,-999,-999,-999,-999,-999,-999,-999,-999,-999,-999,-999,-999,-999,-999,-999,-999,-999,-999,-999,-999,-999,-999,-999,-999,-999,-999,-999,-999,-999,-999,-999,-999,-999,-999,-999,-999,-999,-999,-999,-999,-999,-999,-999,-999,-999,-999,-999,-999,-999,-999,-999,-999,-999,-999,-999,-999,-999,-999,-999,-999,-999,-999,-999,-999,-999,-999,-999,-999,-999,-999,-999,-999,-999,-999,-999,-999,-999,-999,-999,-999,-999,-999,-999,-999,-999,-999,-999,-999,-999,-999,-999,-999,-999,-999,-999,-999,-999,-999,-999,-999,-999,-999,-999,-999,-999,-999,-999,-999,-999,-999,-999,-999,-999,-999,-999,-999,-999,-999,-999,-999,-999,-999,-999,-999,-999,-999,-999,-999,-999,-999,-999,-999,-999,-999,-999,-999,-999,-999,-999,-999,-999,-999,-999,-999,-999,-999,-999,-999,-999,-999,-999,-999,-999,-999,-999,-999,-999,-999,-999,-999,-999,-999,-999,-999,-999,-999,-999,-999,-999,-999,-999,-999,-999,-999,-999,-999,-999,-999,-999,-999,-999,-999,-999,-999,-999,-999,-999,-999,-999,-999,-999,-999,-999,-999,-999,-999,-999,-999,-999,-999,-999,-999,-999,-999,-999,-999,-999,-999,-999,-999,-999,-999,-999,-999,-999,-999,-999,-999,-999,-999,-999,-999,-999,-999,-999,-999,-999,-999,-999,-999,-999,-999,-999,-999,-999,-999,-999,-999,-999,-999,-999,-999,-999,-999,-999,-999,-999,-999,-999,-999,-999,-999,-999,-999,-999,-999,-999,-999,-999,-999,-999,-999,-999,-999,-999,-999,-999,-999,-999,-999,-999,-999,-999,-999,-999,-999,-999,-999,-999,-999,-999,-999,-999,-999,-999,-999,-999,-999,-999,-999,-999,-999,-999,-999,-999,-999,-999,-999,-999,-999,-999,-999,-999,-999,-999,-999,-999,-999,-999,-999,-999,-999,-999,-999,-999,-999,30,-999,-999,-999,-999,-999,-999,-999,-999,-999,-999,-999,-999,-999,-999,-999,-999,-999,-999,-999,-999,-999,-999,-999,-999,-999,-999,-999,-999,-999,-999,-999,-999,-999,-999,-999,-999,-999,-999,-999,-999,-999,-999,-999,-999,-999,-999,-999,-999,-999,-999,-999,-999,-999,-999,-999,-999,-999,-999,-999,-999,-999,-999,-999,-999,-999,-999,-999,-999,-999,-999,-999,-999,-999,-999,-999,-999,-999,-999,-999,46,-999,-999,-999,-999,-999,-999,-999,-999,-999,-999,-999,-999,-999,-999,-999,-999,-999,-999,-999,-999,-999,-999,-999,-999,-999,-999,-999,-999,-999,-999,-999,-999,-999,-999,-999,-999,-999,-999,-999,-999,-999,-999,-999,-999,-999,-999,-999,-999,-999,-999,-999,-999,-999,-999,-999,-999,-999,-999,-999,-999,-999,-999,-999,-999,-999,-999,-999,-999,-999,-999,-999,-999,-999,-999,-999,-999,-999,-999,-999,-999,-999,-999,-999,-999,-999,-999,-999,-999,-999,-999,-999,-999,-999,-999,-999,-999,-999,-999,-999,-999,-999,-999,-999,-999,-999,-999,-999,-999,-999,-999,-999,-999,-999,-999,-999,-999,-999,-999,-999,-999,-999,-999,-999,-999,-999,-999,-999,-999,-999,-999,-999,-999,-999,-999,-999,-999,-999,-999,-999,-999,-999,-999,-999,-999,-999,-999,-999,-999,-999,-999,-999,-999,-999,-999,-999,-999,-999,34,-999,-999,-999,-999,-999,-999,-999,-999,-999,-999,-999,-999,-999,-999,-999,-999,-999,-999,-999,-999,-999,-999,41,-999,-999,-999,-999,-999,-999,-999,-999,-999,-999,-999,-999,-999,-999,-999,-999,-999,-999,-999,-999,-999,-999,-999,-999,-999,-999,-999,-999,-999,-999,-999,-999,-999,-999,-999,-999,-999,-999,-999,-999,-999,-999,-999,-999,-999,-999,-999,-999,-999,-999,-999,-999,-999,-999,-999,-999,-999,-999,-999,-999,-999,-999,-999,-999,-999,-999,-999,-999,-999,-999,-999,-999,-999,-999,-999,-999,-999,-999,-999,-999,-999,-999,-999,-999,-999,-999,-999,-999,-999,-999,-999,-999,-999,-999,-999,43,-999,-999,-999,-999,-999,-999,-999,-999,-999,-999,-999,-999,-999,-999,-999,-999,-999,-999,-999,-999,-999,-999,-999,-999,-999,-999,-999,-999,-999,-999,-999,-999,-999,-999,-999,-999,-999,-999,-999,-999,-999,-999,-999,-999,-999,-999,-999,-999,-999,-999,-999,-999,-999,-999,-999,-999,-999,-999,-999,-999,-999,-999,-999,-999,-999,-999,-999,-999,-999,-999,-999,-999,-999,-999,-999,47,-999,-999,-999,-999,-999,-999,-999,-999,-999,-999,-999,-999,-999,-999,-999,-999,-999,-999,-999,-999,-999,-999,-999,-999,-999,-999,-999,-999,-999,-999,-999,-999,-999,-999,-999,-999,-999,-999,-999,-999]
["East Portal Reservoir",-999,-999,-999,-999,-999,-999,-999,-999,-999,-999,-999,-999,-999,-999,-999,-999,-999,-999,-999,-999,-999,-999,-999,-999,-999,-999,-999,-999,-999,-999,-999,-999,-999,-999,-999,-999,-999,-999,-999,-999,-999,-999,-999,-999,-999,-999,-999,-999,-999,-999,-999,-999,-999,-999,-999,-999,-999,-999,-999,-999,-999,-999,-999,-999,-999,-999,-999,-999,-999,-999,-999,-999,-999,-999,-999,-999,-999,-999,-999,-999,-999,-999,-999,-999,-999,-999,-999,-999,-999,-999,-999,-999,-999,-999,-999,-999,-999,-999,-999,-999,-999,-999,-999,-999,-999,-999,-999,-999,-999,-999,-999,-999,-999,-999,-999,-999,-999,-999,-999,-999,-999,-999,-999,-999,-999,-999,-999,-999,-999,-999,-999,-999,-999,-999,-999,-999,-999,-999,-999,-999,-999,-999,-999,-999,-999,-999,-999,-999,-999,-999,-999,-999,-999,-999,-999,-999,-999,-999,-999,-999,-999,-999,-999,-999,-999,-999,-999,-999,-999,-999,-999,-999,-999,-999,-999,-999,-999,-999,-999,-999,-999,-999,-999,-999,-999,-999,-999,-999,-999,-999,-999,-999,-999,-999,-999,-999,-999,-999,-999,-999,-999,-999,-999,-999,-999,-999,-999,-999,-999,-999,-999,-999,-999,-999,-999,-999,-999,-999,-999,-999,-999,-999,-999,-999,-999,-999,-999,-999,-999,-999,-999,-999,-999,-999,-999,-999,-999,-999,-999,-999,-999,-999,-999,-999,-999,-999,-999,-999,-999,-999,-999,-999,-999,-999,-999,-999,-999,-999,-999,-999,-999,-999,-999,-999,-999,-999,-999,-999,-999,-999,-999,-999,-999,-999,-999,-999,-999,-999,-999,-999,-999,-999,-999,-999,-999,-999,-999,-999,-999,-999,-999,-999,-999,-999,-999,-999,-999,-999,-999,-999,-999,-999,-999,-999,-999,-999,-999,-999,-999,-999,-999,-999,-999,-999,-999,-999,-999,-999,-999,-999,-999,-999,-999,-999,-999,-999,-999,-999,-999,-999,-999,-999,-999,-999,-999,-999,-999,-999,-999,-999,-999,-999,-999,-999,-999,-999,-999,-999,-999,-999,-999,-999,-999,-999,-999,-999,-999,-999,-999,-999,-999,-999,-999,-999,-999,-999,-999,-999,-999,-999,-999,-999,-999,-999,-999,-999,-999,-999,-999,-999,-999,-999,-999,-999,-999,-999,-999,-999,-999,-999,-999,-999,-999,-999,-999,-999,-999,-999,-999,-999,-999,-999,-999,-999,-999,-999,-999,-999,-999,-999,-999,-999,-999,-999,-999,-999,-999,-999,-999,-999,-999,-999,-999,-999,-999,-999,-999,-999,-999,-999,-999,-999,-999,-999,-999,-999,-999,-999,-999,-999,-999,-999,-999,-999,-999,-999,-999,-999,-999,-999,-999,-999,-999,-999,-999,-999,-999,-999,-999,-999,-999,-999,-999,-999,-999,-999,-999,-999,-999,-999,-999,-999,-999,-999,-999,-999,-999,-999,-999,-999,-999,-999,-999,-999,-999,-999,-999,-999,-999,-999,-999,-999,-999,-999,-999,-999,-999,-999,-999,-999,-999,-999,-999,-999,-999,-999,-999,-999,-999,-999,-999,-999,-999,-999,-999,-999,-999,-999,-999,-999,-999,-999,-999,-999,-999,-999,-999,-999,-999,-999,-999,-999,-999,-999,-999,-999,-999,-999,-999,-999,-999,-999,-999,-999,-999,-999,-999,-999,-999,-999,-999,-999,-999,-999,-999,-999,-999,-999,-999,-999,-999,-999,-999,-999,-999,-999,-999,-999,-999,-999,-999,-999,-999,-999,-999,-999,-999,-999,-999,-999,-999,-999,-999,-999,-999,-999,-999,-999,-999,-999,-999,-999,-999,-999,-999,-999,-999,-999,-999,-999,-999,-999,-999,-999,-999,-999,-999,-999,-999,-999,-999,-999,-999,-999,-999,-999,-999,-999,-999,-999,-999,-999,-999,-999,-999,-999,-999,-999,-999,-999,-999,-999,-999,-999,-999,-999,-999,-999,-999,-999,-999,-999,-999,-999,-999,-999,-999,-999,-999,-999,-999,-999,-999,-999,-999,-999,-999,-999,-999,-999,-999,-999,-999,-999,-999,-999,-999,-999,-999,-999,-999,-999,-999,-999,-999,-999,-999,-999,-999,-999,-999,-999,-999,-999,-999,-999,-999,-999,-999,-999,-999,-999,-999,-999,-999,-999,-999,-999,-999,-999,-999,-999,-999,-999,-999,-999,-999,-999,-999,-999,-999,-999,-999,-999,-999,-999,-999,-999,-999,-999,-999,-999,-999,-999,-999,-999,-999,-999,-999,-999,-999,-999,-999,-999,-999,-999,-999,-999,-999,-999,-999,-999,-999,-999,-999,-999,-999,-999,-999,-999,-999,-999,-999,-999,-999,-999,-999,-999,-999,-999,-999,-999,-999,-999,-999,-999,-999,-999,-999,-999,-999,-999,-999,-999,-999,-999,-999,-999,-999,-999,-999,-999,-999,-999,-999,-999,-999,-999,-999,-999,-999,-999,-999,-999,-999,-999,-999,-999,-999,-999,-999,-999,-999,-999,-999,-999,-999,-999,-999,-999,-999,-999,-999,-999,-999,-999,-999,-999,-999,-999,-999,-999,-999,-999,-999,-999,-999,-999,-999,-999,-999,-999,-999,-999,-999,-999,-999,-999,-999,-999,-999,-999,-999,-999,-999,-999,-999,-999,-999,-999,-999,-999,-999,-999,-999,-999,-999,-999,-999,-999,-999,-999,-999,-999,-999,-999,-999,-999,-999,-999,-999,-999,-999,-999,-999,-999,-999,-999,-999,-999,-999,-999,-999,-999,-999,-999,-999,-999,-999,-999,-999,-999,-999,-999,-999,-999,-999,-999,-999,-999,-999,-999,-999,-999,-999,-999,-999,-999,-999,-999,-999,-999,-999,-999,-999,-999,-999,-999,-999,-999,-999,-999,-999,-999,-999,-999,-999,-999,-999,-999,-999,-999,-999,-999,-999,-999,-999,-999,-999,-999,-999,-999,-999,-999,-999,-999,-999,-999,-999,-999,-999,-999,-999,-999,-999,-999,-999,-999,-999,-999,-999,-999,-999,-999,-999,-999,-999,-999,-999,-999,-999,-999,-999,-999,-999,-999,-999,-999,-999,-999,-999,-999,-999,-999,-999,-999,-999,-999,-999,-999,-999,-999,-999,-999,-999,-999,-999,-999,-999,-999]
["Mary's Lake",-999,-999,-999,-999,-999,-999,-999,-999,-999,-999,-999,-999,-999,-999,-999,-999,-999,-999,-999,-999,-999,-999,-999,-999,-999,-999,-999,-999,-999,-999,-999,-999,-999,-999,-999,-999,-999,-999,-999,-999,-999,-999,-999,-999,-999,-999,-999,-999,-999,-999,-999,-999,-999,-999,-999,-999,-999,-999,-999,-999,-999,-999,-999,-999,-999,-999,-999,-999,-999,-999,-999,-999,-999,-999,-999,-999,-999,-999,-999,-999,-999,-999,-999,-999,-999,-999,-999,-999,-999,-999,-999,-999,-999,-999,-999,-999,-999,-999,-999,-999,-999,-999,-999,-999,-999,-999,-999,-999,-999,-999,-999,-999,-999,-999,-999,-999,-999,-999,-999,-999,-999,-999,-999,-999,-999,-999,-999,-999,-999,-999,-999,-999,-999,-999,-999,-999,-999,-999,-999,-999,-999,-999,-999,-999,-999,-999,-999,-999,-999,-999,-999,-999,-999,-999,-999,-999,-999,-999,-999,-999,-999,-999,-999,-999,-999,-999,-999,-999,-999,-999,-999,-999,-999,-999,-999,-999,-999,-999,-999,-999,-999,-999,-999,-999,-999,-999,-999,-999,-999,-999,-999,-999,-999,-999,-999,-999,-999,-999,-999,-999,-999,-999,-999,-999,-999,-999,-999,-999,-999,-999,-999,-999,-999,-999,-999,-999,-999,-999,-999,-999,-999,-999,-999,-999,-999,-999,-999,-999,-999,-999,-999,-999,-999,-999,-999,-999,-999,-999,-999,-999,-999,-999,-999,-999,-999,-999,-999,-999,-999,-999,-999,-999,-999,-999,-999,-999,-999,-999,-999,-999,-999,-999,-999,-999,-999,-999,-999,-999,-999,-999,-999,-999,-999,-999,-999,-999,-999,-999,-999,-999,-999,-999,-999,-999,-999,-999,-999,-999,-999,-999,-999,-999,-999,-999,-999,-999,-999,-999,-999,-999,-999,-999,-999,-999,-999,-999,-999,-999,-999,-999,-999,-999,-999,-999,-999,-999,-999,-999,-999,-999,-999,-999,-999,-999,-999,-999,-999,-999,-999,-999,-999,-999,-999,-999,-999,-999,-999,-999,-999,-999,-999,-999,-999,-999,-999,-999,-999,-999,-999,-999,-999,-999,-999,-999,-999,-999,-999,-999,-999,-999,-999,-999,-999,-999,-999,-999,-999,-999,-999,-999,-999,-999,-999,-999,-999,-999,-999,-999,-999,-999,-999,-999,-999,-999,-999,-999,-999,-999,-999,-999,-999,-999,-999,-999,-999,-999,-999,-999,-999,-999,-999,-999,-999,-999,-999,-999,-999,-999,-999,-999,-999,-999,-999,-999,-999,-999,-999,-999,-999,-999,-999,-999,-999,-999,-999,-999,-999,-999,-999,-999,-999,-999,-999,-999,-999,-999,-999,-999,-999,-999,-999,-999,-999,-999,-999,-999,-999,-999,-999,-999,-999,-999,-999,-999,-999,-999,-999,-999,-999,-999,-999,-999,-999,-999,-999,-999,-999,-999,-999,-999,-999,-999,-999,-999,-999,-999,-999,-999,-999,-999,-999,-999,-999,-999,-999,-999,-999,-999,-999,-999,-999,-999,-999,-999,-999,-999,-999,-999,-999,-999,-999,-999,-999,-999,-999,-999,-999,-999,-999,-999,-999,-999,-999,-999,-999,-999,-999,-999,-999,-999,-999,-999,-999,-999,-999,-999,-999,-999,-999,-999,-999,-999,-999,-999,-999,-999,-999,-999,-999,-999,-999,-999,-999,-999,-999,-999,-999,-999,-999,-999,-999,-999,-999,-999,-999,-999,-999,-999,-999,-999,-999,-999,-999,-999,-999,-999,-999,-999,-999,-999,-999,-999,-999,-999,-999,-999,-999,-999,-999,-999,-999,-999,-999,-999,-999,-999,-999,-999,-999,-999,-999,-999,-999,-999,-999,-999,-999,-999,-999,-999,-999,-999,-999,-999,-999,-999,-999,-999,-999,-999,-999,-999,-999,-999,-999,-999,-999,-999,-999,-999,-999,-999,-999,-999,-999,-999,-999,-999,-999,-999,-999,-999,-999,-999,-999,-999,-999,-999,-999,-999,-999,-999,-999,-999,-999,-999,-999,-999,-999,-999,-999,-999,-999,-999,-999,-999,-999,-999,-999,-999,-999,-999,-999,-999,-999,-999,-999,-999,-999,-999,-999,-999,-999,-999,-999,-999,-999,-999,-999,-999,-999,-999,-999,-999,-999,-999,-999,-999,-999,-999,-999,-999,-999,-999,-999,-999,-999,-999,-999,-999,-999,-999,-999,-999,-999,-999,-999,-999,-999,-999,-999,-999,-999,-999,-999,-999,-999,-999,-999,-999,-999,-999,-999,-999,-999,-999,-999,-999,-999,-999,-999,-999,-999,-999,-999,-999,-999,-999,-999,-999,-999,-999,-999,-999,-999,-999,-999,-999,-999,-999,-999,-999,-999,-999,-999,-999,-999,-999,-999,-999,-999,-999,-999,-999,-999,-999,-999,-999,-999,-999,-999,-999,-999,-999,-999,-999,-999,-999,-999,-999,-999,-999,-999,-999,-999,-999,-999,-999,-999,-999,-999,-999,-999,-999,-999,-999,-999,-999,-999,-999,-999,-999,-999,-999,-999,-999,-999,-999,-999,-999,-999,-999,-999,-999,-999,-999,-999,-999,-999,-999,-999,-999,-999,-999,-999,-999,-999,-999,-999,-999,-999,-999,-999,-999,-999,-999,-999,-999,-999,-999,-999,-999,-999,-999,-999,-999,-999,-999,-999,-999,-999,-999,-999,-999,-999,-999,-999,-999,-999,-999,-999,-999,-999,-999,-999,-999,-999,-999,-999,-999,-999,-999,-999,-999,-999,-999,-999,-999,-999,-999,-999,-999,-999,-999,-999,-999,-999,-999,-999,-999,-999,-999,-999,-999,-999,-999,-999,-999,-999,-999,-999,-999,-999,-999,-999,-999,-999,-999,-999,-999,-999,-999,-999,-999,-999,-999,-999,-999,-999,-999,-999,-999,-999,-999,-999,-999,-999,-999,-999,-999,-999,-999,-999,-999,-999,-999,-999,-999,-999,-999,-999,-999,-999,-999,-999,-999,-999,-999,-999,-999,-999,-999,-999,-999,-999,-999,-999,-999,-999,-999,-999,-999,-999,-999,-999,-999,-999,-999,-999,-999,-999,-999,-999,-999,-999,-999,-999,-999,-999,-999,-999,-999,-999,-999,-999,-999,-999,-999,-999,-999,-999,-999,-999,-999,-999,-999,-999,-999,-999,-999]
["Lake Estes",-999,-999,-999,-999,-999,-999,-999,-999,-999,-999,-999,-999,-999,-999,-999,-999,-999,-999,-999,-999,-999,-999,-999,-999,-999,-999,-999,-999,-999,-999,-999,-999,-999,-999,-999,-999,-999,-999,-999,-999,-999,-999,-999,-999,-999,-999,-999,-999,-999,-999,-999,-999,-999,-999,-999,-999,-999,-999,-999,-999,-999,-999,-999,-999,-999,-999,-999,-999,-999,-999,-999,-999,-999,-999,-999,-999,-999,-999,-999,-999,-999,-999,-999,-999,-999,-999,-999,-999,-999,-999,-999,-999,-999,-999,-999,-999,-999,-999,-999,-999,-999,-999,-999,-999,-999,-999,-999,-999,-999,-999,-999,-999,-999,-999,-999,-999,-999,-999,-999,-999,-999,-999,-999,-999,-999,-999,-999,-999,-999,-999,-999,-999,-999,-999,-999,-999,-999,-999,-999,-999,-999,-999,-999,-999,-999,-999,-999,-999,-999,-999,-999,-999,-999,-999,-999,-999,-999,-999,-999,-999,-999,-999,-999,-999,-999,-999,-999,-999,-999,-999,-999,-999,-999,-999,-999,-999,-999,-999,-999,-999,-999,-999,-999,-999,-999,-999,-999,-999,-999,-999,-999,-999,-999,-999,-999,-999,-999,-999,-999,-999,-999,-999,-999,-999,-999,-999,-999,-999,-999,-999,-999,-999,-999,-999,-999,-999,-999,-999,-999,-999,-999,-999,-999,-999,-999,-999,-999,-999,-999,-999,-999,-999,-999,-999,-999,-999,-999,-999,-999,-999,-999,-999,-999,-999,-999,-999,-999,-999,-999,-999,-999,-999,-999,-999,-999,-999,-999,-999,-999,-999,-999,-999,-999,-999,-999,-999,-999,-999,-999,-999,-999,-999,-999,-999,-999,-999,-999,-999,-999,-999,-999,-999,-999,-999,-999,-999,-999,-999,-999,-999,-999,-999,-999,-999,-999,-999,-999,-999,-999,-999,-999,-999,-999,-999,-999,-999,-999,-999,-999,-999,-999,-999,-999,-999,-999,-999,-999,-999,-999,-999,-999,-999,-999,-999,-999,-999,-999,-999,-999,-999,-999,-999,-999,-999,-999,-999,-999,-999,-999,-999,-999,-999,-999,-999,-999,-999,-999,-999,-999,-999,-999,-999,-999,-999,-999,-999,-999,-999,-999,-999,-999,-999,-999,-999,-999,-999,-999,-999,-999,-999,-999,-999,-999,-999,-999,-999,-999,-999,-999,-999,-999,-999,-999,-999,-999,-999,-999,-999,-999,-999,-999,-999,-999,-999,-999,-999,-999,-999,-999,-999,-999,-999,-999,-999,-999,-999,-999,-999,-999,-999,-999,-999,-999,-999,-999,-999,-999,-999,-999,-999,-999,-999,-999,-999,-999,-999,-999,-999,-999,-999,-999,-999,-999,-999,-999,-999,-999,-999,-999,-999,-999,-999,-999,-999,-999,-999,-999,-999,-999,-999,-999,-999,-999,-999,-999,-999,-999,-999,-999,-999,-999,-999,-999,-999,-999,-999,-999,-999,-999,-999,-999,-999,-999,-999,-999,-999,-999,-999,-999,-999,-999,-999,-999,-999,-999,-999,-999,-999,-999,-999,-999,-999,-999,-999,-999,-999,-999,-999,-999,-999,-999,-999,-999,-999,-999,-999,-999,-999,-999,-999,-999,-999,-999,-999,-999,-999,-999,-999,-999,-999,-999,-999,-999,-999,-999,-999,-999,-999,-999,-999,-999,-999,-999,-999,-999,-999,-999,-999,-999,-999,-999,-999,-999,-999,-999,-999,-999,-999,-999,-999,-999,-999,-999,-999,-999,-999,-999,-999,-999,-999,-999,-999,-999,-999,-999,-999,-999,-999,-999,-999,-999,-999,-999,-999,-999,-999,-999,-999,-999,-999,-999,-999,-999,-999,-999,-999,-999,-999,-999,-999,-999,-999,-999,-999,-999,-999,-999,-999,-999,-999,-999,-999,-999,-999,-999,-999,-999,-999,-999,-999,-999,-999,-999,-999,-999,-999,-999,-999,-999,-999,-999,-999,-999,-999,-999,-999,-999,-999,-999,-999,-999,-999,-999,-999,-999,-999,-999,-999,-999,-999,-999,-999,-999,-999,-999,-999,-999,-999,-999,-999,-999,-999,-999,-999,-999,-999,-999,-999,-999,-999,-999,-999,-999,-999,-999,-999,-999,-999,-999,-999,-999,-999,-999,-999,-999,-999,-999,-999,-999,-999,-999,-999,-999,-999,-999,-999,-999,-999,-999,-999,-999,-999,-999,-999,-999,-999,-999,-999,-999,-999,-999,-999,-999,-999,-999,-999,-999,-999,-999,-999,-999,-999,-999,-999,-999,-999,-999,-999,-999,-999,-999,-999,-999,-999,-999,-999,-999,-999,-999,-999,-999,-999,-999,-999,-999,-999,-999,-999,-999,-999,-999,-999,-999,-999,-999,-999,-999,-999,-999,-999,-999,-999,-999,-999,-999,-999,-999,-999,-999,-999,-999,-999,-999,-999,-999,-999,-999,-999,-999,-999,-999,-999,-999,-999,-999,-999,-999,-999,-999,-999,-999,-999,-999,-999,-999,-999,-999,-999,-999,-999,-999,-999,-999,-999,-999,-999,-999,-999,-999,-999,-999,-999,-999,-999,-999,-999,-999,-999,-999,-999,-999,-999,-999,-999,-999,-999,-999,-999,-999,-999,-999,-999,-999,-999,-999,-999,-999,-999,-999,-999,-999,-999,-999,-999,-999,-999,-999,-999,-999,-999,-999,-999,-999,-999,-999,-999,-999,-999,-999,-999,-999,-999,-999,-999,-999,-999,-999,-999,-999,-999,-999,-999,-999,-999,-999,-999,-999,-999,-999,-999,-999,-999,-999,-999,-999,-999,-999,-999,-999,-999,-999,-999,-999,-999,-999,-999,-999,-999,-999,-999,-999,-999,-999,-999,-999,-999,-999,-999,-999,-999,-999,-999,-999,-999,-999,-999,-999,-999,-999,-999,-999,-999,-999,-999,-999,-999,-999,-999,-999,-999,-999,-999,-999,-999,-999,-999,-999,-999,-999,-999,-999,-999,-999,-999,-999,-999,-999,-999,-999,-999,-999,-999,-999,-999,-999,-999,-999,-999,-999,-999,-999,-999,-999,-999,-999,-999,-999,-999,-999,-999,-999,-999,-999,-999,-999,-999,-999,-999,-999,-999,-999,-999,-999,-999,-999,-999,-999,-999,-999,-999,-999,-999,-999,-999,-999,-999,-999,-999,-999,-999,-999,-999,-999,-999,-999,-999,-999,-999,-999,-999]
["Pinewood Reservoir",-999,-999,-999,-999,-999,-999,-999,-999,-999,-999,-999,-999,-999,-999,-999,-999,-999,-999,-999,-999,-999,-999,-999,-999,-999,-999,-999,-999,-999,-999,-999,-999,-999,-999,-999,-999,-999,-999,-999,-999,-999,-999,-999,-999,-999,-999,-999,-999,-999,-999,-999,-999,-999,-999,-999,-999,-999,-999,-999,-999,-999,-999,-999,-999,-999,-999,-999,-999,-999,-999,-999,-999,-999,-999,-999,-999,-999,-999,-999,-999,-999,-999,-999,-999,-999,-999,-999,-999,-999,-999,-999,-999,-999,-999,-999,-999,-999,-999,-999,-999,-999,-999,-999,-999,-999,-999,-999,-999,-999,-999,-999,-999,-999,-999,-999,-999,-999,-999,-999,-999,-999,-999,-999,-999,-999,-999,-999,-999,-999,-999,-999,-999,-999,-999,-999,-999,-999,-999,-999,-999,-999,-999,-999,-999,-999,-999,-999,-999,-999,-999,-999,-999,-999,-999,-999,-999,-999,-999,-999,-999,-999,-999,-999,-999,-999,-999,-999,-999,-999,-999,-999,-999,-999,-999,-999,-999,-999,-999,-999,-999,-999,-999,-999,-999,-999,-999,-999,-999,-999,-999,-999,-999,-999,-999,-999,-999,-999,-999,-999,-999,-999,-999,-999,-999,-999,-999,-999,-999,-999,-999,-999,-999,-999,-999,-999,-999,-999,-999,-999,-999,-999,-999,-999,-999,-999,-999,-999,-999,-999,-999,-999,-999,-999,-999,-999,-999,-999,-999,-999,-999,-999,-999,-999,-999,-999,-999,-999,-999,-999,-999,-999,-999,-999,-999,-999,-999,-999,-999,-999,-999,-999,-999,-999,-999,-999,-999,-999,-999,-999,-999,-999,-999,-999,-999,-999,-999,-999,-999,-999,-999,-999,-999,-999,-999,-999,-999,-999,-999,-999,-999,-999,-999,-999,-999,-999,-999,-999,-999,-999,-999,-999,-999,-999,-999,-999,-999,-999,-999,-999,-999,-999,-999,-999,-999,-999,-999,-999,-999,-999,-999,-999,-999,-999,-999,-999,-999,-999,-999,-999,-999,-999,-999,-999,-999,-999,-999,-999,-999,-999,-999,-999,-999,-999,-999,-999,-999,-999,-999,-999,-999,-999,-999,-999,-999,-999,-999,-999,-999,-999,-999,-999,-999,-999,-999,-999,-999,-999,-999,-999,-999,-999,-999,-999,-999,-999,-999,-999,-999,-999,-999,-999,-999,-999,-999,-999,-999,-999,-999,-999,-999,-999,-999,-999,-999,-999,-999,-999,-999,-999,-999,-999,-999,-999,-999,-999,-999,-999,-999,-999,-999,-999,-999,-999,-999,-999,-999,-999,-999,-999,-999,-999,-999,-999,-999,-999,-999,-999,-999,-999,-999,-999,-999,-999,-999,-999,-999,-999,-999,-999,-999,-999,-999,-999,-999,-999,-999,-999,-999,-999,-999,-999,-999,-999,-999,-999,-999,-999,-999,-999,-999,-999,-999,-999,-999,-999,-999,-999,-999,-999,-999,-999,-999,-999,-999,-999,-999,-999,-999,-999,-999,-999,-999,-999,-999,-999,-999,-999,-999,-999,-999,-999,-999,-999,-999,-999,-999,-999,-999,-999,-999,-999,-999,-999,-999,-999,-999,-999,-999,-999,-999,-999,-999,-999,-999,-999,-999,-999,-999,-999,-999,-999,-999,-999,-999,-999,-999,-999,-999,-999,-999,-999,-999,-999,-999,-999,-999,-999,-999,-999,-999,-999,-999,-999,-999,-999,-999,-999,-999,-999,-999,-999,-999,-999,-999,-999,-999,-999,-999,-999,-999,-999,-999,-999,-999,-999,-999,-999,-999,-999,-999,-999,-999,-999,-999,-999,-999,-999,-999,-999,-999,-999,-999,-999,-999,-999,-999,-999,-999,-999,-999,-999,-999,-999,-999,-999,-999,-999,-999,-999,-999,-999,-999,-999,-999,-999,-999,-999,-999,-999,-999,-999,-999,-999,-999,-999,-999,-999,-999,-999,-999,-999,-999,-999,-999,-999,-999,-999,-999,-999,-999,-999,-999,-999,-999,-999,-999,-999,-999,-999,-999,-999,-999,-999,-999,-999,-999,-999,-999,-999,-999,-999,-999,-999,-999,-999,-999,-999,-999,-999,-999,-999,-999,-999,-999,-999,-999,-999,-999,-999,-999,-999,-999,-999,-999,-999,-999,-999,-999,-999,-999,-999,-999,-999,-999,-999,-999,-999,-999,-999,-999,-999,-999,-999,-999,-999,-999,-999,-999,-999,-999,-999,-999,-999,-999,-999,-999,-999,-999,-999,-999,-999,-999,-999,-999,-999,-999,-999,-999,-999,-999,-999,-999,-999,-999,-999,-999,-999,-999,-999,-999,-999,-999,-999,-999,-999,-999,-999,-999,-999,-999,-999,-999,-999,-999,-999,-999,-999,-999,-999,-999,-999,-999,-999,-999,-999,-999,-999,-999,-999,-999,-999,-999,-999,-999,-999,-999,-999,-999,-999,-999,-999,-999,-999,-999,-999,-999,-999,-999,-999,-999,-999,-999,-999,-999,-999,-999,-999,-999,-999,-999,-999,-999,-999,-999,-999,-999,-999,-999,-999,-999,-999,-999,-999,-999,-999,-999,-999,-999,-999,-999,-999,-999,-999,-999,-999,-999,-999,-999,-999,-999,-999,-999,-999,-999,-999,-999,-999,-999,-999,-999,-999,-999,-999,-999,-999,-999,-999,-999,-999,-999,-999,-999,-999,-999,-999,-999,-999,-999,-999,-999,-999,-999,-999,-999,-999,-999,-999,-999,-999,-999,-999,-999,-999,-999,-999,-999,-999,-999,-999,-999,-999,-999,-999,-999,-999,-999,-999,-999,-999,-999,-999,-999,-999,-999,-999,-999,-999,-999,-999,-999,-999,-999,-999,-999,-999,-999,-999,-999,-999,-999,-999,-999,-999,-999,-999,-999,-999,-999,-999,-999,-999,-999,-999,-999,-999,-999,-999,-999,-999,-999,-999,-999,-999,-999,-999,-999,-999,-999,-999,-999,-999,-999,-999,-999,-999,-999,-999,-999,-999,-999,-999,-999,-999,-999,-999,-999,-999,-999,-999,-999,-999,-999,-999,-999,-999,-999,-999,-999,-999,-999,-999,-999,-999,-999,-999,-999,-999,-999,-999,-999,-999,-999,-999,-999,-999,-999,-999,-999,-999,-999,-999,-999,-999,-999,-999,-999,-999,-999,-999,-999,-999,-999,-999,-999,-999,-999,-999,-999,-999,-999]
["Flatiron Reservoir",-999,-999,-999,-999,-999,-999,-999,-999,-999,-999,-999,-999,-999,-999,-999,-999,-999,-999,-999,-999,-999,-999,-999,-999,-999,-999,-999,-999,-999,-999,-999,-999,-999,-999,-999,-999,-999,-999,-999,-999,-999,-999,-999,-999,-999,-999,-999,-999,-999,-999,-999,-999,-999,-999,-999,-999,-999,-999,-999,-999,-999,-999,-999,-999,-999,-999,-999,-999,-999,-999,-999,-999,-999,-999,-999,-999,-999,-999,-999,-999,-999,-999,-999,-999,-999,-999,-999,-999,-999,-999,-999,-999,-999,-999,-999,-999,-999,-999,-999,-999,-999,-999,-999,-999,-999,-999,-999,-999,-999,-999,-999,-999,-999,-999,-999,-999,-999,-999,-999,-999,-999,-999,-999,-999,-999,-999,-999,-999,-999,-999,-999,-999,-999,-999,-999,-999,-999,-999,-999,-999,-999,-999,-999,-999,-999,-999,-999,-999,-999,-999,-999,-999,-999,-999,-999,-999,-999,-999,-999,-999,-999,-999,-999,-999,-999,-999,-999,-999,-999,-999,-999,-999,-999,-999,-999,-999,-999,-999,-999,-999,-999,-999,-999,-999,-999,-999,-999,-999,-999,-999,-999,-999,-999,-999,-999,-999,-999,-999,-999,-999,-999,-999,-999,-999,-999,-999,-999,-999,-999,-999,-999,-999,-999,-999,-999,-999,-999,-999,-999,-999,-999,-999,-999,-999,-999,-999,-999,-999,-999,-999,-999,-999,-999,-999,-999,-999,-999,-999,-999,-999,-999,-999,-999,31,-999,-999,-999,-999,-999,-999,-999,-999,-999,-999,-999,-999,-999,-999,-999,-999,-999,-999,-999,-999,-999,-999,-999,-999,-999,-999,-999,-999,-999,-999,-999,-999,-999,-999,-999,-999,-999,-999,-999,-999,-999,-999,-999,-999,-999,-999,-999,-999,-999,-999,-999,-999,-999,-999,-999,-999,-999,-999,-999,-999,-999,-999,-999,-999,-999,-999,-999,-999,-999,-999,-999,-999,-999,-999,-999,-999,-999,-999,-999,-999,-999,-999,-999,-999,-999,-999,-999,-999,-999,-999,-999,-999,-999,-999,-999,-999,-999,-999,-999,-999,-999,-999,-999,-999,-999,-999,-999,-999,-999,-999,-999,-999,-999,-999,-999,-999,-999,-999,-999,-999,-999,-999,-999,-999,-999,-999,-999,-999,-999,-999,-999,-999,-999,-999,-999,-999,-999,-999,-999,-999,-999,-999,-999,-999,-999,-999,-999,-999,-999,-999,-999,-999,-999,-999,-999,-999,-999,-999,-999,-999,-999,-999,-999,-999,-999,-999,-999,-999,-999,-999,-999,-999,-999,-999,-999,-999,-999,-999,-999,-999,-999,-999,-999,-999,-999,-999,-999,-999,-999,-999,-999,-999,-999,-999,-999,-999,-999,-999,-999,-999,-999,-999,-999,-999,-999,-999,-999,-999,-999,-999,-999,-999,-999,-999,-999,-999,-999,-999,-999,-999,-999,-999,36,-999,-999,-999,-999,-999,-999,-999,-999,-999,-999,-999,-999,-999,-999,-999,-999,-999,-999,-999,-999,-999,-999,-999,-999,-999,-999,-999,-999,-999,-999,-999,-999,-999,-999,-999,-999,-999,-999,-999,-999,-999,-999,-999,-999,-999,-999,-999,-999,-999,-999,-999,-999,-999,-999,-999,-999,-999,-999,-999,-999,-999,-999,-999,-999,-999,-999,-999,-999,-999,-999,-999,-999,-999,-999,-999,-999,-999,-999,-999,-999,-999,-999,-999,-999,-999,-999,-999,-999,-999,-999,-999,-999,-999,-999,-999,-999,-999,-999,-999,-999,-999,-999,-999,-999,-999,-999,-999,-999,-999,-999,-999,-999,-999,-999,-999,-999,-999,-999,-999,-999,-999,-999,-999,-999,-999,-999,-999,-999,-999,-999,-999,-999,-999,-999,-999,-999,-999,-999,-999,-999,-999,-999,-999,-999,-999,-999,-999,-999,-999,-999,-999,-999,-999,-999,-999,-999,-999,-999,-999,-999,-999,-999,-999,-999,-999,-999,-999,-999,-999,-999,-999,-999,-999,-999,-999,-999,-999,-999,-999,-999,-999,-999,-999,-999,-999,-999,-999,-999,-999,-999,-999,-999,-999,-999,-999,-999,-999,-999,-999,-999,-999,-999,-999,-999,-999,-999,-999,-999,-999,-999,-999,-999,-999,-999,-999,-999,-999,-999,-999,-999,-999,-999,-999,-999,-999,-999,-999,-999,-999,-999,-999,-999,-999,-999,-999,-999,-999,-999,-999,-999,-999,-999,-999,-999,-999,-999,-999,-999,-999,-999,-999,-999,-999,-999,-999,-999,-999,-999,-999,-999,-999,-999,-999,-999,-999,-999,-999,-999,-999,-999,-999,-999,-999,-999,-999,-999,-999,-999,-999,-999,-999,-999,-999,-999,-999,-999,-999,-999,-999,-999,-999,-999,-999,-999,-999,-999,-999,-999,-999,-999,-999,-999,-999,-999,-999,-999,-999,-999,-999,-999,-999,-999,-999,-999,-999,-999,-999,-999,-999,-999,-999,-999,-999,-999,-999,-999,-999,-999,-999,-999,-999,-999,-999,-999,-999,-999,-999,-999,-999,-999,-999,-999,-999,-999,-999,-999,35,-999,-999,-999,-999,-999,-999,-999,-999,-999,-999,-999,-999,-999,-999,-999,42,-999,-999,-999,-999,-999,-999,-999,-999,-999,-999,-999,-999,-999,-999,-999,-999,-999,-999,-999,-999,-999,-999,-999,-999,-999,-999,-999,-999,-999,-999,-999,-999,-999,-999,-999,-999,-999,-999,-999,-999,-999,-999,-999,-999,-999,-999,-999,-999,-999,46,-999,-999,-999,-999,-999,-999,-999,-999,-999,-999,-999,-999,-999,-999,-999,-999,-999,-999,-999,-999,-999,-999,-999,-999,-999,-999,-999,-999,-999,-999,-999,-999,-999,-999,-999,-999,-999,-999,-999,-999,-999,-999,-999,-999,-999,-999,-999,-999,-999,-999,-999,-999,-999,-999,-999,-999,-999,-999,-999,-999,-999,-999,-999,-999,-999,-999,-999,-999,-999,-999,-999,-999,-999,-999,-999,-999,-999,-999,-999,-999,-999,-999,-999,-999,-999,-999,-999,-999,-999,-999,-999,-999,-999,-999,-999,-999,-999,-999,-999,-999,-999,-999,-999,-999,-999,-999,-999,-999,-999,-999,-999,-999,-999,-999,-999,-999,-999,-999,-999,-999]
["Horsetooth Reservoir",-999,14,28,28,-999,43,-999,-999,-999,16,-999,-999,-999,-999,-999,27,-999,47,21,-999,-999,14,29,-999,-999,-999,-999,34,23,43,-999,21,-999,-999,-999,38,-999,-999,-999,-999,-999,-999,-999,-999,25,-999,42,-999,31,23,-999,-999,-999,-999,13,22,26,42,-999,-999,-999,16,-999,13,21,-999,29,18,-999,24,-999,-999,46,-999,38,-999,24,-999,30,30,-999,-999,22,9,-999,-999,-999,-999,-999,-999,26,37,-999,-999,-999,-999,-999,9,-999,47,-999,-999,30,-999,33,29,13,-999,27,18,-999,40,-999,21,16,30,-999,38,-999,44,48,24,32,-999,19,-999,-999,-999,-999,42,-999,-999,12,-999,-999,36,15,17,-999,11,25,-999,25,-999,-999,30,-999,11,-999,30,-999,-999,33,42,22,43,-999,26,26,-999,-999,39,21,47,31,-999,-999,-999,-999,-999,26,-999,-999,-999,26,-999,47,-999,-999,-999,46,17,-999,16,-999,24,43,21,39,35,-999,33,-999,30,-999,-999,22,-999,-999,13,18,-999,-999,-999,18,46,37,-999,25,-999,-999,47,-999,-999,12,-999,-999,29,-999,-999,13,-999,-999,-999,47,-999,33,25,-999,20,-999,15,-999,37,15,-999,-999,-999,31,16,37,13,-999,-999,20,-999,-999,40,20,-999,41,28,21,28,-999,-999,25,47,-999,-999,-999,33,41,-999,-999,-999,35,7,-999,18,22,-999,22,-999,-999,-999,24,-999,24,-999,-999,-999,24,5,-999,39,-999,-999,-999,26,35,-999,-999,-999,-999,-999,-999,-999,-999,45,-999,30,26,-999,-999,-999,28,-999,30,38,40,-999,-999,29,-999,15,-999,26,47,44,-999,-999,-999,29,41,46,45,-999,-999,40,-999,-999,-999,27,-999,23,-999,41,-999,32,38,-999,-999,23,9,30,39,-999,35,30,22,-999,13,-999,31,21,-999,-999,-999,29,11,-999,-999,-999,13,11,31,-999,37,5,-999,15,-999,-999,23,-999,23,41,15,35,-999,-999,27,19,39,43,23,-999,47,43,35,9,36,-999,43,38,41,20,-999,-999,-999,-999,-999,-999,12,8,-999,-999,-999,17,18,11,-999,-999,-999,-999,44,-999,-999,8,-999,-999,-999,-999,-999,-999,28,-999,-999,-999,-999,24,-999,-999,-999,20,-999,-999,-999,46,13,45,-999,42,-999,30,27,46,-999,47,-999,18,-999,18,-999,-999,-999,34,-999,-999,27,-999,-999,42,-999,-999,17,-999,8,-999,-999,29,-999,47,16,-999,-999,-999,25,15,21,7,-999,36,-999,34,20,11,27,40,-999,-999,-999,20,-999,32,3,-999,15,5,24,32,46,34,34,-999,-999,17,-999,-999,33,31,-999,-999,-999,-999,11,-999,20,-999,-999,-999,29,-999,-999,-999,-999,-999,-999,46,10,44,-999,22,26,-999,-999,-999,38,31,11,37,35,-999,-999,-999,-999,-999,-999,-999,9,-999,44,-999,21,23,45,-999,7,-999,-999,-999,21,-999,41,-999,14,24,-999,-999,48,19,-999,-999,43,37,11,-999,29,-999,34,38,34,23,40,38,19,12,-999,-999,-999,-999,17,34,37,-999,-999,32,44,25,38,33,27,32,16,27,-999,14,46,-999,-999,-999,46,4,43,-999,-999,-999,-999,29,-999,-999,10,-999,36,-999,28,-999,47,31,48,-999,-999,-999,-999,-999,3,21,24,20,-999,46,-999,-999,25,-999,25,40,15,-999,35,-999,44,11,-999,31,31,-999,47,37,11,8,-999,-999,-999,-999,28,-999,-999,29,-999,3,19,-999,27,27,17,-999,36,11,-999,-999,-999,33,14,5,-999,-999,48,-999,-999,-999,-999,-999,-999,-999,-999,7,-999,-999,30,37,28,-999,-999,32,-999,-999,7,-999,23,-999,-999,23,31,-999,-999,-999,-999,-999,-999,27,18,48,5,18,-999,11,-999,24,29,-999,-999,-999,-999,-999,-999,4,40,-999,-999,29,37,15,-999,44,-999,-999,28,32,-999,31,6,28,-999,15,42,22,20,15,35,-999,34,-999,-999,-999,-999,45,-999,39,-999,-999,-999,21,-999,20,-999,19,-999,-999,-999,-999,16,-999,-999,-999,-999,33,-999,40,-999,20,-999,-999,-999,-999,-999,6,-999,28,47,15,8,17,-999,30,-999,21,-999,-999,7,-999,-999,-999,24,-999,21,44,3,-999,-999,-999,-999,-999,-999,-999,-999,30,-999,31,24,-999,-999,-999,-999,-999,30,-999,-999,-999,33,22,-999,-999,-999,37,-999,-999,24,27,30,28,-999,-999,23,-999,25,32,-999,38,-999,-999,-999,-999,32,18,38,-999,-999,39,-999,40,37,48,-999,37,24,10,21,-999,-999,-999,33,24,-999,14,33,-999,45,33,47,-999,-999,-999,-999,-999,17,-999,17,-999,21,-999,-999,-999,-999,21,26,-999,-999,34,12,-999,-999,38,27,-999,-999,12,37,25,-999,18,-999,-999,-999,28,37,-999,-999,-999,34,28,11,-999,-999,-999,31,-999,45,-999,-999,34,17,14,-999,16,-999,-999,-999,25,38,2,-999,23,-999,-999,-999,44,-999,-999,-999,23,25,-999,-999,-999,-999,-999,-999,25,28,36,-999,14,-999,46,-999,31,-999,-999,-999,12,-999,42,-999,-999,40,-999,32,22,-999,35,-999,-999,18,29,14,8,-999,-999]
["Carter Lake",-999,-999,-999,-999,42,-999,-999,-999,26,-999,-999,-999,-999,41,-999,-999,-999,-999,-999,-999,-999,-999,-999,-999,-999,-999,-999,-999,-999,-999,-999,-999,-999,-999,-999,-999,-999,-999,-999,-999,-999,-999,-999,-999,-999,-999,-999,-999,-999,-999,-999,-999,-999,-999,-999,-999,-999,-999,-999,-999,-999,-999,-999,-999,-999,-999,-999,-999,-999,-999,-999,-999,-999,-999,-999,-999,-999,-999,-999,-999,-999,-999,-999,-999,-999,-999,-999,-999,-999,-999,-999,-999,-999,-999,-999,-999,-999,-999,-999,-999,-999,-999,-999,-999,-999,-999,-999,-999,-999,-999,-999,-999,-999,-999,-999,-999,-999,-999,-999,-999,-999,-999,-999,-999,-999,-999,-999,-999,-999,-999,-999,-999,-999,-999,-999,-999,-999,-999,-999,-999,-999,-999,-999,-999,-999,-999,39,-999,-999,-999,-999,-999,-999,-999,-999,-999,-999,-999,45,-999,-999,-999,-999,-999,-999,-999,-999,-999,-999,-999,-999,-999,-999,-999,-999,-999,-999,-999,-999,-999,-999,-999,-999,-999,-999,-999,-999,-999,-999,-999,-999,-999,-999,-999,-999,-999,-999,-999,-999,-999,-999,-999,-999,-999,-999,-999,-999,-999,-999,-999,-999,-999,-999,-999,-999,-999,-999,-999,-999,-999,-999,-999,-999,-999,-999,-999,-999,-999,-999,-999,-999,-999,-999,-999,-999,-999,-999,-999,-999,-999,-999,-999,-999,14,-999,-999,-999,-999,-999,25,-999,-999,44,-999,-999,-999,-999,-999,-999,-999,-999,-999,-999,-999,36,-999,-999,-999,-999,-999,-999,-999,-999,-999,-999,-999,-999,-999,-999,-999,48,-999,-999,-999,-999,-999,-999,-999,-999,-999,-999,25,-999,30,-999,-999,-999,-999,-999,-999,-999,-999,-999,-999,-999,-999,-999,-999,-999,-999,-999,33,-999,-999,-999,-999,-999,-999,-999,-999,-999,-999,-999,-999,-999,-999,-999,-999,-999,-999,-999,-999,-999,-999,-999,-999,-999,-999,-999,-999,-999,28,-999,-999,-999,-999,-999,-999,-999,-999,-999,-999,-999,-999,-999,-999,-999,36,32,-999,-999,-999,-999,-999,-999,-999,-999,-999,-999,-999,29,-999,-999,-999,-999,-999,-999,-999,42,-999,-999,-999,-999,-999,-999,-999,-999,41,-999,-999,-999,-999,-999,-999,-999,-999,-999,-999,-999,-999,-999,-999,-999,-999,-999,-999,-999,-999,-999,-999,-999,-999,-999,-999,-999,-999,-999,-999,-999,-999,-999,-999,-999,-999,-999,-999,-999,-999,-999,-999,-999,-999,-999,-999,-999,-999,-999,48,-999,-999,-999,-999,-999,-999,-999,-999,-999,-999,-999,26,-999,-999,-999,-999,32,-999,-999,-999,-999,-999,-999,-999,-999,-999,-999,-999,11,-999,-999,-999,-999,46,-999,-999,-999,-999,-999,-999,-999,-999,-999,-999,-999,-999,-999,-999,-999,-999,-999,-999,-999,-999,-999,-999,-999,-999,-999,-999,-999,-999,-999,-999,-999,-999,-999,-999,-999,-999,-999,-999,34,-999,-999,-999,-999,-999,-999,-999,-999,-999,-999,-999,-999,-999,-999,-999,-999,-999,-999,-999,-999,-999,-999,-999,-999,-999,-999,42,-999,-999,-999,-999,-999,-999,-999,-999,-999,-999,-999,-999,-999,-999,-999,-999,-999,-999,-999,-999,-999,-999,-999,-999,-999,-999,-999,-999,-999,-999,-999,-999,-999,-999,-999,-999,-999,-999,-999,-999,-999,-999,-999,-999,-999,-999,-999,-999,-999,-999,40,-999,-999,-999,-999,-999,-999,-999,-999,-999,-999,-999,-999,-999,-999,-999,-999,-999,-999,-999,-999,-999,-999,-999,-999,-999,-999,-999,-999,-999,-999,-999,-999,-999,-999,-999,-999,-999,-999,-999,35,-999,-999,-999,-999,-999,-999,-999,-999,-999,-999,-999,-999,-999,-999,-999,47,-999,-999,-999,-999,-999,-999,-999,-999,-999,-999,-999,-999,-999,-999,-999,-999,-999,-999,-999,-999,-999,-999,-999,-999,-999,-999,-999,-999,-999,-999,-999,-999,-999,-999,-999,-999,-999,-999,-999,-999,-999,-999,-999,-999,-999,-999,-999,-999,41,-999,-999,-999,-999,-999,-999,-999,-999,-999,-999,-999,-999,-999,-999,-999,-999,-999,-999,-999,-999,-999,-999,-999,-999,-999,-999,-999,-999,-999,-999,-999,-999,-999,-999,-999,-999,-999,-999,-999,-999,-999,-999,-999,-999,-999,-999,-999,-999,-999,-999,-999,-999,-999,-999,-999,-999,-999,-999,-999,-999,-999,-999,-999,-999,-999,-999,-999,-999,-999,-999,-999,-999,-999,-999,-999,-999,-999,-999,-999,-999,-999,-999,-999,-999,44,-999,-999,-999,-999,-999,-999,-999,-999,-999,-999,-999,-999,-999,-999,-999,-999,-999,-999,-999,-999,-999,-999,-999,-999,-999,-999,-999,-999,-999,-999,-999,-999,-999,-999,25,-999,-999,-999,-999,-999,-999,26,-999,-999,-999,-999,-999,-999,-999,-999,26,-999,-999,-999,-999,-999,-999,-999,-999,-999,-999,-999,-999,-999,-999,-999,-999,-999,-999,-999,-999,-999,-999,-999,-999,-999,-999,-999,-999,-999,-999,-999,-999,-999,-999,-999,-999,-999,-999,-999,41,-999,-999,-999,-999,-999,-999,-999,-999,41,30,-999,-999,-999,-999,-999,-999,-999,-999,29,-999,-999,35,-999,-999,-999,-999,-999,-999,-999,-999,21,-999,-999,-999,-999,-999,-999,-999,-999,-999,-999,-999,42,-999,-999,-999,-999,-999,-999,-999,-999,-999,-999,-999,-999,-999,-999,-999,-999,-999,-999,-999,-999,-999,-999,-999,-999,-999,-999,-999,-999,-999,-999,-999,36,-999,-999,-999,-999,-999,-999,-999,-999,-999,-999,-999,-999,-999,-999,-999,-999,-999,-999,-999,-999,-999,-999,-999,-999,-999,-999,-999,-999,-999,-999,-999,-999,-999,-999,-999,-999,-999,-999,-999,-999,-999,-999,-999,-999,-999,-999,-999,-999,44,-999,-999,-999,-999,-999,-999]
["Boulder Reservoir",31,-999,-999,-999,-999,-999,-999,-999,11,-999,-999,-999,-999,-999,-999,-999,-999,-999,-999,-999,-999,-999,-999,-999,-999,-999,-999,-999,39,30,-999,-999,-999,-999,-999,-999,-999,-999,-999,-999,-999,-999,-999,-999,21,-999,-999,45,-999,-999,-999,45,-999,-999,-999,-999,45,27,-999,-999,-999,-999,-999,-999,-999,42,-999,-999,-999,-999,-999,-999,26,-999,-999,-999,-999,-999,-999,-999,-999,-999,-999,-999,-999,-999,-999,-999,-999,-999,-999,-999,-999,-999,-999,-999,40,-999,-999,-999,-999,-999,-999,-999,-999,-999,-999,-999,43,-999,-999,-999,-999,-999,-999,-999,-999,-999,-999,-999,-999,-999,-999,-999,-999,-999,34,-999,-999,-999,-999,-999,21,-999,-999,-999,-999,-999,-999,-999,-999,-999,-999,-999,-999,-999,-999,-999,-999,-999,-999,-999,-999,-999,-999,-999,-999,-999,-999,-999,-999,-999,-999,-999,-999,-999,-999,-999,-999,-999,-999,-999,-999,-999,-999,27,-999,40,-999,-999,-999,-999,-999,-999,-999,-999,-999,-999,-999,-999,-999,-999,-999,31,45,35,-999,-999,-999,-999,-999,-999,35,-999,-999,-999,-999,-999,-999,12,-999,37,-999,46,-999,-999,-999,-999,32,-999,-999,-999,-999,-999,-999,-999,-999,-999,-999,-999,-999,-999,-999,-999,-999,-999,-999,38,-999,-999,-999,-999,-999,-999,-999,-999,-999,-999,-999,-999,-999,-999,-999,33,-999,-999,-999,-999,35,-999,-999,35,-999,-999,-999,-999,-999,-999,-999,-999,-999,-999,-999,-999,-999,-999,-999,-999,-999,-999,-999,-999,-999,-999,-999,29,36,-999,-999,-999,-999,-999,-999,-999,-999,-999,-999,-999,-999,-999,47,-999,-999,14,42,-999,-999,-999,-999,-999,7,29,-999,-999,-999,-999,-999,-999,39,-999,-999,-999,-999,-999,-999,14,-999,-999,-999,-999,-999,-999,-999,-999,-999,-999,24,-999,-999,-999,-999,-999,25,-999,-999,38,-999,-999,-999,-999,-999,-999,36,-999,-999,-999,-999,-999,-999,-999,-999,-999,-999,-999,-999,-999,-999,46,-999,-999,-999,-999,-999,-999,-999,-999,-999,-999,-999,-999,-999,-999,-999,-999,-999,27,-999,-999,29,30,-999,-999,-999,-999,-999,-999,-999,-999,-999,-999,-999,-999,-999,-999,-999,-999,-999,-999,-999,-999,-999,-999,-999,-999,-999,-999,-999,-999,-999,-999,-999,-999,-999,47,-999,41,-999,-999,-999,30,33,-999,-999,-999,-999,-999,-999,-999,-999,-999,-999,-999,-999,-999,-999,-999,-999,-999,-999,-999,-999,-999,-999,-999,-999,-999,-999,-999,-999,15,-999,-999,-999,-999,-999,-999,-999,40,-999,-999,-999,-999,-999,-999,-999,-999,-999,-999,-999,-999,-999,-999,-999,-999,-999,-999,-999,-999,-999,-999,-999,-999,-999,17,-999,45,-999,-999,-999,-999,39,-999,-999,-999,-999,-999,-999,-999,39,-999,-999,-999,-999,-999,-999,-999,-999,-999,21,40,-999,-999,-999,-999,42,-999,-999,-999,-999,39,-999,-999,34,-999,-999,-999,-999,-999,45,-999,-999,-999,-999,-999,-999,-999,-999,-999,-999,-999,-999,41,-999,7,-999,25,-999,-999,-999,-999,-999,-999,-999,-999,-999,-999,-999,-999,-999,-999,-999,-999,-999,-999,-999,-999,-999,-999,-999,-999,-999,-999,41,-999,48,32,-999,-999,-999,-999,-999,-999,31,38,-999,-999,-999,-999,-999,-999,-999,-999,-999,-999,42,-999,-999,-999,-999,-999,-999,-999,-999,-999,-999,-999,-999,-999,-999,-999,-999,-999,-999,34,-999,-999,-999,-999,-999,35,-999,38,-999,-999,-999,-999,-999,-999,-999,40,-999,-999,-999,-999,-999,-999,-999,-999,-999,-999,-999,40,-999,25,-999,-999,-999,-999,37,-999,-999,-999,-999,-999,-999,-999,-999,-999,-999,-999,-999,20,-999,-999,-999,-999,-999,-999,-999,-999,-999,20,-999,-999,41,-999,-999,-999,-999,-999,-999,-999,-999,-999,-999,-999,-999,-999,-999,-999,-999,-999,-999,-999,-999,-999,26,-999,-999,-999,-999,-999,-999,-999,-999,-999,-999,-999,-999,-999,-999,-999,-999,-999,-999,27,-999,31,-999,-999,-999,-999,-999,-999,-999,-999,-999,-999,-999,-999,-999,-999,-999,-999,42,-999,-999,-999,45,-999,-999,-999,-999,46,-999,-999,-999,-999,-999,-999,-999,-999,44,-999,-999,-999,-999,-999,30,-999,-999,-999,-999,-999,46,-999,-999,38,-999,44,-999,-999,-999,-999,-999,-999,-999,-999,37,-999,-999,-999,30,-999,-999,-999,48,-999,-999,-999,-999,-999,-999,-999,-999,-999,36,-999,-999,-999,-999,-999,-999,-999,33,-999,-999,26,-999,-999,-999,-999,-999,-999,-999,-999,-999,-999,-999,-999,-999,-999,-999,-999,-999,-999,-999,-999,-999,-999,48,13,-999,-999,-999,-999,-999,30,33,-999,-999,-999,-999,-999,-999,31,19,-999,-999,-999,32,-999,-999,-999,-999,-999,-999,-999,-999,24,-999,-999,-999,-999,-999,-999,-999,42,45,-999,-999,-999,-999,-999,-999,-999,-999,-999,-999,38,-999,42,-999,-999,-999,-999,-999,-999,-999,-999,32,-999,-999,-999,26,-999,-999,-999,-999,-999,-999,-999,-999,33,-999,15,-999,47,-999,-999,47,37,-999,-999,-999,-999,-999,-999,-999,-999,-999,-999,-999,-999,-999,-999,-999,-999,19,-999,-999,-999,-999,-999,-999,-999,-999,39,-999,-999,37,-999,-999,-999,-999,36,-999,-999,-999,-999,-999,-999,-999,-999,-999,-999,-999,21,-999,-999,-999,-999,-999,-999,-999,-999,-999,-999,-999,-999,-999,12,41,-999,-999,37,-999,-999,-999,-999,-999,-999,26,-999,-999,-999,48,-999,-999,-999]
["Run",0,1,2,3,4,5,6,7,8,9,10,11,12,13,14,15,16,17,18,19,20,21,22,23,24,25,26,27,28,29,30,31,32,33,34,35,36,37,38,39,40,41,42,43,44,45,46,47,48,49,50,51,52,53,54,55,56,57,58,59,60,61,62,63,64,65,66,67,68,69,70,71,72,73,74,75,76,77,78,79,80,81,82,83,84,85,86,87,88,89,90,91,92,93,94,95,96,97,98,99,100,101,102,103,104,105,106,107,108,109,110,111,112,113,114,115,116,117,118,119,120,121,122,123,124,125,126,127,128,129,130,131,132,133,134,135,136,137,138,139,140,141,142,143,144,145,146,147,148,149,150,151,152,153,154,155,156,157,158,159,160,161,162,163,164,165,166,167,168,169,170,171,172,173,174,175,176,177,178,179,180,181,182,183,184,185,186,187,188,189,190,191,192,193,194,195,196,197,198,199,200,201,202,203,204,205,206,207,208,209,210,211,212,213,214,215,216,217,218,219,220,221,222,223,224,225,226,227,228,229,230,231,232,233,234,235,236,237,238,239,240,241,242,243,244,245,246,247,248,249,250,251,252,253,254,255,256,257,258,259,260,261,262,263,264,265,266,267,268,269,270,271,272,273,274,275,276,277,278,279,280,281,282,283,284,285,286,287,288,289,290,291,292,293,294,295,296,297,298,299,300,301,302,303,304,305,306,307,308,309,310,311,312,313,314,315,316,317,318,319,320,321,322,323,324,325,326,327,328,329,330,331,332,333,334,335,336,337,338,339,340,341,342,343,344,345,346,347,348,349,350,351,352,353,354,355,356,357,358,359,360,361,362,363,364,365,366,367,368,369,370,371,372,373,374,375,376,377,378,379,380,381,382,383,384,385,386,387,388,389,390,391,392,393,394,395,396,397,398,399,400,401,402,403,404,405,406,407,408,409,410,411,412,413,414,415,416,417,418,419,420,421,422,423,424,425,426,427,428,429,430,431,432,433,434,435,436,437,438,439,440,441,442,443,444,445,446,447,448,449,450,451,452,453,454,455,456,457,458,459,460,461,462,463,464,465,466,467,468,469,470,471,472,473,474,475,476,477,478,479,480,481,482,483,484,485,486,487,488,489,490,491,492,493,494,495,496,497,498,499,500,501,502,503,504,505,506,507,508,509,510,511,512,513,514,515,516,517,518,519,520,521,522,523,524,525,526,527,528,529,530,531,532,533,534,535,536,537,538,539,540,541,542,543,544,545,546,547,548,549,550,551,552,553,554,555,556,557,558,559,560,561,562,563,564,565,566,567,568,569,570,571,572,573,574,575,576,577,578,579,580,581,582,583,584,585,586,587,588,589,590,591,592,593,594,595,596,597,598,599,600,601,602,603,604,605,606,607,608,609,610,611,612,613,614,615,616,617,618,619,620,621,622,623,624,625,626,627,628,629,630,631,632,633,634,635,636,637,638,639,640,641,642,643,644,645,646,647,648,649,650,651,652,653,654,655,656,657,658,659,660,661,662,663,664,665,666,667,668,669,670,671,672,673,674,675,676,677,678,679,680,681,682,683,684,685,686,687,688,689,690,691,692,693,694,695,696,697,698,699,700,701,702,703,704,705,706,707,708,709,710,711,712,713,714,715,716,717,718,719,720,721,722,723,724,725,726,727,728,729,730,731,732,733,734,735,736,737,738,739,740,741,742,743,744,745,746,747,748,749,750,751,752,753,754,755,756,757,758,759,760,761,762,763,764,765,766,767,768,769,770,771,772,773,774,775,776,777,778,779,780,781,782,783,784,785,786,787,788,789,790,791,792,793,794,795,796,797,798,799,800,801,802,803,804,805,806,807,808,809,810,811,812,813,814,815,816,817,818,819,820,821,822,823,824,825,826,827,828,829,830,831,832,833,834,835,836,837,838,839,840,841,842,843,844,845,846,847,848,849,850,851,852,853,854,855,856,857,858,859,860,861,862,863,864,865,866,867,868,869,870,871,872,873,874,875,876,877,878,879,880,881,882,883,884,885,886,887,888,889,890,891,892,893,894,895,896,897,898,899,900,901,902,903,904,905,906,907,908,909,910,911,912,913,914,915,916,917,918,919,920,921,922,923,924,925,926,927,928,929,930,931,932,933,934,935,936,937,938,939,940,941,942,943,944,945,946,947,948,949,950,951,952,953,954,955,956,957,958,959,960,961,962,963,964,965,966,967,968,969,970,971,972,973,974,975,976,977,978,979,980,981,982,983,984,985,986,987,988,989,990,991,992,993,994,995,996,997,998,999]
["Windy Gap Reservoir",{"$f":"IF(output_estab_0<>-999,output_estab_0,\"\")","v":""},null,{"$f":"IF(D99<>-999,D99,\"\")","v":""},"","","","","","","","","","","","","","","","","","","","","","","","","","","","","","","","","","","","","","","","","","","","","","","","","","","","","","","","","","","","","","","",{"$f":"IF(BP99<>-999,BP99,\"\")","v":""},"","","","","","","","","","","","","","","","","","","","","","","","","","","","","","","","","","","","","","","","","","","","","","","","","","","","","","","","","","","","","","","",{"$f":"IF(EB99<>-999,EB99,\"\")","v":""},"","","","","","","","","","","","","","","","","","","","","","","","","","","","","","","",{"$f":"IF(FH99<>-999,FH99,\"\")","v":""},"","","","","","","","","","","","","","","","","","","","","","","","","","","","","","","",{"$f":"IF(GN99<>-999,GN99,\"\")","v":""},"","","","","","","","","","","","","","","","","","","","","","","","","","","","","","","","","","","","","","","","","","","","","","","","","","","","","","","","","","","","","","","",{"$f":"IF(IZ99<>-999,IZ99,\"\")","v":""},"","","","","","","","","","","","","","","","","","","","","","","","","","","","","","","",{"$f":"IF(KF99<>-999,KF99,\"\")","v":""},"","","","","","","","","","","","","","","","","","","","","","","","","","","","","","","",{"$f":"IF(LL99<>-999,LL99,\"\")","v":""},"","","","","","","","","","","","","","","","","","","","","","","","","","","","","","","","","","","","","","","","","","","","","","","","","","","","","","","","","","","","","","","",{"$f":"IF(NX99<>-999,NX99,\"\")","v":""},"","","","","","","","","","","","","","","","","","","","","","","","","","","","","","","",{"$f":"IF(PD99<>-999,PD99,\"\")","v":""},"","","","","","","","","","","","","","","","","","","","","","","","","","","","","","","",{"$f":"IF(QJ99<>-999,QJ99,\"\")","v":""},"","","","","","","","","","","","","","","","","","","","","","","","","","","","","","","","","","","","","","","","","","","","","","","","","","","","","","","","","","","","","","","",{"$f":"IF(SV99<>-999,SV99,\"\")","v":""},"","","","","","","","","","","","","","","","","","","","","","","","","","","","","","","",{"$f":"IF(UB99<>-999,UB99,\"\")","v":""},"","","","","","","","","","","","","","","","","","","","","","","","","","","","","","","",{"$f":"IF(VH99<>-999,VH99,\"\")","v":""},"","","","","","","","","","","","","","","","","","","","","","","","","","","","","","","","","","","","","","","","","","","","","","","","","","","","","","","","","","","","","","","",{"$f":"IF(XT99<>-999,XT99,\"\")","v":""},"","","","","","","","","","","","","","","","","","","","","","","","","","","","","","","",{"$f":"IF(YZ99<>-999,YZ99,\"\")","v":""},"","","","","","","","","","","","","","","","","","","","","","","","","","","","","","","",{"$f":"IF(AAF99<>-999,AAF99,\"\")","v":""},"","","","","","","","","","","","","","","","","","","","","","","","","","","","","","","","","","","","","","","","","","","","","","","","","","","","","","","","","","","","","","","",{"$f":"IF(ACR99<>-999,ACR99,\"\")","v":""},"","","","","","","","","","","","","","","","","","","","","","","","","","","","","","","",{"$f":"IF(ADX99<>-999,ADX99,\"\")","v":""},"","","","","","","","","","","","","","","","","","","","","","","","","","","","","","","",{"$f":"IF(AFD99<>-999,AFD99,\"\")","v":""},"","","","","","","","","","","","","","","","","","","","","","","","","","","","","","","","","","","","","","","","","","","","","","","","","","","","","","","","","","","","","","","",{"$f":"IF(AHP99<>-999,AHP99,\"\")","v":""},"","","","","","","","","","","","","","","","","","","","","","","","","","","","","","","",{"$f":"IF(AIV99<>-999,AIV99,\"\")","v":""},"","","","","","","","","","","","","","","","","","","","","","","","","","","","","","","",{"$f":"IF(AKB99<>-999,AKB99,\"\")","v":""},"","","","","","","","","","","","","","","","","","","","","","","","","","","","","","","",{"$f":"IF(ALH99<>-999,ALH99,\"\")","v":""},"","","","",""]
["Willow Creek Reservoir",{"$f":"IF(B100<>-999,B100,\"\")","v":""},"","","","","","","","","","","","","","","","","","","","","","","","","","","","","","","","","","","","","","","","","","","","","","","","","","","","","","","","","","","","","","","","","","","","","","","","","","","","","","","","","","","","","","","","","","","","","","","","","","","","","","","","","","","","","","","","","","","","","","","","","","","","","","","","","",{"$f":"IF(EB100<>-999,EB100,\"\")","v":""},"","","","","","","","","","","","","","","","","","","","","","","","","","","","","","","",{"$f":"IF(FH100<>-999,FH100,\"\")","v":""},"","","","","","","","","","","","","","","","","","","","","","","","","","","","","","","","","","","","","","","","","","","","","","","","","","","","","","","","","","","","","","","","","","","","","","","","","","","","","","","","","","","","","","","","","","","","","","","",{"$f":"IF(IZ100<>-999,IZ100,\"\")","v":""},"","","","","","","","","","","","","","","","","","","","","","","","","","","","","","","",{"$f":"IF(KF100<>-999,KF100,\"\")","v":""},"","","","","","","","","","","","","","","","","","","","","","","","","","","","","","","","","","","","","","","","","","","","","","","","","","","","","","","","","","","","","","","","","","","","","","","","","","","","","","","","","","","","","","","","","","","","","","","",{"$f":"IF(NX100<>-999,NX100,\"\")","v":""},"","","","","","","","","","","","","","","","","","","","","","","","","","","","","","","",{"$f":"IF(PD100<>-999,PD100,\"\")","v":""},"","","","","","","","","","","","","","","","","","","","","","","","","","","","","","","","","","","","","","","","","","","","","","","","","","","","","","","","","","","","","","","","","","","","","","","","","","","","","","","","","","","","","","","","","","","","","","","",{"$f":"IF(SV100<>-999,SV100,\"\")","v":""},"","","","","","","","","","","","","","","","","","","","","","","","","","","","","","","",{"$f":"IF(UB100<>-999,UB100,\"\")","v":""},"","","","","","","","","","","","","","","","","","","","","","","","","","","","","","","","","","","","","","","","","","","","","","","","","","","","","","","","","","","","","","","","","","","","","","","","","","","","","","","","","","","","","","","","","","","","","","","",{"$f":"IF(XT100<>-999,XT100,\"\")","v":""},"","","","","","","","","","","","","","","","","","","","","","","","","","","","","","","",{"$f":"IF(YZ100<>-999,YZ100,\"\")","v":""},"","","","","","","","","","","","","","","","","","","","","","","","","","","","","","","","","","","","","","","","","","","","","","","","","","","","","","","","","","","","","","","","","","","","","","","","","","","","","","","","","","","","","","","","","","","","","","","",{"$f":"IF(ACR100<>-999,ACR100,\"\")","v":""},"","","","","","","","","","","","","","","","","","","","","","","","","","","","","","","",{"$f":"IF(ADX100<>-999,ADX100,\"\")","v":""},"","","","","","","","","","","","","","","","","","","","","","","","","","","","","","","","","","","","","","","","","","","","","","","","","","","","","","","","","","","","","","","","","","","","","","","","","","","","","","","","","","","","","","","","","","","","","","","",{"$f":"IF(AHP100<>-999,AHP100,\"\")","v":""},"","","","","","","","","","","","","","","","","","","","","","","","","","","","","","","",{"$f":"IF(AIV100<>-999,AIV100,\"\")","v":""},"","","","","","","","","","","","","","","","","","","","","","","","","","","","","","","",{"$f":"IF(AKB100<>-999,AKB100,\"\")","v":""},"","","","","","","","","","","","","","","","","","","","","","","","","","","","","","","",{"$f":"IF(ALH100<>-999,ALH100,\"\")","v":""},"","","","",""]
["Lake Granby",{"$f":"IF(B101<>-999,B101,\"\")","v":""},"","","","","","","","","","","","","","","","",{"$f":"IF(S101<>-999,S101,\"\")","v":""},"","","","","","","","","",35,"","",30,"","","","","","","","","","","","","","","","","","",{"$f":"IF(AY101<>-999,AY101,\"\")","v":""},46,"","","","","","","","","","","","","","","","","","","","","","","","","","","",46,"","","","","","","","","","","","","","","","","","","","","","","","","","","","","","","","","","","","","","",35,41,45,"","","","","","","","","","",{"$f":"IF(EB101<>-999,EB101,\"\")","v":""},"","",45,"","","","",28,"","","","","","","","","","","","","","","","","","","","","",39,"",{"$f":"IF(FH101<>-999,FH101,\"\")","v":""},"","","","","","","","",34,"","","","","","","","",47,"","",39,"","","","","","","","","","","","","","","","","","","","","","","","","","","","","","","","","","","",40,"","",47,"","","","","","","","","","","","","","","","",31,"","","","",43,"","","","","","","","","","","","","",{"$f":"IF(IZ101<>-999,IZ101,\"\")","v":""},"","","","","","","","","","","","","","","","","","","","","",20,"","","",45,"","","","","",{"$f":"IF(KF101<>-999,KF101,\"\")","v":""},"","","","","","",28,"","","","","","","","","","","","","","","","","","","","","","","","","","","","","","","","","","","","","","","","","","","","","","","","","","","","","","","","","","","","","","","","","","","","","","","","","","","","","","","","","","","","","",36,"","",{"$f":"IF(NX101<>-999,NX101,\"\")","v":""},"","","",45,"","","","","","","","","","","","","","","","","","","","","","","","","","","",{"$f":"IF(PD101<>-999,PD101,\"\")","v":""},"","","","","","","","","","","","","","","","","","","","","","","","","","","","","","","","","","","","","","","","","","","","","","","","","","","","","","","","","","","","","","","","","","","","","","","","","","","","","","","","","","","","","","",38,"","","","","","","","",{"$f":"IF(SV101<>-999,SV101,\"\")","v":""},"","","","","","","","","","","",17,"","","","","","","","","","","","","","",31,"","","","",{"$f":"IF(UB101<>-999,UB101,\"\")","v":""},"","","",15,"","","","","","","","","","","","","","","","","","","","","","","","","","","","","","","","","","","","","","","","","","","","","","","","",43,"","","","","","","","","",39,"","","","","",19,"","","","","","","","","","","","","","","","","","","",48,"","","","","","",{"$f":"IF(XT101<>-999,XT101,\"\")","v":""},"","","","","","","","","","","","","","","","","","","","","","","","","","","","","","","",{"$f":"IF(YZ101<>-999,YZ101,\"\")","v":""},"","","","","","","","","","","","","","","",32,"","","","","","","","",45,"","","","","","","","","","","","","","","","","","","","","","","","","","","","","","","","","","","","","",30,"","","","","","","","","","","","","","","","","","","","","","","","","","","",23,"","","","",{"$f":"IF(ACR101<>-999,ACR101,\"\")","v":""},"","","",42,"","","","","","","","","","","","","","","","","",18,46,"","",15,"","","","","",{"$f":"IF(ADX101<>-999,ADX101,\"\")","v":""},"","","","","","","","","","","","","","","",33,"","","","","","","","","","",48,"","","","","","","","","","","","","","","","","","","","","","","","","","","","","","","","","","","","","","","","","","","","","","","","","","","",34,"","","","","","","","","","","","","","","","",{"$f":"IF(AHP101<>-999,AHP101,\"\")","v":""},"","","","","","","","","","","","",25,"","","","","","","","","","","","","","","","","","",{"$f":"IF(AIV101<>-999,AIV101,\"\")","v":""},"","","","","","","","","","","","","","","","","","","","","","","","","",30,"","","","","",{"$f":"IF(AKB101<>-999,AKB101,\"\")","v":""},"","","","","","","","","","","","","","","","","","","","","","","","","","","","","","","",{"$f":"IF(ALH101<>-999,ALH101,\"\")","v":""},"","","","",""]
["Shadow Mountain Reservoir",{"$f":"IF(B102<>-999,B102,\"\")","v":""},"","","","","","","","","","","","","","","","",{"$f":"IF(S102<>-999,S102,\"\")","v":""},"","","","","","","","","","","","","","","","","","","","","","","","","","","","","",48,"",{"$f":"IF(AY102<>-999,AY102,\"\")","v":""},"","","","","","","","","","","","","","","","","","",34,"","","","","","","","","","","","","","","","","","","","","","","","","","","","","","","","","","","","","","","","","","","","","","","","","","","","","","","","","","","","",{"$f":"IF(EA102<>-999,EA102,\"\")","v":""},{"$f":"IF(EB102<>-999,EB102,\"\")","v":""},"","","","","","","","","","","","","","","","","","","","","","","","",38,"","","","","","",{"$f":"IF(FH102<>-999,FH102,\"\")","v":""},"","","","","","","","","","","","","","","","","","","","","","","","","","","","","","","","","","","","","","","","","","","","","","","","","","","","","","","","","","","","","","","","","",42,"","",45,"","","","","","","","","","","","","","","","","","","","","","","","","",{"$f":"IF(IY102<>-999,IY102,\"\")","v":""},{"$f":"IF(IZ102<>-999,IZ102,\"\")","v":""},"","","","","","","","","","","","","","","","","","","","","","","","","","","","","","","",{"$f":"IF(KF102<>-999,KF102,\"\")","v":""},"","","","","","",42,"","","","","","","","","","","","","","","","","","","","","","","","","","","","","","","","","","","","","","","","","","","","","","","","","","","","","","","","","","","","","","","","","","","","","","","","","","","","","","","","","","","","","","","",{"$f":"IF(NW102<>-999,NW102,\"\")","v":""},{"$f":"IF(NX102<>-999,NX102,\"\")","v":""},"","","","","","","","","","","","","","","","","","","","","","","","","","","","","","","",{"$f":"IF(PD102<>-999,PD102,\"\")","v":""},"","","","","","","","","","","","","","","","","","","","","","","","","","","","","","",33,"","",24,"","","","","","","","","","","","","","","","","","","","","","","","","","","","","","","","","","","","","","","","","","","","","","","","","","","","","","","","","","","","",{"$f":"IF(SU102<>-999,SU102,\"\")","v":""},{"$f":"IF(SV102<>-999,SV102,\"\")","v":""},"","","","","","","","","","","","","","","","","","","","","","","","","","","","","","","",{"$f":"IF(UB102<>-999,UB102,\"\")","v":""},"","","",35,"","","","","","","","","","","","","","","","","","","",30,"","","","","","","",41,"","","","","","","","","","","","","","","","","","","","","","","","","","","",37,"","","","","","","","","","","","","","","","","","","","","","","","","","","","",20,"","","","","",{"$f":"IF(XS102<>-999,XS102,\"\")","v":""},{"$f":"IF(XT102<>-999,XT102,\"\")","v":""},"","","","","","","","","","","","","","","","","","","","","","","","","","","","","","","",{"$f":"IF(YZ102<>-999,YZ102,\"\")","v":35},"","","","","","","","","","","","","","","","","","","","","","","","","","","","","",37,"","","","","","","","","","","","",48,"","","","","","","","","","","","","","","","","","","",39,"","","","","","","","","","","","","","","","","","","","","","","","","","",26,"","","","",{"$f":"IF(ACQ102<>-999,ACQ102,\"\")","v":""},{"$f":"IF(ACR102<>-999,ACR102,\"\")","v":""},"","","","","","","","","","","","","","","","",28,"","","","",39,"","","","","","","","","",{"$f":"IF(ADX102<>-999,ADX102,\"\")","v":""},"","","","","","","","","","","","","","","","","","","","","","","",46,"","","","","","","","","","","","","","","","","","","","","","","","","","","","","","","","","","","","","","","","","","","","","","","","","","","","","","","","","",39,"","","","","","","","","","","","",{"$f":"IF(AHO102<>-999,AHO102,\"\")","v":""},{"$f":"IF(AHP102<>-999,AHP102,\"\")","v":""},"","","","","","","","","","","","","","","","","",41,"","","","","","",47,"","","","","","",{"$f":"IF(AIV102<>-999,AIV102,\"\")","v":""},"","","","","","","","","","","","","","","","","","","","","","","","","","","","","","","",{"$f":"IF(AKB102<>-999,AKB102,\"\")","v":""},"","","","","","","","","","","","","","","","","",40,"","","","","","","","","","","","","",{"$f":"IF(ALH102<>-999,ALH102,\"\")","v":""},"","","","",""]
["Grand Lake",{"$f":"IF(B103<>-999,B103,\"\")","v":""},"","","","","","","","","","","","","","","","",{"$f":"IF(S103<>-999,S103,\"\")","v":""},"","","","","","","","","","","","","","","","","","","","","","","","","","","","","","","",{"$f":"IF(AY103<>-999,AY103,\"\")","v":""},"","","","","",23,"","","","","","","","","","",{"$f":"IF(BP103<>-999,BP103,\"\")","v":""},"","","","","","","","","","","","","","","","","","","","","","","","","","","","","","","",{"$f":"IF(CV103<>-999,CV103,\"\")","v":""},"","","","","","","","","","","","","","","","","","","","","","","","",36,"","","","","",{"$f":"IF(EA103<>-999,EA103,\"\")","v":""},{"$f":"IF(EB103<>-999,EB103,\"\")","v":""},"","","","","","","","","","","","","","","","","","","","","","","","","","","","","","","",{"$f":"IF(FH103<>-999,FH103,\"\")","v":""},"","","","",26,"","","","","","","","","","","","","","","","","","","","","","","","","","",{"$f":"IF(GN103<>-999,GN103,\"\")","v":""},"","","","","","","","","","","","","","","","","","","","","","","","","","","","","","","",{"$f":"IF(HT103<>-999,HT103,\"\")","v":""},"","","","","","","","","","","","","","","","","","","","","","","","","","","","","","",{"$f":"IF(IY103<>-999,IY103,\"\")","v":""},{"$f":"IF(IZ103<>-999,IZ103,\"\")","v":""},"","","","","","","","","","","","","","","","","","","","","","","","","","","","","","","",{"$f":"IF(KF103<>-999,KF103,\"\")","v":""},"","","","","","","","","","","","","","","","","","","","","","","","","","","","","","","",{"$f":"IF(LL103<>-999,LL103,\"\")","v":""},"","","","","","","","","","","","","","","","","","","","","","","","","","","","","","","",{"$f":"IF(MR103<>-999,MR103,\"\")","v":""},"","","","","","","","","","","","","","","","","","","","","","","","","","","","","","",{"$f":"IF(NW103<>-999,NW103,\"\")","v":""},{"$f":"IF(NX103<>-999,NX103,\"\")","v":""},"","","","","","","","","","","","","","","","","","","","","","","","","","","","","","","",{"$f":"IF(PD103<>-999,PD103,\"\")","v":""},"","","","","","","","","","","","","","","","","","","","","","","","","","","","","","","",{"$f":"IF(QJ103<>-999,QJ103,\"\")","v":""},"","","","","","","","","","","","","","","","","","","","","","","","","","","","","","","",{"$f":"IF(RP103<>-999,RP103,\"\")","v":""},"","","","","","","","","","","","","","","","","","","","","","","","","","","","","","",{"$f":"IF(SU103<>-999,SU103,\"\")","v":""},{"$f":"IF(SV103<>-999,SV103,\"\")","v":""},"","","","","","","","","","","",30,"","","","","","","","","","","","","","","","","","","",{"$f":"IF(UB103<>-999,UB103,\"\")","v":""},"","","","","","","","","","","","","","","","","","","","","","","","","","","","","","","",{"$f":"IF(VH103<>-999,VH103,\"\")","v":""},"","","","","","","","","","","","","","","","","","","","","","","","","","","",46,"","","",{"$f":"IF(WN103<>-999,WN103,\"\")","v":""},"","","","","","","","","","","","","","","","","","","","","","","","","","","","","","",{"$f":"IF(XS103<>-999,XS103,\"\")","v":""},{"$f":"IF(XT103<>-999,XT103,\"\")","v":""},"","","","","","","","","","","","","","","","","","","","","","","","","","","","","","","",{"$f":"IF(YZ103<>-999,YZ103,\"\")","v":""},"","","","","","","","","","","","","","","","","","","","","","","","","","","","","","","",{"$f":"IF(AAF103<>-999,AAF103,\"\")","v":""},"","","","","","","","","","","","","","","","","","","","","","","","","","","","","","","",{"$f":"IF(ABL103<>-999,ABL103,\"\")","v":""},"","","","","","","","","","","","","","","","","","","","","","","","","",34,"","","","",{"$f":"IF(ACQ103<>-999,ACQ103,\"\")","v":""},{"$f":"IF(ACR103<>-999,ACR103,\"\")","v":""},"","","","","","","","","","","","","","","","",41,"","","","","","","","","","","","","","",{"$f":"IF(ADX103<>-999,ADX103,\"\")","v":""},"","","","","","","","","","","","","","","","","","","","","","","","","","","","","","","",{"$f":"IF(AFD103<>-999,AFD103,\"\")","v":""},"","","","","","","","","","","","","","","","","","","","","","","","","","","","","","","",{"$f":"IF(AGJ103<>-999,AGJ103,\"\")","v":""},"","","","","","","","","","","","","","","","",43,"","","","","","","","","","","","","",{"$f":"IF(AHO103<>-999,AHO103,\"\")","v":""},{"$f":"IF(AHP103<>-999,AHP103,\"\")","v":""},"","","","","","","","","","","","","","","","","","","","","","","","","","","","","","","",{"$f":"IF(AIV103<>-999,AIV103,\"\")","v":""},"","","","","","","","","","","","","","","","","","","","","","","","","","","","",47,"","",{"$f":"IF(AKB103<>-999,AKB103,\"\")","v":""},"","","","","","","","","","","","","","","","","","","","","","","","","","","","","","","",{"$f":"IF(ALH103<>-999,ALH103,\"\")","v":""},"","","","",""]
["East Portal Reservoir",{"$f":"IF(B104<>-999,B104,\"\")","v":""},"","","","","","","","","","","","","","","","",{"$f":"IF(S104<>-999,S104,\"\")","v":""},"","","","","","","","","","","","","","","","","","","","","","","","","","","","","","","",{"$f":"IF(AY104<>-999,AY104,\"\")","v":""},"","","","","","","","","","","","","","","","",{"$f":"IF(BP104<>-999,BP104,\"\")","v":""},"","","","","","","","","","","","","","","","","","","","","","","","","","","","","","","",{"$f":"IF(CV104<>-999,CV104,\"\")","v":""},"","","","","","","","","","","","","","","","","","","","","","","","","","","","","","",{"$f":"IF(EA104<>-999,EA104,\"\")","v":""},{"$f":"IF(EB104<>-999,EB104,\"\")","v":""},"","","","","","","","","","","","","","","","","","","","","","","","","","","","","","","",{"$f":"IF(FH104<>-999,FH104,\"\")","v":""},"","","","","","","","","","","","","","","","","","","","","","","","","","","","","","","",{"$f":"IF(GN104<>-999,GN104,\"\")","v":""},"","","","","","","","","","","","","","","","","","","","","","","","","","","","","","","",{"$f":"IF(HT104<>-999,HT104,\"\")","v":""},"","","","","","","","","","","","","","","","","","","","","","","","","","","","","","",{"$f":"IF(IY104<>-999,IY104,\"\")","v":""},{"$f":"IF(IZ104<>-999,IZ104,\"\")","v":""},"","","","","","","","","","","","","","","","","","","","","","","","","","","","","","","",{"$f":"IF(KF104<>-999,KF104,\"\")","v":""},"","","","","","","","","","","","","","","","","","","","","","","","","","","","","","","",{"$f":"IF(LL104<>-999,LL104,\"\")","v":""},"","","","","","","","","","","","","","","","","","","","","","","","","","","","","","","",{"$f":"IF(MR104<>-999,MR104,\"\")","v":""},"","","","","","","","","","","","","","","","","","","","","","","","","","","","","","",{"$f":"IF(NW104<>-999,NW104,\"\")","v":""},{"$f":"IF(NX104<>-999,NX104,\"\")","v":""},"","","","","","","","","","","","","","","","","","","","","","","","","","","","","","","",{"$f":"IF(PD104<>-999,PD104,\"\")","v":""},"","","","","","","","","","","","","","","","","","","","","","","","","","","","","","","",{"$f":"IF(QJ104<>-999,QJ104,\"\")","v":""},"","","","","","","","","","","","","","","","","","","","","","","","","","","","","","","",{"$f":"IF(RP104<>-999,RP104,\"\")","v":""},"","","","","","","","","","","","","","","","","","","","","","","","","","","","","","",{"$f":"IF(SU104<>-999,SU104,\"\")","v":""},{"$f":"IF(SV104<>-999,SV104,\"\")","v":""},"","","","","","","","","","","","","","","","","","","","","","","","","","","","","","","",{"$f":"IF(UB104<>-999,UB104,\"\")","v":""},"","","","","","","","","","","","","","","","","","","","","","","","","","","","","","","",{"$f":"IF(VH104<>-999,VH104,\"\")","v":""},"","","","","","","","","","","","","","","","","","","","","","","","","","","","","","","",{"$f":"IF(WN104<>-999,WN104,\"\")","v":""},"","","","","","","","","","","","","","","","","","","","","","","","","","","","","","",{"$f":"IF(XS104<>-999,XS104,\"\")","v":""},{"$f":"IF(XT104<>-999,XT104,\"\")","v":""},"","","","","","","","","","","","","","","","","","","","","","","","","","","","","","","",{"$f":"IF(YZ104<>-999,YZ104,\"\")","v":""},"","","","","","","","","","","","","","","","","","","","","","","","","","","","","","","",{"$f":"IF(AAF104<>-999,AAF104,\"\")","v":""},"","","","","","","","","","","","","","","","","","","","","","","","","","","","","","","",{"$f":"IF(ABL104<>-999,ABL104,\"\")","v":""},"","","","","","","","","","","","","","","","","","","","","","","","","","","","","","",{"$f":"IF(ACQ104<>-999,ACQ104,\"\")","v":""},{"$f":"IF(ACR104<>-999,ACR104,\"\")","v":""},"","","","","","","","","","","","","","","","","","","","","","","","","","","","","","","",{"$f":"IF(ADX104<>-999,ADX104,\"\")","v":""},"","","","","","","","","","","","","","","","","","","","","","","","","","","","","","","",{"$f":"IF(AFD104<>-999,AFD104,\"\")","v":""},"","","","","","","","","","","","","","","","","","","","","","","","","","","","","","","",{"$f":"IF(AGJ104<>-999,AGJ104,\"\")","v":""},"","","","","","","","","","","","","","","","","","","","","","","","","","","","","","",{"$f":"IF(AHO104<>-999,AHO104,\"\")","v":""},{"$f":"IF(AHP104<>-999,AHP104,\"\")","v":""},"","","","","","","","","","","","","","","","","","","","","","","","","","","","","","","",{"$f":"IF(AIV104<>-999,AIV104,\"\")","v":""},"","","","","","","","","","","","","","","","","","","","","","","","","","","","","","","",{"$f":"IF(AKB104<>-999,AKB104,\"\")","v":""},"","","","","","","","","","","","","","","","","","","","","","","","","","","","","","","",{"$f":"IF(ALH104<>-999,ALH104,\"\")","v":""},"","","","",""]
["Mary's Lake",{"$f":"IF(B105<>-999,B105,\"\")","v":""},{"$f":"IF(C105<>-999,C105,\"\")","v":""},{"$f":"IF(D105<>-999,D105,\"\")","v":""},"","","","","","","","","","","","","","","","","","","","","","","","","","","","","","","","","","","","","","","","","","","","","","","","","","","","","","","","","","","","","","",{"$f":"IF(BO105<>-999,BO105,\"\")","v":""},"","","","","","","","","","","","","","","","","","","","","","","","","","","","","","","","","","","","","","","","","","","","","","","","","","","","","","","","","","","","","","","",{"$f":"IF(EA105<>-999,EA105,\"\")","v":""},{"$f":"IF(EB105<>-999,EB105,\"\")","v":""},"","","","","","","","","","","","","","","","","","","","","","","","","","","","","","","","","","","","","","","","","","","","","","","","","","","","","","","","","","","","","","",{"$f":"IF(GM105<>-999,GM105,\"\")","v":""},{"$f":"IF(GN105<>-999,GN105,\"\")","v":""},"","","","","","","","","","","","","","","","","","","","","","","","","","","","","","","","","","","","","","","","","","","","","","","","","","","","","","","","","","","","","","","",{"$f":"IF(IZ105<>-999,IZ105,\"\")","v":""},"","","","","","","","","","","","","","","","","","","","","","","","","","","","","","","","","","","","","","","","","","","","","","","","","","","","","","","","","","","","","","",{"$f":"IF(LK105<>-999,LK105,\"\")","v":""},{"$f":"IF(LL105<>-999,LL105,\"\")","v":""},"","","","","","","","","","","","","","","","","","","","","","","","","","","","","","","","","","","","","","","","","","","","","","","","","","","","","","","","","","","","","","","",{"$f":"IF(NX105<>-999,NX105,\"\")","v":""},"","","","","","","","","","","","","","","","","","","","","","","","","","","","","","","","","","","","","","","","","","","","","","","","","","","","","","","","","","","","","","",{"$f":"IF(QI105<>-999,QI105,\"\")","v":""},{"$f":"IF(QJ105<>-999,QJ105,\"\")","v":""},"","","","","","","","","","","","","","","","","","","","","","","","","","","","","","","","","","","","","","","","","","","","","","","","","","","","","","","","","","","","","","","",{"$f":"IF(SV105<>-999,SV105,\"\")","v":""},"","","","","","","","","","","","","","","","","","","","","","","","","","","","","","","","","","","","","","","","","","","","","","","","","","","","","","","","","","","","","","",{"$f":"IF(VG105<>-999,VG105,\"\")","v":""},{"$f":"IF(VH105<>-999,VH105,\"\")","v":""},"","","","","","","","","","","","","","","","","","","","","","","","","","","","","","","","","","","","","","","","","","","","","","","","","","","","","","","","","","","","","","","",{"$f":"IF(XT105<>-999,XT105,\"\")","v":""},"","","","","","","","","","","","","","","","","","","","","","","","","","","","","","","","","","","","","","","","","","","","","","","","","","","","","","","","","","","","","","",{"$f":"IF(AAE105<>-999,AAE105,\"\")","v":""},{"$f":"IF(AAF105<>-999,AAF105,\"\")","v":""},"","","","","","","","","","","","","","","","","","","","","","","","","","","","","","","","","","","","","","","","","","","","","","","","","","","","","","","","","","","","","","","",{"$f":"IF(ACR105<>-999,ACR105,\"\")","v":""},"","","","","","","","","","","","","","","","","","","","","","","","","","","","","","","","","","","","","","","","","","","","","","","","","","","","","","","","","","","","","","",{"$f":"IF(AFC105<>-999,AFC105,\"\")","v":""},{"$f":"IF(AFD105<>-999,AFD105,\"\")","v":""},"","","","","","","","","","","","","","","","","","","","","","","","","","","","","","","","","","","","","","","","","","","","","","","","","","","","","","","","","","","","","","","",{"$f":"IF(AHP105<>-999,AHP105,\"\")","v":""},"","","","","","","","","","","","","","","","","","","","","","","","","","","","","","","","","","","","","","","","","","","","","","","","","","","","","","","","","","","","","","",{"$f":"IF(AKA105<>-999,AKA105,\"\")","v":""},{"$f":"IF(AKB105<>-999,AKB105,\"\")","v":""},"","","","","","","","","","","","","","","","","","","","","","","","","","","","","","","","","","","","",""]
["Lake Estes","","",{"$f":"IF(D106<>-999,D106,\"\")","v":""},"","","","","","","","","","","","","","","","","","","","","","","","","","","","","","","","","","","","","","","","","","","","","","","","","","","","","","","","","","","","","","","","","","","","","","","","","","","","","","","","","","","","","","","","","","","","","","","","","","","","","","","","","","","","","","","","","","","","","","","","","","","","","","","","","","","","","","","","","","","","","","","","","","","","","","","","","","","","","","","","","","","","","","","","","","","","","","","","","","","","","","","","","","","","","","","","","","","","","","","","","","","","","","","","","","","","","","","","","","","","","","","","","","","","","","","","","","","","","","","","","","","","","","","","","","","","","","","","","","","","","","","","","","","","","","","","","","","","","","","","","","","","","","","","","","","","","","","","","","","","","","","","","","","","","","","","","","","","","","","","","","","","","","","","","","","","","","","","","","","","","","","","","","","","","","","","","","","","","","","","","","","","","","","","","","","","","","","","","","","","","","","","","","","","","","","","","","","","","","","","","","","","","","","","","","","","","","","","","","","","","","","","","","","","","","","","","","","","","","","","","","","","","","","","","","","","","","","","","","","","","","","","","","","","","","","","","","","","","","","","","","","","","","","","","","","","","","","","","","","","","","","","","","","","","","","","","","","","","","","","","","","","","","","","","","","","","","","","","","","","","","","","","","","","","","","","","","","","","","","","","","","","","","","","","","","","","","","","","","","","","","","","","","","","","","","","","","","","","","","","","","","","","","","","","","","","","","","","","","","","","","","","","","","","","","","","","","","","","","","","","","","","","","","","","","","","","","","","","","","","","","","","","","","","","","","","","","","","","","","","","","","","","","","","","","","","","","","","","","","","","","","","","","","","","","","","","","","","","","","","","","","","","","","","","","","","","","","","","","","","","","","","","","","","","","","","","","","","","","","","","","","","","","","","","","","","","","","","","","","","","","","","","","","","","","","","","","","","","","","","","","","","","","","","","","","","","","","","","","","","","","","","","","","","","","","","","","","","","","","","","","","","","","","","","","","","","","","","","","","","","","","","","","","","","","","","","","","","","","","","","","","","","","","","","","","","","","","","","","","","","","","","","","","","","","","","","","","","","","","","","","","","","","","","","","","","","","","","","","","","","","","","","","","","","","","","","","","","","","","","","","","","","","","","","","","","","","","","","","","","","","","","","","",{"$f":"IF(ALC106<>-999,ALC106,\"\")","v":""},"","","","","","","","","",""]
["Pinewood Reservoir","","","","","","","","","","","","","","","","","","","","","","","","","","","","","","","","","","","","","","","","","","","","","","","","","","","","","","","","","","","","","","","","","","","","","","","","","","","","","","","","","","","","","","","","","","","","","","","","","","","","","","","","","","","","","","","","","","","","","","","","","","","","","","","","","","","","",{"$f":"IF(ED107<>-999,ED107,\"\")","v":""},"","","","","","","","","","","","","","","","","","","","","","","","","","","","","","","","","","","","","","","","","","","","","","","","","","","","","","","","","","","","","","","","","","","","","","","","","","","","","","","","","","","","","","","","","","","","","","","","","","","","","","","","","","","","","","","","","","","","","","","","","","","","","","","",{"$f":"IF(JB107<>-999,JB107,\"\")","v":""},"","","","","","","","","","","","","","","","","","","","","","","","","","","","","","","","","","","","","","","","","","","","","","","","","","","","","","","","","","","","","","","","","","","","","","","","","","","","","","","","","","","","","","","","","","","","","","","","","","","","","","","","","","","","","","","","","","","","","","","","","","","","","","","",{"$f":"IF(NZ107<>-999,NZ107,\"\")","v":""},"","","","","","","","","","","","","","","","","","","","","","","","","","","","","","","","","","","","","","","","","","","","","","","","","","","","","","","","","","","","","","","","","","","","","","","","","","","","","","","","","","","","","","","","","","","","","","","","","","","","","","","","","","","","","","","","","","","","","","","","","","","","","","","",{"$f":"IF(SX107<>-999,SX107,\"\")","v":""},"","","","","","","","","","","","","","","","","","","","","","","","","","","","","","","","","","","","","","","","","","","","","","","","","","","","","","","","","","","","","","","","","","","","","","","","","","","","","","","","","","","","","","","","","","","","","","","","","","","","","","","","","","","","","","","","","","","","","","","","","","","","","","","",{"$f":"IF(XV107<>-999,XV107,\"\")","v":""},"","","","","","","","","","","","","","","","","","","","","","","","","","","","","","","","","","","","","","","","","","","","","","","","","","","","","","","","","","","","","","","","","","","","","","","","","","","","","","","","","","","","","","","","","","","","","","","","","","","","","","","","","","","","","","","","","","","","","","","","","","","","","","","",{"$f":"IF(ACT107<>-999,ACT107,\"\")","v":""},"","","","","","","","","","","","","","","","","","","","","","","","","","","","","","","","","","","","","","","","","","","","","","","","","","","","","","","","","","","","","","","","","","","","","","","","","","","","","","","","","","","","","","","","","","","","","","","","","","","","","","","","","","","","","","","","","","","","","","","","","","","","","","","",{"$f":"IF(AHR107<>-999,AHR107,\"\")","v":""},"","","","","","","","","","","","","","","","","","","","","","","","","","","","","","","","","","","","","","","","","","","","","","","","","","","","","","","","","","","","","","","",{"$f":"IF(AKD107<>-999,AKD107,\"\")","v":""},"","","","","","","","","","","","","","","","","","","","","","","","","","","","","","","","","","",""]
["Flatiron Reservoir","","","","","","","","","","","","","","","","","","","","","","","","","","","","","","","","","","","","","","","","","","","","","","","","","","","","","","","","","","","","","","","","","","","","","","","","","","","","","","","","","","","","","","","","","","","","","","","","","","","","","","","","","","","","","","","","","","","","","","","","","","","","","","","","","","",{"$f":"IF(EB108<>-999,EB108,\"\")","v":""},"","","","","","","","","","","","","","","","","","","","","","","","","","","","","","","","","","","","","","","","","","","","","","","","","","","","","","","","","","","","","","","","","","",{"$f":"IF(GQ108<>-999,GQ108,\"\")","v":""},"","","","","","","","","","","","","","","","","","","","","","","","","","","","","","","","","","","","","","","","","","","","","",31,"","","","","","","","","","","","","","","","","","","","","","","","","","","","","","","","","","","","","","","","","","","","","","","","","","","","","","","","","","","","","","","","","","","","","","","","","","","","","","","","","",{"$f":"IF(LO108<>-999,LO108,\"\")","v":""},"","","","","","","","","","","","","","","","","","","","","","","","","","","","","","","","","","","","","","","","","","","","","","","","","","","","","","","","","","","","","","","","","","","","","","","","","","","","","","","","","","","","","","","","","","","","","","","","","","","","","","","","","","","","","","","","","","","","","","","","","","","","","","","",{"$f":"IF(QM108<>-999,QM108,\"\")","v":""},"","","","","","","","","","","","",36,"","","","","","","","","","","","","","","","","","","","","","","","","","","","","","","","","","","","","","","","","","","","","","","","","","","","","","","","","","","","","","","","","","","","","","","","","","","","","","","","","","","","","","","","","","","","","","","","","","","","","","","","","","","","","","","","","","",{"$f":"IF(VK108<>-999,VK108,\"\")","v":""},"","","","","","","","","","","","","","","","","","","","","","","","","","","","","","","","","","","","","","","","","","","","","","","","","","","","","","","","","","","","","","","","","","","","","","","","","","","","","","","","","","","","","","","","","","","","","","","","","","","","","","","","","","","","","","","","","","","","","","","","","","","","","","","",{"$f":"IF(AAI108<>-999,AAI108,\"\")","v":""},"","","","","","","","","","","","","","","","","","","","","","","","","","","","","","","","","","","","","","","","","","","","","","","","","","","","","","","","","","","","","","","","","","","","","","","","","","","","","","","","","","","","","","","","","","","","","","","","","","","","","","","",35,"","","","","","","","","","","","","","","",42,"","","","","","","",{"$f":"IF(AFG108<>-999,AFG108,\"\")","v":""},"","","","","","","","","","","","","","","","","","","","","","","","","","","","","","","","","","","","","","","","","",46,"","","","","","","","","","","","","","","","","","","","","","","","","","","","","","","","","","","","","","","","","","","","","","","","","","","","","","","","","","","","","","","","","","","","","","","","","","","","","","","","","","","","","","","","","","","","","","","","","","","","","","","","","","","","","","","","","","","","","","","",""]
["Horsetooth Reservoir","",14,28,28,"",43,"","","",16,"","","","","",27,"",47,21,"","",14,29,"","","","",34,23,43,"",21,"","","",38,"","","","","","","","",25,"",42,"",31,23,"","","","",13,22,26,42,"","","",16,"",13,21,{"$f":"IF(BO109<>-999,BO109,\"\")","v":""},29,18,"",24,"","",46,"",38,"",24,"",30,30,"","",22,9,"","","","","","",26,37,"","","","","",9,"",47,"","",30,"",33,29,13,"",27,18,"",40,"",21,16,30,"",38,"",44,48,24,32,"",19,"","","","",42,"","",12,"","",36,15,17,"",11,25,"",25,"","",30,"",11,"",30,"","",33,42,22,43,"",26,26,"","",39,21,47,31,"","","","","",26,"","","",26,"",47,"","","",46,17,"",16,"",24,43,21,39,35,"",33,"",30,"","",{"$f":"IF(GP109<>-999,GP109,\"\")","v":22},"","",13,18,"","","",18,46,37,"",25,"","",47,"","",12,"","",29,"","",13,"","","",47,"",33,25,"",20,"",15,"",37,15,"","","",31,16,37,13,"","",20,"","",40,20,"",41,28,21,28,"","",25,47,"","","",33,41,"","","",35,7,"",18,22,"",22,"","","",24,"",24,"","","",24,5,"",39,"","","",26,35,"","","","","","","","",45,"",30,26,"","","",28,"",30,38,40,"","",29,"",15,"",26,47,44,"","","",29,{"$f":"IF(LN109<>-999,LN109,\"\")","v":41},46,45,"","",40,"","","",27,"",23,"",41,"",32,38,"","",23,9,30,39,"",35,30,22,"",13,"",31,21,"","","",29,11,"","","",13,11,31,"",37,5,"",15,"","",23,"",23,41,15,35,"","",27,19,39,43,23,"",47,43,35,9,36,"",43,38,41,20,"","","","","","",12,8,"","","",17,18,11,"","","","",44,"","",8,"","","","","","",28,"","","","",24,"","","",20,"","","",46,13,45,"",42,"",30,27,46,"",47,"",18,{"$f":"IF(QL109<>-999,QL109,\"\")","v":""},18,"","","",34,"","",27,"","",42,"","",17,"",8,"","",29,"",47,16,"","","",25,15,21,7,"",36,"",34,20,11,27,40,"","","",20,"",32,3,"",15,5,24,32,46,34,34,"","",17,"","",33,31,"","","","",11,"",20,"","","",29,"","","","","","",46,10,44,"",22,26,"","","",38,31,11,37,35,"","","","","","","",9,"",44,"",21,23,45,"",7,"","","",21,"",41,"",14,24,"","",48,19,"","",43,37,11,"",29,"",{"$f":"IF(VJ109<>-999,VJ109,\"\")","v":34},38,34,23,40,38,19,12,"","","","",17,34,37,"","",32,44,25,38,33,27,32,16,27,"",14,46,"","","",46,4,43,"","","","",29,"","",10,"",36,"",28,"",47,31,48,"","","","","",3,21,24,20,"",46,"","",25,"",25,40,15,"",35,"",44,11,"",31,31,"",47,37,11,8,"","","","",28,"","",29,"",3,19,"",27,27,17,"",36,11,"","","",33,14,5,"","",48,"","","","","","","","",7,"","",30,37,28,"","",32,"","",{"$f":"IF(AAH109<>-999,AAH109,\"\")","v":7},"",23,"","",23,31,"","","","","","",27,18,48,5,18,"",11,"",24,29,"","","","","","",4,40,"","",29,37,15,"",44,"","",28,32,"",31,6,28,"",15,42,22,20,15,35,"",34,"","","","",45,"",39,"","","",21,"",20,"",19,"","","","",16,"","","","",33,"",40,"",20,"","","","","",6,"",28,47,15,8,17,"",30,"",21,"","",7,"","","",24,"",21,44,3,"","","","","","","","",30,"",31,24,"","","","","",{"$f":"IF(AFF109<>-999,AFF109,\"\")","v":30},"","","",33,22,"","","",37,"","",24,27,30,28,"","",23,"",25,32,"",38,"","","","",32,18,38,"","",39,"",40,37,48,"",37,24,10,21,"","","",33,24,"",14,33,"",45,33,47,"","","","","",17,"",17,"",21,"","","","",21,26,"","",34,12,"","",38,27,"","",12,37,25,"",18,"","","",28,37,"","","",34,28,11,"","","",31,"",45,"","",34,17,14,"",16,"","","",25,38,2,"",23,"","","",44,"","","",23,25,"","","","","","",25,28,36,"",14,"",46,"",31,"","","",12,"",42,"","",40,"",32,22,"",35,"","",18,29,14,8,"",""]
["Carter Lake","","",{"$f":"IF(D110<>-999,D110,\"\")","v":""},"",42,"","","",26,"","","","",41,"","","","","","","","","","","","","","","","","","","","","","","","","","","","","","","","","","","","","","","","","","","","","","","","","","","","","","","","","","","","","","","","","","","","","","","","","","","","","","","","","","","","","","","","","","","","","","","","","","","","","","","","","","","","","","","","","","","","","","","","","","","","","","","","","","","","",39,"","","","","","","","","","","",45,"","","","","","","","","","","","","","","","","","","","","","","","","","","","","","","","","","","","","","","","","","","","","","","","","","","","","","","","","","","","","","","","","","","","","","","","","","","","","","","","","","","","",14,"","","","","",25,"","",44,"","","","","","","","","","","",36,"","","","","","","","","","","","","","","",48,"","","","","","","","","","",25,"",30,"","","","","","","","","","","","","","","","","",33,"","","","","","","","","","","","","","","","","","","","","","","","","","","","","",28,"","","","","","","","","","","","","","","",36,32,"","","","","","","","","","","",29,"","","","","","","",42,"","","","","","","","",41,"","","","","","","","","","","","","","","","","","","","","","","","","","","","","","","","","","","","","","","","","","","","","","","","","",48,"","","","","","","","","","","",26,"","","","",32,"","","","","","","","","","","",11,"","","","",46,"","","","","","","","","","","","","","","","","","","","","","","","","","","","","","","","","","","","","","",34,"","","","","","","","","","","","","","","","","","","","","","","","","","",42,"","","","","","","","","","","","","","","","","","","","","","","","","","","","","","","","","","","","","","","","","","","","","","","","","","",40,"","","","","","","","","","","","","","","","","","","","","","","","","","","","","","","","","","","","","","","",35,"","","","","","","","","","","","","","","",47,"","","","","","","","","","","","","","","","","","","","","","","","","","","","","","","","","","","","","","","","","","","","","","","","",41,"","","","","","","","","","","","","","","","","","","","","","","","","","","","","","","","","","","","","","","","","","","","","","","","","","","","","","","","","","","","","","","","","","","","","","","","","","","","","","","","","","","","",44,"","","","","","","","","","","","","","","","","","","","","","","","","","","","","","","","","","",25,"","","","","","",26,"","","","","","","","",26,"","","","","","","","","","","","","","","","","","","","","","","","","","","","","","","","","","","","","","","",41,"","","","","","","","",41,30,"","","","","","","","",29,"","",35,"","","","","","","","",21,"","","","","","","","","","","",42,"","","","","","","","","","","","","","","","","","","","","","","","","","","","","","","",36,"","","","","","","","","","","","","","","","","","","","","","","","","","","","","","","","","","","","","","","","","","","","","","","","",44,"","","","","",""]
["Boulder Reservoir",31,"","","","","","","",11,"","","","","","","","","","","","","","","","","","","",39,30,"","","","","","","","","","","","","","",21,"","",45,"","","",45,"","","","",45,27,"","","","","","","",42,"","","","","","",26,"","","","","","","","","","","","","","","","","","","","","","","",40,"","","","","","","","","","","",43,"","","","","","","","","","","","","","","","","",34,"","","","","",21,"","","","","","","","","","","","","","","","","","","","","","","","","","","","","","","","","","","","","","","","","","",27,"",40,"","","","","","","","","","","","","","","",{"$f":"IF(GM111<>-999,GM111,\"\")","v":31},45,35,"","","","","","",35,"","","","","","",12,"",37,"",46,"","","","",32,"","","","","","","","","","","","","","","","","","",38,"","","","","","","","","","","","","","","",33,"","","","",35,"","",35,"",{"$f":"IF(JE111<>-999,JE111,\"\")","v":""},"","","","","","","","","","","","","","","","","","","","","",29,36,"","","","","","","","","","","","","",47,"","",14,42,"","","","","",7,29,"","","","","","",39,"","","","","","",14,"","","","","","","","","","",24,"","","","","",25,"","",38,"","","","","","",36,"","","","","","","","","","","","","","",46,"","","","","","","","","","","","","","","","","",27,"","",29,30,"",{"$f":"IF(OC111<>-999,OC111,\"\")","v":""},"","","","","","","","","","","","","","","","","","","","","","","","","","","","","","","",47,"",41,"","","",30,33,"","","","","","","","","","","","","","","","","","","","","","","","","","","","",15,"","","","","","","",40,"","","","","","","","","","","","","","","","","","","","","","","","","",17,"",45,"","","","",39,"","","","","","","",39,"","","","","","","","","",21,{"$f":"IF(TA111<>-999,TA111,\"\")","v":40},"","","","",42,"","","","",39,"","",34,"","","","","",45,"","","","","","","","","","","","",41,"",7,"",25,"","","","","","","","","","","","","","","","","","","","","","","","","","",41,"",48,32,"","","","","","",31,38,"","","","","","","","","","",42,"","","","","","","","","","","","","","","","","","",34,"","","","","",35,"",38,"","","","","","","",40,"","","","","","","",{"$f":"IF(XY111<>-999,XY111,\"\")","v":""},"","","",40,"",25,"","","","",37,"","","","","","","","","","","","",20,"","","","","","","","","",20,"","",41,"","","","","","","","","","","","","","","","","","","","","",26,"","","","","","","","","","","","","","","","","","",27,"",31,"","","","","","","","","","","","","","","","",42,"","","",45,"","","","",46,"","","","","","","","",44,"","","","","",30,"","","","","",46,{"$f":"IF(ACW111<>-999,ACW111,\"\")","v":""},"",38,"",44,"","","","","","","","",37,"","","",30,"","","",48,"","","","","","","","","",36,"","","","","","","",33,"","",26,"","","","","","","","","","","","","","","","","","","","","","",48,13,"","","","","",30,33,"","","","","","",31,19,"","","",32,"","","","","","","","",24,"","","","","","","",42,45,"","","","","","","","","","",38,"",42,"","","","","","","","",32,"","",{"$f":"IF(AHU111<>-999,AHU111,\"\")","v":""},26,"","","","","","","","",33,"",15,"",47,"","",47,37,"","","","","","","","","","","","","","","","",19,"","","","","","","","",39,"","",37,"","","","",36,"","","","","","","","","","","",21,"","","","","","","","","","","","","",12,41,"","",37,"","","","","","",26,"","","",48,"","",""]
["Min",{"$f":"IF(ISBLANK($B113:$ALM113)=FALSE,MIN($B113:$ALM113),0)","v":0},{"$f":"IF(ISBLANK($B114:$ALM114)=FALSE,MIN($B114:$ALM114),0)","v":0},{"$f":"IF(ISBLANK($B115:$ALM115)=FALSE,MIN($B115:$ALM115),0)","v":15},{"$f":"IF(ISBLANK($B116:$ALM116)=FALSE,MIN($B116:$ALM116),0)","v":20},{"$f":"IF(ISBLANK($B117:$ALM117)=FALSE,MIN($B117:$ALM117),0)","v":23},{"$f":"IF(ISBLANK($B118:$ALM118)=FALSE,MIN($B118:$ALM118),0)","v":0},{"$f":"IF(ISBLANK($B119:$ALM119)=FALSE,MIN($B119:$ALM119),0)","v":0},{"$f":"IF(ISBLANK($B120:$ALM120)=FALSE,MIN($B120:$ALM120),0)","v":0},{"$f":"IF(ISBLANK($B121:$ALM121)=FALSE,MIN($B121:$ALM121),0)","v":0},{"$f":"IF(ISBLANK($B122:$ALM122)=FALSE,MIN($B122:$ALM122),0)","v":31},{"$f":"IF(ISBLANK($B123:$ALM123)=FALSE,MIN($B123:$ALM123),0)","v":2},{"$f":"IF(ISBLANK($B124:$ALM124)=FALSE,MIN($B124:$ALM124),0)","v":11},{"$f":"IF(ISBLANK($B125:$ALM125)=FALSE,MIN($B125:$ALM125),0)","v":7}]
["Max",{"$f":"MAX($B113:$ALM113)","v":0},{"$f":"MAX($B114:$ALM114)","v":0},{"$f":"MAX($B115:$ALM115)","v":48},{"$f":"MAX($B116:$ALM116)","v":48},{"$f":"MAX($B117:$ALM117)","v":47},{"$f":"MAX($B118:$ALM118)","v":0},{"$f":"MAX($B119:$ALM119)","v":0},{"$f":"MAX($B120:$ALM120)","v":0},{"$f":"MAX($B121:$ALM121)","v":0},{"$f":"MAX($B122:$ALM122)","v":46},{"$f":"MAX($B123:$ALM123)","v":48},{"$f":"MAX($B124:$ALM124)","v":48},{"$f":"MAX($B125:$ALM125)","v":48}]
["Min",{"$f":"B128-B127","v":0},{"$f":"C128-C127","v":0},15,14,7,{"$f":"G128-G127","v":0},{"$f":"H128-H127","v":0},0,0,4,16.25,17.5,20]
["Preventative Management Scenario"]
["Shadow Mountain Reservoir",-999,-999,-999,-999,-999,-999,-999,-999,-999,-999,-999,-999,-999,-999,-999,-999,-999,-999,-999,-999,-999,-999,-999,-999,-999,-999,-999,-999,-999,-999,-999,-999,-999,-999,-999,-999,-999,-999,-999,-999,-999,-999,-999,-999,-999,-999,-999,-999,-999,-999,-999,-999,-999,-999,-999,-999,-999,-999,-999,-999,-999,-999,-999,-999,-999,-999,-999,-999,-999,-999,-999,-999,-999,-999,-999,-999,-999,-999,-999,-999,-999,-999,-999,-999,-999,-999,-999,-999,-999,-999,-999,-999,-999,-999,-999,-999,-999,-999,-999,-999,-999,-999,-999,-999,-999,-999,-999,-999,-999,-999,-999,-999,-999,-999,-999,-999,-999,-999,-999,-999,-999,-999,-999,-999,-999,-999,-999,-999,-999,-999,-999,-999,-999,-999,-999,-999,-999,-999,-999,-999,-999,-999,-999,-999,-999,-999,-999,-999,-999,-999,-999,-999,-999,-999,-999,-999,-999,-999,-999,-999,-999,-999,-999,-999,-999,-999,-999,-999,-999,-999,-999,-999,-999,-999,-999,-999,-999,-999,-999,-999,-999,-999,-999,-999,-999,-999,-999,-999,-999,-999,-999,-999,-999,-999,-999,-999,-999,-999,-999,-999,-999,-999,-999,-999,-999,-999,-999,-999,-999,-999,-999,-999,-999,-999,-999,-999,-999,-999,-999,-999,-999,-999,-999,-999,-999,-999,-999,-999,-999,-999,-999,-999,-999,-999,-999,-999,-999,-999,-999,-999,-999,-999,-999,-999,-999,-999,-999,-999,-999,-999,-999,-999,-999,-999,-999,-999,-999,-999,-999,-999,-999,-999,-999,-999,-999,-999,-999,-999,-999,-999,-999,-999,-999,-999,-999,-999,-999,-999,-999,-999,-999,-999,-999,-999,-999,-999,-999,-999,-999,-999,-999,-999,-999,-999,-999,-999,-999,-999,-999,-999,-999,-999,-999,-999,-999,-999,-999,-999,-999,-999,-999,-999,-999,-999,-999,-999,-999,-999,-999,-999,-999,-999,-999,-999,-999,-999,-999,-999,-999,-999,-999,-999,-999,-999,-999,-999,-999,-999,-999,-999,-999,-999,-999,-999,-999,-999,-999,-999,-999,-999,-999,-999,-999,-999,-999,-999,-999,-999,-999,-999,-999,-999,-999,-999,-999,-999,-999,-999,-999,-999,-999,-999,-999,-999,-999,-999,-999,-999,-999,-999,-999,-999,-999,-999,-999,-999,-999,-999,-999,-999,-999,-999,-999,-999,-999,-999,-999,-999,-999,-999,-999,-999,-999,-999,-999,-999,-999,-999,-999,-999,-999,-999,-999,-999,-999,-999,-999,-999,-999,-999,-999,-999,-999,-999,-999,-999,-999,-999,-999,-999,-999,-999,-999,-999,-999,-999,-999,-999,-999,-999,-999,-999,-999,-999,-999,-999,-999,-999,-999,-999,-999,-999,-999,-999,-999,-999,-999,-999,-999,-999,-999,-999,-999,-999,-999,-999,-999,-999,-999,-999,-999,-999,-999,-999,-999,-999,-999,-999,-999,-999,-999,-999,-999,-999,-999,-999,-999,-999,-999,-999,-999,-999,-999,-999,-999,-999,-999,-999,-999,-999,-999,-999,-999,-999,-999,-999,-999,-999,-999,-999,-999,-999,-999,-999,-999,-999,-999,-999,-999,-999,-999,-999,-999,-999,-999,-999,-999,-999,-999,-999,-999,-999,-999,-999,-999,-999,-999,-999,-999,-999,-999,-999,-999,-999,-999,-999,-999,-999,-999,-999,-999,-999,-999,-999,-999,-999,-999,-999,-999,-999,-999,-999,-999,-999,-999,-999,-999,-999,-999,-999,-999,-999,-999,-999,-999,-999,-999,-999,-999,-999,-999,-999,-999,-999,-999,-999,-999,-999,-999,-999,-999,-999,-999,-999,-999,-999,-999,-999,-999,-999,-999,-999,-999,-999,-999,-999,-999,-999,-999,-999,-999,-999,-999,-999,-999,-999,-999,-999,-999,-999,-999,-999,-999,-999,-999,-999,-999,-999,-999,-999,-999,-999,-999,-999,-999,-999,-999,-999,-999,-999,-999,-999,-999,-999,-999,-999,-999,-999,-999,-999,-999,-999,-999,-999,-999,-999,-999,-999,-999,-999,-999,-999,-999,-999,-999,-999,-999,-999,-999,-999,-999,-999,-999,-999,-999,-999,-999,-999,-999,-999,-999,-999,-999,-999,-999,-999,-999,-999,-999,-999,-999,-999,-999,-999,-999,-999,-999,-999,-999,-999,-999,-999,-999,-999,-999,-999,-999,-999,-999,-999,-999,-999,-999,-999,-999,-999,-999,-999,-999,-999,-999,-999,-999,-999,-999,-999,-999,-999,-999,-999,-999,-999,-999,-999,-999,-999,-999,-999,-999,-999,-999,-999,-999,-999,-999,-999,-999,-999,-999,-999,-999,-999,-999,-999,-999,-999,-999,-999,-999,-999,-999,-999,-999,-999,-999,-999,-999,-999,-999,-999,-999,-999,-999,-999,-999,-999,-999,-999,-999,-999,-999,-999,-999,-999,-999,-999,-999,-999,-999,-999,-999,-999,-999,-999,-999,-999,-999,-999,-999,-999,-999,-999,-999,-999,-999,-999,-999,-999,-999,-999,-999,-999,-999,-999,-999,-999,-999,-999,-999,-999,-999,-999,-999,-999,-999,-999,-999,-999,-999,-999,-999,-999,-999,-999,-999,-999,-999,-999,-999,-999,-999,-999,-999,-999,-999,-999,-999,-999,-999,-999,-999,-999,-999,-999,-999,-999,-999,-999,-999,-999,-999,-999,-999,-999,-999,-999,-999,-999,-999,-999,-999,-999,-999,-999,-999,-999,-999,-999,-999,-999,-999,-999,-999,-999,-999,-999,-999,-999,-999,-999,-999,-999,-999,-999,-999,-999,-999,-999,-999,-999,-999,-999,-999,-999,-999,-999,-999,-999,-999,-999,-999,-999,-999,-999,-999,-999,-999,-999,-999,-999,-999,-999,-999,-999,-999,-999,-999,-999,-999,-999,-999,-999,-999,-999,-999,-999,-999,-999,-999,-999,-999,-999,-999,-999,-999,-999,-999,-999,-999,-999,-999,-999,-999,-999,-999,-999,-999,-999,-999,-999,-999,-999,-999,-999,-999,-999,-999,-999,-999,-999,-999,-999,-999,-999,-999,-999,-999,-999,-999,-999,-999,-999,-999,-999,-999,-999,-999,-999,-999,-999,-999,-999,-999,-999,-999,-999,-999,-999,-999,-999]
["Pinewood Reservoir",-999,-999,-999,-999,-999,-999,-999,-999,-999,-999,-999,-999,-999,-999,-999,-999,-999,-999,-999,-999,-999,-999,-999,-999,-999,-999,-999,-999,-999,-999,-999,-999,-999,-999,-999,-999,-999,-999,-999,-999,-999,-999,-999,-999,-999,-999,-999,-999,-999,-999,-999,-999,-999,-999,-999,-999,-999,-999,-999,-999,-999,-999,-999,-999,-999,-999,-999,-999,-999,-999,-999,-999,-999,-999,-999,-999,-999,-999,-999,-999,-999,-999,-999,-999,-999,-999,-999,-999,-999,-999,-999,-999,-999,-999,-999,-999,-999,-999,-999,-999,-999,-999,-999,-999,-999,-999,-999,-999,-999,-999,-999,-999,-999,-999,-999,-999,-999,-999,-999,-999,-999,-999,-999,-999,-999,-999,-999,-999,-999,-999,-999,-999,-999,-999,-999,-999,-999,-999,-999,-999,-999,-999,-999,-999,-999,-999,-999,-999,-999,-999,-999,-999,-999,-999,-999,-999,-999,-999,-999,-999,-999,-999,-999,-999,-999,-999,-999,-999,-999,-999,-999,-999,-999,-999,-999,-999,-999,-999,-999,-999,-999,-999,-999,-999,-999,-999,-999,-999,-999,-999,-999,-999,-999,-999,-999,-999,-999,-999,-999,-999,-999,-999,-999,-999,-999,-999,-999,-999,-999,-999,-999,-999,-999,-999,-999,-999,-999,-999,-999,-999,-999,-999,-999,-999,-999,-999,-999,-999,-999,-999,-999,-999,-999,-999,-999,-999,-999,-999,-999,-999,-999,-999,-999,-999,-999,-999,-999,-999,-999,-999,-999,-999,-999,-999,-999,-999,-999,-999,-999,-999,-999,-999,-999,-999,-999,-999,-999,-999,-999,-999,-999,-999,-999,-999,-999,-999,-999,-999,-999,-999,-999,-999,-999,-999,-999,-999,-999,-999,-999,-999,-999,-999,-999,-999,-999,-999,-999,-999,-999,-999,-999,-999,-999,-999,-999,-999,-999,-999,-999,-999,-999,-999,-999,-999,-999,-999,-999,-999,-999,-999,-999,-999,-999,-999,-999,-999,-999,-999,-999,-999,-999,-999,-999,-999,-999,-999,-999,-999,-999,-999,-999,-999,-999,-999,-999,-999,-999,-999,-999,-999,-999,-999,-999,-999,-999,-999,-999,-999,-999,-999,-999,-999,-999,-999,-999,-999,-999,-999,-999,-999,-999,-999,-999,-999,-999,-999,-999,-999,-999,-999,-999,-999,-999,-999,-999,-999,-999,-999,-999,-999,-999,-999,-999,-999,-999,-999,-999,-999,-999,-999,-999,-999,-999,-999,-999,-999,-999,-999,-999,-999,-999,-999,-999,-999,-999,-999,-999,-999,-999,-999,-999,-999,-999,-999,-999,-999,-999,-999,-999,-999,-999,-999,-999,-999,-999,-999,-999,-999,-999,-999,-999,-999,-999,-999,-999,-999,-999,-999,-999,-999,-999,-999,-999,-999,-999,-999,-999,-999,-999,-999,-999,-999,-999,-999,-999,-999,-999,-999,-999,-999,-999,-999,-999,-999,-999,-999,-999,-999,-999,-999,-999,-999,-999,-999,-999,-999,-999,-999,-999,-999,-999,-999,-999,-999,-999,-999,-999,-999,-999,-999,-999,-999,-999,-999,-999,-999,-999,-999,-999,-999,-999,-999,-999,-999,-999,-999,-999,-999,-999,-999,-999,-999,-999,-999,-999,-999,-999,-999,-999,-999,-999,-999,-999,-999,-999,-999,-999,-999,-999,-999,-999,-999,-999,-999,-999,-999,-999,-999,-999,-999,-999,-999,-999,-999,-999,-999,-999,-999,-999,-999,-999,-999,-999,-999,-999,-999,-999,-999,-999,-999,-999,-999,-999,-999,-999,-999,-999,-999,-999,-999,-999,-999,-999,-999,-999,-999,-999,-999,-999,-999,-999,-999,-999,-999,-999,-999,-999,-999,-999,-999,-999,-999,-999,-999,-999,-999,-999,-999,-999,-999,-999,-999,-999,-999,-999,-999,-999,-999,-999,-999,-999,-999,-999,-999,-999,-999,-999,-999,-999,-999,-999,-999,-999,-999,-999,-999,-999,-999,-999,-999,-999,-999,-999,-999,-999,-999,-999,-999,-999,-999,-999,-999,-999,-999,-999,-999,-999,-999,-999,-999,-999,-999,-999,-999,-999,-999,-999,-999,-999,-999,-999,-999,-999,-999,-999,-999,-999,-999,-999,-999,-999,-999,-999,-999,-999,-999,-999,-999,-999,-999,-999,-999,-999,-999,-999,-999,-999,-999,-999,-999,-999,-999,-999,-999,-999,-999,-999,-999,-999,-999,-999,-999,-999,-999,-999,-999,-999,-999,-999,-999,-999,-999,-999,-999,-999,-999,-999,-999,-999,-999,-999,-999,-999,-999,-999,-999,-999,-999,-999,-999,-999,-999,-999,-999,-999,-999,-999,-999,-999,-999,-999,-999,-999,-999,-999,-999,-999,-999,-999,-999,-999,-999,-999,-999,-999,-999,-999,-999,-999,-999,-999,-999,-999,-999,-999,-999,-999,-999,-999,-999,-999,-999,-999,-999,-999,-999,-999,-999,-999,-999,-999,-999,-999,-999,-999,-999,-999,-999,-999,-999,-999,-999,-999,-999,-999,-999,-999,-999,-999,-999,-999,-999,-999,-999,-999,-999,-999,-999,-999,-999,-999,-999,-999,-999,-999,-999,-999,-999,-999,-999,-999,-999,-999,-999,-999,-999,-999,-999,-999,-999,-999,-999,-999,-999,-999,-999,-999,-999,-999,-999,-999,-999,-999,-999,-999,-999,-999,-999,-999,-999,-999,-999,-999,-999,-999,-999,-999,-999,-999,-999,-999,-999,-999,-999,-999,-999,-999,-999,-999,-999,-999,-999,-999,-999,-999,-999,-999,-999,-999,-999,-999,-999,-999,-999,-999,-999,-999,-999,-999,-999,-999,-999,-999,-999,-999,-999,-999,-999,-999,-999,-999,-999,-999,-999,-999,-999,-999,-999,-999,-999,-999,-999,-999,-999,-999,-999,-999,-999,-999,-999,-999,-999,-999,-999,-999,-999,-999,-999,-999,-999,-999,-999,-999,-999,-999,-999,-999,-999,-999,-999,-999,-999,-999,-999,-999,-999,-999,-999,-999,-999,-999,-999,-999,-999,-999,-999,-999,-999,-999,-999,-999,-999,-999,-999,-999,-999,-999,-999,-999,-999,-999,-999,-999,-999,-999,-999,-999,-999,-999,-999,-999,-999,-999,-999,-999,-999,-999,-999,-999,-999]
["Windy Gap Reservoir",{"$f":"IF(output_estab_1<>-999,output_estab_1,\"\")","v":""},null,{"$f":"IF(D144<>-999,D144,\"\")","v":""},"","","","","","","","","","","","","","","","","","","","","","","","","","","","","","","","","","","","","","","","","","","","","","","","","","","","","","","","","","","","","","","",{"$f":"IF(BP144<>-999,BP144,\"\")","v":""},"","","","","","","","","","","","","","","","","","","","","","","","","","","","","","","","","","","","","","","","","","","","","","","","","","","","","","","","","","","","","","","",{"$f":"IF(EB144<>-999,EB144,\"\")","v":""},"","","","","","","","","","","","","","","","","","","","","","","","","","","","","","","","","","","","","","","","","","","","","","","","","","","","","","","","","","","","","","","",{"$f":"IF(GN144<>-999,GN144,\"\")","v":""},"","","","","","","","","","","","","","","","","","","","","","","","","","","","","","","","","","","","","","","","","","","","","","","","","","","","","","","","","","","","","","","",{"$f":"IF(IZ144<>-999,IZ144,\"\")","v":""},"","","","","","","","","","","","","","","","","","","","","","","","","","","","","","","","","","","","","","","","","","","","","","","","","","","","","","","","","","","","","","","",{"$f":"IF(LL144<>-999,LL144,\"\")","v":""},"","","","","","","","","","","","","","","","","","","","","","","","","","","","","","","","","","","","","","","","","","","","","","","","","","","","","","","","","","","","","","","",{"$f":"IF(NX144<>-999,NX144,\"\")","v":""},"","","","","","","","","","","","","","","","","","","","","","","","","","","","","","","","","","","","","","","","","","","","","","","","","","","","","","","","","","","","","","","",{"$f":"IF(QJ144<>-999,QJ144,\"\")","v":""},"","","","","","","","","","","","","","","","","","","","","","","","","","","","","","","","","","","","","","","","","","","","","","","","","","","","","","","","","","","","","","","",{"$f":"IF(SV144<>-999,SV144,\"\")","v":""},"","","","","","","","","","","","","","","","","","","","","","","","","","","","","","","","","","","","","","","","","","","","","","","","","","","","","","","","","","","","","","","",{"$f":"IF(VH144<>-999,VH144,\"\")","v":""},"","","","","","","","","","","","","","","","","","","","","","","","","","","","","","","","","","","","","","","","","","","","","","","","","","","","","","","","","","","","","","","",{"$f":"IF(XT144<>-999,XT144,\"\")","v":""},"","","","","","","","","","","","","","","","","","","","","","","","","","","","","","","","","","","","","","","","","","","","","","","","","","","","","","","","","","","","","","","",{"$f":"IF(AAF144<>-999,AAF144,\"\")","v":""},"","","","","","","","","","","","","","","","","","","","","","","","","","","","","","","","","","","","","","","","","","","","","","","","","","","","","","","","","","","","","","","",{"$f":"IF(ACR144<>-999,ACR144,\"\")","v":""},"","","","","","","","","","","","","","","","","","","","","","","","","","","","","","","","","","","","","","","","","","","","","","","","","","","","","","","","","","","","","","","",{"$f":"IF(AFD144<>-999,AFD144,\"\")","v":""},"","","","","","","","","","","","","","","","","","","","","","","","","","","","","","","","","","","","","","","","","","","","","","","","","","","","","","","","","","","","","","","",{"$f":"IF(AHP144<>-999,AHP144,\"\")","v":""},"","","","","","","","","","","","","","","","","","","","","","","","","","","","","","","","","","","","","","","","","","","","","","","","","","","","","","","","","","","","","","","",{"$f":"IF(AKB144<>-999,AKB144,\"\")","v":""},"","","","","","","","","","","","","","","","","","","","","","","","","","","","","","","","","","","","",""]
["East Portal Reservoir",{"$f":"IF(B149<>-999,B149,\"\")","v":""},"","","","","","","","","","","","","","","","","","","","","","","","","","","","","","","",{"$f":"IF(AH149<>-999,AH149,\"\")","v":""},"","","","","","","","","","","","","","","","","","","","","","","","","","","","","","","","","","","","","","","","","","","","","","","","","","","","","","","","","","","","","","","","","","","","","","","","","","","","","","","","","","","","","","","","","","","","","","","","","",{"$f":"IF(EB149<>-999,EB149,\"\")","v":""},"","","","","","","","","","","","","","","","","","","","","","","","","","","","","","","",{"$f":"IF(FH149<>-999,FH149,\"\")","v":""},"","","","","","","","","","","","","","","","","","","","","","","","","","","","","","","",{"$f":"IF(GN149<>-999,GN149,\"\")","v":""},"","","","","","","","","","","","","","","","","","","","","","","","","","","","","","","",{"$f":"IF(HT149<>-999,HT149,\"\")","v":""},"","","","","","","","","","","","","","","","","","","","","","","","","","","","","","",{"$f":"IF(IY149<>-999,IY149,\"\")","v":""},"","","","","","","","","","","","","","","","","","","","","","","","","","","","","","","",{"$f":"IF(KE149<>-999,KE149,\"\")","v":""},"","","","","","","","","","","","","","","","","","","","","","","","","","","","","","","",{"$f":"IF(LK149<>-999,LK149,\"\")","v":""},"","","","","","","","","","","","","","","","","","","","","","","","","","","","","","","",{"$f":"IF(MQ149<>-999,MQ149,\"\")","v":""},"","","","","","","","","","","","","","","","","","","","","","","","","","","","","","","",{"$f":"IF(NW149<>-999,NW149,\"\")","v":""},"","","","","","","","","","","","","","","","","","","","","","","","","","","","","","","",{"$f":"IF(PC149<>-999,PC149,\"\")","v":""},"","","","","","","","","","","","","","","","","","","","","","","","","","","","","","","",{"$f":"IF(QI149<>-999,QI149,\"\")","v":""},"","","","","","","","","","","","","","","","","","","","","","","","","","","","","","","",{"$f":"IF(RO149<>-999,RO149,\"\")","v":""},"","","","","","","","","","","","","","","","","","","","","","","","","","","","","","","",{"$f":"IF(SU149<>-999,SU149,\"\")","v":""},"","","","","","","","","","","","","","","","","","","","","","","","","","","","","","","",{"$f":"IF(UA149<>-999,UA149,\"\")","v":""},"","","","","","","","","","","","","","","","","","","","","","","","","","","","","","","",{"$f":"IF(VG149<>-999,VG149,\"\")","v":""},"","","","","","","","","","","","","","","","","","","","","","","","","","","","","","","",{"$f":"IF(WM149<>-999,WM149,\"\")","v":""},"","","","","","","","","","","","","","","","","","","","","","","","","","","","","","","",{"$f":"IF(XS149<>-999,XS149,\"\")","v":""},"","","","","","","","","","","","","","","","","","","","","","","","","","","","","","","",{"$f":"IF(YY149<>-999,YY149,\"\")","v":""},"","","","","","","","","","","","","","","","","","","","","","","","","","","","","","","",{"$f":"IF(AAE149<>-999,AAE149,\"\")","v":""},"","","","","","","","","","","","","","","","","","","","","","","","","","","","","","","",{"$f":"IF(ABK149<>-999,ABK149,\"\")","v":""},"","","","","","","","","","","","","","","","","","","","","","","","","","","","","","","",{"$f":"IF(ACQ149<>-999,ACQ149,\"\")","v":""},"","","","","","","","","","","","","","","","","","","","","","","","","","","","","","","",{"$f":"IF(ADW149<>-999,ADW149,\"\")","v":""},"","","","","","","","","","","","","","","","","","","","","","","","","","","","","","","",{"$f":"IF(AFC149<>-999,AFC149,\"\")","v":""},"","","","","","","","","","","","","","","","","","","","","","","","","","","","","","","",{"$f":"IF(AGI149<>-999,AGI149,\"\")","v":""},"","","","","","","","","","","","","","","","","","","","","","","","","","","","","","","",{"$f":"IF(AHO149<>-999,AHO149,\"\")","v":""},"","","","","","","","","","","","","","","","","","","","","","","","","","","","","","","",{"$f":"IF(AIU149<>-999,AIU149,\"\")","v":""},"","","","","","","","","","","","","","","","","","","","","","","","","","","","","","","","",{"$f":"IF(AKB149<>-999,AKB149,\"\")","v":""},"","","","","","","","","","","","","","","","","","","","","","","","","","","","","","","","","","","","",""]
["Pinewood Reservoir","","","","","","","","","","","","","","","","","","","","","","","","","","","","","","","","","","","","","","","","","","","","","","","","","","","","","","","","","","","","","","","","","","","","",{"$f":"IF(BR152<>-999,BR152,\"\")","v":""},"","","","","","","","","","","","","","","","","","","","","","","","","","","","","","","","","","","","","","","","","","","","","","","","","","","","","","","","","","","","","","","",{"$f":"IF(ED152<>-999,ED152,\"\")","v":""},"","","","","","","","","","","","","","","","","","","","","","","","","","","","","","","","","","","","","","","","","","","","","","","","","","","","","","","","","","","","","","","","","","","","","","","","","","","","","","","","","","","","","","","","","","","","","","","","","","","","","","","","","","","","","","","","","","","","","","","","","","","","",{"$f":"IF(IY152<>-999,IY152,\"\")","v":""},"","","","","","","","","","","","","","","","","","","","","","","","","","","","","","","","","","","","","","","","","","","","","","","","","","","","","","","","","","","","","","","","","","","","","","","","","","","","","","","","","","","","","","","","","","","","","","","","","","","","","","","","","","","","","","","","","","","","","","","","","","","","","","","",{"$f":"IF(NW152<>-999,NW152,\"\")","v":""},"","","","","","","","","","","","","","","","","","","","","","","","","","","","","","","","","","","","","","","","","","","","","","","","","","","","","","","","","","","","","","","","","","","","","","","","","","","","","","","","","","","","","","","","","","","","","","","","","","","","","","","","","","","","","","","","","","","","","","","","","","","","","","","",{"$f":"IF(SU152<>-999,SU152,\"\")","v":""},"","","","","","","","","","","","","","","","","","","","","","","","","","","","","","","","","","","","","","","","","","","","","","","","","","","","","","","","","","","","","","","","","","","","","","","","","","","","","","","","","","","","","","","","","","","","","","","","","","","","","","","","","","","","","","","","","","","","","","","","","","","","","","","",{"$f":"IF(XS152<>-999,XS152,\"\")","v":""},"","","","","","","","","","","","","","","","","","","","","","","","","","","","","","","","","","","","","","","","","","","","","","","","","","","","","","","","","","","","","","","","","","","","","","","","","","","","","","","","","","","","","","","","","","","","","","","","","","","","","","","","","","","","","","","","","","","","","","","","","","","","","","","",{"$f":"IF(ACQ152<>-999,ACQ152,\"\")","v":""},"","","","","","","","","","","","","","","","","","","","","","","","","","","","","","","","","","","","","","","","","","","","","","","","","","","","","","","","","","","","","","","","","","","","","","","","","","","","","","","","","","","","","","","","","","","","","","","","","","","","","","","","","","","","","","","","","","","","","","","","","","","","","","","",{"$f":"IF(AHO152<>-999,AHO152,\"\")","v":""},"","","","","","","","","","","","","","","","","","","","","","","","","","","","","","","","","","","","","","","","","","","","","","","","","","","","","","","","","","","","","","","","","","","","","","","","","","","","","","","","","","","","","","","","","","","","","","","","","","","","","",""]
["Q1",{"$f":"IF(B176<>0,QUARTILE($B158:$ALM158,1),0)","v":0},{"$f":"IF(C176<>0,QUARTILE($B159:$ALM159,1),0)","v":0},{"$f":"IF(D176<>0,QUARTILE($B160:$ALM160,1),0)","v":0},{"$f":"IF(E176<>0,QUARTILE($B161:$ALM161,1),0)","v":0},{"$f":"IF(F176<>0,QUARTILE($B162:$ALM162,1),0)","v":0},{"$f":"IF(G176<>0,QUARTILE($B163:$ALM163,1),0)","v":0},{"$f":"IF(H176<>0,QUARTILE($B164:$ALM164,1),0)","v":0},{"$f":"IF(I176<>0,QUARTILE($B165:$ALM165,1),0)","v":0},{"$f":"IF(J176<>0,QUARTILE($B166:$ALM166,1),0)","v":0},{"$f":"IF(K176<>0,QUARTILE($B167:$ALM167,1),0)","v":0},{"$f":"IF(L176<>0,QUARTILE($B168:$ALM168,1),0)","v":31},{"$f":"IF(M176<>0,QUARTILE($B169:$ALM169,1),0)","v":0},{"$f":"IF(N176<>0,QUARTILE($B170:$ALM170,1),0)","v":0}]
["Never Established",{"$f":"COUNTIF($B144:$ALM144,-999)","v":1000},{"$f":"COUNTIF($B145:$ALM145,-999)","v":1000},{"$f":"COUNTIF($B146:$ALM146,-999)","v":1000},{"$f":"COUNTIF($B147:$ALM147,-999)","v":1000},{"$f":"COUNTIF($B148:$ALM148,-999)","v":1000},{"$f":"COUNTIF($B149:$ALM149,-999)","v":1000},{"$f":"COUNTIF($B150:$ALM150,-999)","v":1000},{"$f":"COUNTIF($B151:$ALM151,-999)","v":1000},{"$f":"COUNTIF($B152:$ALM152,-999)","v":1000},{"$f":"COUNTIF($B153:$ALM153,-999)","v":1000},{"$f":"COUNTIF($B154:$ALM154,-999)","v":995},{"$f":"COUNTIF($B155:$ALM155,-999)","v":1000},{"$f":"COUNTIF($B156:$ALM156,-999)","v":1000}]
["Percent Establishment",{"$f":"1-B178/1000","v":0},{"$f":"1-C178/1000","v":0},{"$f":"1-D178/1000","v":0},{"$f":"1-E178/1000","v":0},{"$f":"1-F178/1000","v":0},0,{"$f":"1-H178/1000","v":0},{"$f":"1-I178/1000","v":0},{"$f":"1-J178/1000","v":0},{"$f":"1-K178/1000","v":0},{"$f":"1-L178/1000","v":5.0000000000000044E-3},{"$f":"1-M178/1000","v":0},{"$f":"1-N178/1000","v":0}]
["Q3",{"$f":"B175-B174","v":0},{"$f":"C175-C174","v":0},0,0,0,{"$f":"G175-G174","v":0},0,0,0,0,0,0,0]
["Min_bc",{"$f":"B136","v":0},null,{"$f":"C136","v":0},null,{"$f":"D136","v":15},null,{"$f":"E136","v":14},null,{"$f":"F136","v":7},null,{"$f":"G136","v":0},null,{"$f":"H136","v":0},null,{"$f":"I136","v":0},null,{"$f":"J136","v":0},null,{"$f":"K136","v":4},null,{"$f":"L136","v":16.25},null,{"$f":"M136","v":17.5},null,{"$f":"N136","v":20}]
["Min_pm",null,{"$f":"B181","v":0},null,{"$f":"C181","v":0},null,{"$f":"D181","v":0},null,{"$f":"E181","v":0},null,{"$f":"F181","v":0},null,{"$f":"G181","v":0},null,{"$f":"H181","v":0},null,{"$f":"I181","v":0},null,{"$f":"J181","v":0},null,{"$f":"K181","v":0},null,{"$f":"L181","v":2},null,{"$f":"M181","v":0},null,{"$f":"N181","v":0}]
["Percent Established_pm",null,{"$f":"B179","v":0},null,{"$f":"C179","v":0},null,{"$f":"D179","v":0},null,{"$f":"E179","v":0},null,{"$f":"F179","v":0},null,{"$f":"G179","v":0},null,{"$f":"H179","v":0},null,{"$f":"I179","v":0},null,{"$f":"J179","v":0},null,{"$f":"K179","v":0},null,{"$f":"L179","v":5.0000000000000044E-3},null,{"$f":"M179","v":0},null,{"$f":"N179","v":0}]
["Run",0,1,2,3,4,5,6,7,8,9,10,11,12,13,14,15,16,17,18,19,20,21,22,23,24,25,26,27,28,29,30,31,32,33,34,35,36,37,38,39,40,41,42,43,44,45,46,47,48,49,50,51,52,53,54,55,56,57,58,59,60,61,62,63,64,65,66,67,68,69,70,71,72,73,74,75,76,77,78,79,80,81,82,83,84,85,86,87,88,89,90,91,92,93,94,95,96,97,98,99,100,101,102,103,104,105,106,107,108,109,110,111,112,113,114,115,116,117,118,119,120,121,122,123,124,125,126,127,128,129,130,131,132,133,134,135,136,137,138,139,140,141,142,143,144,145,146,147,148,149,150,151,152,153,154,155,156,157,158,159,160,161,162,163,164,165,166,167,168,169,170,171,172,173,174,175,176,177,178,179,180,181,182,183,184,185,186,187,188,189,190,191,192,193,194,195,196,197,198,199,200,201,202,203,204,205,206,207,208,209,210,211,212,213,214,215,216,217,218,219,220,221,222,223,224,225,226,227,228,229,230,231,232,233,234,235,236,237,238,239,240,241,242,243,244,245,246,247,248,249,250,251,252,253,254,255,256,257,258,259,260,261,262,263,264,265,266,267,268,269,270,271,272,273,274,275,276,277,278,279,280,281,282,283,284,285,286,287,288,289,290,291,292,293,294,295,296,297,298,299,300,301,302,303,304,305,306,307,308,309,310,311,312,313,314,315,316,317,318,319,320,321,322,323,324,325,326,327,328,329,330,331,332,333,334,335,336,337,338,339,340,341,342,343,344,345,346,347,348,349,350,351,352,353,354,355,356,357,358,359,360,361,362,363,364,365,366,367,368,369,370,371,372,373,374,375,376,377,378,379,380,381,382,383,384,385,386,387,388,389,390,391,392,393,394,395,396,397,398,399,400,401,402,403,404,405,406,407,408,409,410,411,412,413,414,415,416,417,418,419,420,421,422,423,424,425,426,427,428,429,430,431,432,433,434,435,436,437,438,439,440,441,442,443,444,445,446,447,448,449,450,451,452,453,454,455,456,457,458,459,460,461,462,463,464,465,466,467,468,469,470,471,472,473,474,475,476,477,478,479,480,481,482,483,484,485,486,487,488,489,490,491,492,493,494,495,496,497,498,499,500,501,502,503,504,505,506,507,508,509,510,511,512,513,514,515,516,517,518,519,520,521,522,523,524,525,526,527,528,529,530,531,532,533,534,535,536,537,538,539,540,541,542,543,544,545,546,547,548,549,550,551,552,553,554,555,556,557,558,559,560,561,562,563,564,565,566,567,568,569,570,571,572,573,574,575,576,577,578,579,580,581,582,583,584,585,586,587,588,589,590,591,592,593,594,595,596,597,598,599,600,601,602,603,604,605,606,607,608,609,610,611,612,613,614,615,616,617,618,619,620,621,622,623,624,625,626,627,628,629,630,631,632,633,634,635,636,637,638,639,640,641,642,643,644,645,646,647,648,649,650,651,652,653,654,655,656,657,658,659,660,661,662,663,664,665,666,667,668,669,670,671,672,673,674,675,676,677,678,679,680,681,682,683,684,685,686,687,688,689,690,691,692,693,694,695,696,697,698,699,700,701,702,703,704,705,706,707,708,709,710,711,712,713,714,715,716,717,718,719,720,721,722,723,724,725,726,727,728,729,730,731,732,733,734,735,736,737,738,739,740,741,742,743,744,745,746,747,748,749,750,751,752,753,754,755,756,757,758,759,760,761,762,763,764,765,766,767,768,769,770,771,772,773,774,775,776,777,778,779,780,781,782,783,784,785,786,787,788,789,790,791,792,793,794,795,796,797,798,799,800,801,802,803,804,805,806,807,808,809,810,811,812,813,814,815,816,817,818,819,820,821,822,823,824,825,826,827,828,829,830,831,832,833,834,835,836,837,838,839,840,841,842,843,844,845,846,847,848,849,850,851,852,853,854,855,856,857,858,859,860,861,862,863,864,865,866,867,868,869,870,871,872,873,874,875,876,877,878,879,880,881,882,883,884,885,886,887,888,889,890,891,892,893,894,895,896,897,898,899,900,901,902,903,904,905,906,907,908,909,910,911,912,913,914,915,916,917,918,919,920,921,922,923,924,925,926,927,928,929,930,931,932,933,934,935,936,937,938,939,940,941,942,943,944,945,946,947,948,949,950,951,952,953,954,955,956,957,958,959,960,961,962,963,964,965,966,967,968,969,970,971,972,973,974,975,976,977,978,979,980,981,982,983,984,985,986,987,988,989,990,991,992,993,994,995,996,997,998,999]
["Grand Lake",0,0,0,0,0,0,0,0,0,0,0,0,0,0,0,0,0,0,0,0,0,0,0,0,0,0,0,0,0,0,0,0,0,0,0,0,0,0,0,0,0,0,0,0,0,0,0,0,0,0,0,0,0,0,0,369242.05696447921,0,0,0,0,0,0,0,0,0,0,0,0,0,0,0,0,0,0,0,0,0,0,0,0,0,0,0,0,0,0,0,0,0,0,0,0,0,0,0,0,0,0,0,0,0,0,0,0,0,0,0,0,0,0,0,0,0,0,0,0,0,0,0,0,0,0,0,148493.14711096953,0,0,0,0,0,0,0,0,0,0,0,0,0,0,0,0,0,0,0,0,0,0,0,0,0,0,0,0,0,0,0,0,0,0,0,0,0,0,0,0,0,0,0,341377.03381186957,0,0,0,0,0,0,0,0,0,0,0,0,0,0,0,0,0,0,0,0,0,0,0,0,0,0,0,0,0,0,0,0,0,0,0,0,0,0,0,0,0,0,0,0,0,0,0,0,0,0,0,0,0,0,0,0,0,0,0,0,0,0,0,0,0,0,0,0,0,0,0,0,0,0,0,0,0,0,0,0,0,0,0,0,0,0,0,0,0,0,0,0,0,0,0,0,0,0,0,0,0,0,0,0,0,0,0,0,0,0,0,0,0,0,0,0,0,0,0,0,0,0,0,0,0,0,0,0,0,0,0,0,0,0,0,0,0,0,0,0,0,0,0,0,0,0,0,0,0,0,0,0,0,0,0,0,0,0,0,0,0,0,0,0,0,0,0,0,0,0,0,0,0,0,0,0,0,0,0,0,0,0,0,0,0,0,0,0,0,0,0,0,0,0,0,0,0,0,0,0,0,0,0,0,0,0,0,0,0,0,0,0,0,0,0,0,0,0,0,0,0,0,0,0,0,0,0,0,0,0,0,0,0,0,0,0,0,0,0,0,0,0,0,0,0,0,0,0,0,0,0,0,0,0,0,0,0,0,0,0,0,0,0,0,0,0,0,0,0,0,0,0,0,0,0,0,0,0,0,0,0,0,0,0,0,0,0,0,0,0,0,0,0,0,0,0,0,0,0,0,0,0,0,0,0,0,0,0,0,0,0,0,0,0,0,0,0,0,0,0,0,0,0,0,0,0,0,0,0,0,0,0,0,0,0,0,0,0,0,0,0,0,0,0,0,0,0,0,0,0,0,0,0,0,0,0,0,0,244961.88138753962,0,0,0,0,0,0,0,0,0,0,0,0,0,0,0,0,0,0,0,0,0,0,0,0,0,0,0,0,0,0,0,0,0,0,0,0,0,0,0,0,0,0,0,0,0,0,0,0,0,0,0,0,0,0,0,0,0,0,0,0,0,0,0,0,0,0,0,0,0,0,0,0,0,0,0,0,0,0,0,0,0,0,0,0,0,0,0,0,0,0,0,0,0,0,0,0,0,0,0,0,0,0,0,0,0,0,0,0,0,0,0,0,0,0,0,0,0,0,0,0,0,0,0,0,0,0,0,0,0,0,0,0,0,0,0,0,0,0,0,0,0,0,0,0,0,0,0,0,0,0,0,0,0,0,0,0,0,0,0,0,0,0,0,0,0,0,0,0,0,0,0,0,0,0,0,0,0,0,0,0,0,0,0,0,0,0,0,0,0,0,0,0,0,0,0,0,0,0,0,0,0,0,0,0,0,0,0,0,0,0,0,0,0,0,0,0,0,0,0,0,0,0,0,0,0,0,0,0,0,0,0,0,0,0,0,0,0,156467.56322040962,0,0,0,0,0,0,0,0,0,0,0,0,0,0,0,0,0,0,0,0,0,0,69398.690710824827,0,0,0,0,0,0,0,0,0,0,0,0,0,0,0,0,0,0,0,0,0,0,0,0,0,0,0,0,0,0,0,0,0,0,0,0,0,0,0,0,0,0,0,0,0,0,0,0,0,0,0,0,0,0,0,0,0,0,0,0,0,0,0,0,0,0,0,0,0,0,0,0,0,0,0,0,0,0,0,0,0,0,0,0,0,0,0,0,0,0,0,0,0,0,0,0,0,0,0,0,0,0,0,0,0,0,0,0,0,0,0,0,0,0,0,0,0,0,0,0,0,0,0,0,0,0,0,0,0,0,0,0,0,0,0,0,0,0,0,0,0,0,0,0,0,0,0,0,0,0,0,0,0,0,0,0,0,0,0,0,0,0,0,0,0,0,0,0,0,0,0,0,0,0,0,0,0,0,0,0,0,0,0,0,0,0,0,0,0,0,0,0,0,0,0,0,0,0,0,0,0,0,0,0,0,0,0,0,0,0,0,0]
["Flatiron Reservoir",0,0,0,0,0,0,0,0,0,0,0,0,0,0,0,0,0,0,0,0,0,0,0,0,0,0,0,0,0,0,0,0,0,0,0,0,0,0,0,0,0,0,0,0,0,0,0,0,0,0,0,0,0,0,0,0,0,0,0,0,0,0,0,0,0,0,0,0,0,0,0,0,0,0,0,0,0,0,0,0,0,0,0,0,0,0,0,0,0,0,0,0,0,0,0,0,0,0,0,0,0,0,0,0,0,0,0,0,0,0,0,0,0,0,0,0,0,0,0,0,0,0,0,0,0,0,0,0,0,0,0,0,0,0,0,0,0,0,0,0,0,0,0,0,0,0,0,0,0,0,0,0,0,0,0,0,0,0,0,0,0,0,0,0,0,0,0,0,0,0,0,0,0,0,0,0,0,0,0,0,0,0,0,0,0,0,0,0,0,0,0,0,0,0,0,0,0,0,0,0,0,0,0,0,0,0,0,0,0,0,0,0,0,0,0,0,0,0,0,0,0,0,0,0,0,0,0,0,0,0,0,0,0,0,0,0,0,0,0,0,0,0,0,326017.98712842329,0,0,0,0,0,0,0,0,0,0,0,0,0,0,0,0,0,0,0,0,0,0,0,0,0,0,0,0,0,0,0,0,0,0,0,0,0,0,0,0,0,0,0,0,0,0,0,0,0,0,0,0,0,0,0,0,0,0,0,0,0,0,0,0,0,0,0,0,0,0,0,0,0,0,0,0,0,0,0,0,0,0,0,0,0,0,0,0,0,0,0,0,0,0,0,0,0,0,0,0,0,0,0,0,0,0,0,0,0,0,0,0,0,0,0,0,0,0,0,0,0,0,0,0,0,0,0,0,0,0,0,0,0,0,0,0,0,0,0,0,0,0,0,0,0,0,0,0,0,0,0,0,0,0,0,0,0,0,0,0,0,0,0,0,0,0,0,0,0,0,0,0,0,0,0,0,0,0,0,0,0,0,0,0,0,0,0,0,0,0,0,0,0,0,0,0,0,0,0,0,0,0,0,0,0,0,0,0,0,0,0,0,0,0,0,0,0,0,0,0,0,0,179599.90951427451,0,0,0,0,0,0,0,0,0,0,0,0,0,0,0,0,0,0,0,0,0,0,0,0,0,0,0,0,0,0,0,0,0,0,0,0,0,0,0,0,0,0,0,0,0,0,0,0,0,0,0,0,0,0,0,0,0,0,0,0,0,0,0,0,0,0,0,0,0,0,0,0,0,0,0,0,0,0,0,0,0,0,0,0,0,0,0,0,0,0,0,0,0,0,0,0,0,0,0,0,0,0,0,0,0,0,0,0,0,0,0,0,0,0,0,0,0,0,0,0,0,0,0,0,0,0,0,0,0,0,0,0,0,0,0,0,0,0,0,0,0,0,0,0,0,0,0,0,0,0,0,0,0,0,0,0,0,0,0,0,0,0,0,0,0,0,0,0,0,0,0,0,0,0,0,0,0,0,0,0,0,0,0,0,0,0,0,0,0,0,0,0,0,0,0,0,0,0,0,0,0,0,0,0,0,0,0,0,0,0,0,0,0,0,0,0,0,0,0,0,0,0,0,0,0,0,0,0,0,0,0,0,0,0,0,0,0,0,0,0,0,0,0,0,0,0,0,0,0,0,0,0,0,0,0,0,0,0,0,0,0,0,0,0,0,0,0,0,0,0,0,0,0,0,0,0,0,0,0,0,0,0,0,0,0,0,0,0,0,0,0,0,0,0,0,0,0,0,0,0,0,0,0,0,0,0,0,0,0,0,0,0,0,0,0,0,0,0,0,0,0,0,0,0,0,0,0,0,0,0,0,0,0,0,0,0,0,0,0,0,0,0,0,0,0,0,200790.40141240266,0,0,0,0,0,0,0,0,0,0,0,0,0,0,0,0,0,0,0,0,0,0,0,0,0,0,0,0,0,0,0,0,0,0,0,0,0,0,0,0,0,0,0,0,0,0,0,0,0,0,0,0,0,0,0,0,0,0,0,0,0,0,0,0,0,0,0,0,0,0,0,0,0,0,0,0,0,0,0,0,0,0,0,0,0,0,0,0,0,0,0,0,0,0,0,0,0,0,0,0,0,0,0,0,0,0,0,0,0,0,0,0,0,0,0,0,0,0,0,0,0,0,0,0,0,0,0,0,0,0,0,0,0,0,0,0,0,0,0,0,0,0,0,0,0,0,0,0,0,0,0,0,0,0,0,0,0,0,0,0,0,0,0,0,0,0,0,0,0,0,0,0,0,0,0,0,0,0,0,0,0,0,0,0,0,0]
["Q1",{"$f":"QUARTILE($B206:$ALM206,1)","v":0},{"$f":"QUARTILE($B207:$ALM207,1)","v":0},{"$f":"QUARTILE($B208:$ALM208,1)","v":0},{"$f":"QUARTILE($B209:$ALM209,1)","v":0},{"$f":"QUARTILE($B210:$ALM210,1)","v":0},{"$f":"QUARTILE($B211:$ALM211,1)","v":0},{"$f":"QUARTILE($B212:$ALM212,1)","v":0},{"$f":"QUARTILE($B213:$ALM213,1)","v":0},{"$f":"QUARTILE($B214:$ALM214,1)","v":0},{"$f":"QUARTILE($B215:$ALM215,1)","v":0},{"$f":"QUARTILE($B216:$ALM216,1)","v":0},{"$f":"QUARTILE($B217:$ALM217,1)","v":0},{"$f":"QUARTILE($B218:$ALM218,1)","v":0}]
["Differences (for box plot)","Windy Gap","Willow Creek","Lake Granby","Shadow Mnt.","Grand Lake","East Portal","Mary's Lake","Lake Estes","Pinewood","Flatiron","Horsetooth","Carter Lake","Boulder"]
["Preventative Management Scenario"]
["Shadow Mountain Reservoir",0,0,0,0,0,0,0,0,0,0,0,0,0,0,0,0,0,0,0,0,0,0,0,0,0,0,0,0,0,0,0,0,0,0,0,0,0,0,0,0,0,0,0,0,0,0,0,0,0,0,0,0,0,0,0,0,0,0,0,0,0,0,0,0,0,0,0,0,0,0,0,0,0,0,0,0,0,0,0,0,0,0,0,0,0,0,0,0,0,0,0,0,0,0,0,0,0,0,0,0,0,0,0,0,0,0,0,0,0,0,0,0,0,0,0,0,0,0,0,0,0,0,0,0,0,0,0,0,0,0,0,0,0,0,0,0,0,0,0,0,0,0,0,0,0,0,0,0,0,0,0,0,0,0,0,0,0,0,0,0,0,0,0,0,0,0,0,0,0,0,0,0,0,0,0,0,0,0,0,0,0,0,0,0,0,0,0,0,0,0,0,0,0,0,0,0,0,0,0,0,0,0,0,0,0,0,0,0,0,0,0,0,0,0,0,0,0,0,0,0,0,0,0,0,0,0,0,0,0,0,0,0,0,0,0,0,0,0,0,0,0,0,0,0,0,0,0,0,0,0,0,0,0,0,0,0,0,0,0,0,0,0,0,0,0,0,0,0,0,0,0,0,0,0,0,0,0,0,0,0,0,0,0,0,0,0,0,0,0,0,0,0,0,0,0,0,0,0,0,0,0,0,0,0,0,0,0,0,0,0,0,0,0,0,0,0,0,0,0,0,0,0,0,0,0,0,0,0,0,0,0,0,0,0,0,0,0,0,0,0,0,0,0,0,0,0,0,0,0,0,0,0,0,0,0,0,0,0,0,0,0,0,0,0,0,0,0,0,0,0,0,0,0,0,0,0,0,0,0,0,0,0,0,0,0,0,0,0,0,0,0,0,0,0,0,0,0,0,0,0,0,0,0,0,0,0,0,0,0,0,0,0,0,0,0,0,0,0,0,0,0,0,0,0,0,0,0,0,0,0,0,0,0,0,0,0,0,0,0,0,0,0,0,0,0,0,0,0,0,0,0,0,0,0,0,0,0,0,0,0,0,0,0,0,0,0,0,0,0,0,0,0,0,0,0,0,0,0,0,0,0,0,0,0,0,0,0,0,0,0,0,0,0,0,0,0,0,0,0,0,0,0,0,0,0,0,0,0,0,0,0,0,0,0,0,0,0,0,0,0,0,0,0,0,0,0,0,0,0,0,0,0,0,0,0,0,0,0,0,0,0,0,0,0,0,0,0,0,0,0,0,0,0,0,0,0,0,0,0,0,0,0,0,0,0,0,0,0,0,0,0,0,0,0,0,0,0,0,0,0,0,0,0,0,0,0,0,0,0,0,0,0,0,0,0,0,0,0,0,0,0,0,0,0,0,0,0,0,0,0,0,0,0,0,0,0,0,0,0,0,0,0,0,0,0,0,0,0,0,0,0,0,0,0,0,0,0,0,0,0,0,0,0,0,0,0,0,0,0,0,0,0,0,0,0,0,0,0,0,0,0,0,0,0,0,0,0,0,0,0,0,0,0,0,0,0,0,0,0,0,0,0,0,0,0,0,0,0,0,0,0,0,0,0,0,0,0,0,0,0,0,0,0,0,0,0,0,0,0,0,0,0,0,0,0,0,0,0,0,0,0,0,0,0,0,0,0,0,0,0,0,0,0,0,0,0,0,0,0,0,0,0,0,0,0,0,0,0,0,0,0,0,0,0,0,0,0,0,0,0,0,0,0,0,0,0,0,0,0,0,0,0,0,0,0,0,0,0,0,0,0,0,0,0,0,0,0,0,0,0,0,0,0,0,0,0,0,0,0,0,0,0,0,0,0,0,0,0,0,0,0,0,0,0,0,0,0,0,0,0,0,0,0,0,0,0,0,0,0,0,0,0,0,0,0,0,0,0,0,0,0,0,0,0,0,0,0,0,0,0,0,0,0,0,0,0,0,0,0,0,0,0,0,0,0,0,0,0,0,0,0,0,0,0,0,0,0,0,0,0,0,0,0,0,0,0,0,0,0,0,0,0,0,0,0,0,0,0,0,0,0,0,0,0,0,0,0,0,0,0,0,0,0,0,0,0,0,0,0,0,0,0,0,0,0,0,0,0,0,0,0,0,0,0,0,0,0,0,0,0,0,0,0,0,0,0,0,0,0,0,0,0,0,0,0,0,0,0,0,0,0,0,0,0,0,0,0,0,0,0,0,0,0,0,0,0,0,0,0,0,0,0,0,0,0,0,0,0,0,0,0,0,0,0,0,0,0,0,0,0]
["Pinewood Reservoir",0,0,0,0,0,0,0,0,0,0,0,0,0,0,0,0,0,0,0,0,0,0,0,0,0,0,0,0,0,0,0,0,0,0,0,0,0,0,0,0,0,0,0,0,0,0,0,0,0,0,0,0,0,0,0,0,0,0,0,0,0,0,0,0,0,0,0,0,0,0,0,0,0,0,0,0,0,0,0,0,0,0,0,0,0,0,0,0,0,0,0,0,0,0,0,0,0,0,0,0,0,0,0,0,0,0,0,0,0,0,0,0,0,0,0,0,0,0,0,0,0,0,0,0,0,0,0,0,0,0,0,0,0,0,0,0,0,0,0,0,0,0,0,0,0,0,0,0,0,0,0,0,0,0,0,0,0,0,0,0,0,0,0,0,0,0,0,0,0,0,0,0,0,0,0,0,0,0,0,0,0,0,0,0,0,0,0,0,0,0,0,0,0,0,0,0,0,0,0,0,0,0,0,0,0,0,0,0,0,0,0,0,0,0,0,0,0,0,0,0,0,0,0,0,0,0,0,0,0,0,0,0,0,0,0,0,0,0,0,0,0,0,0,0,0,0,0,0,0,0,0,0,0,0,0,0,0,0,0,0,0,0,0,0,0,0,0,0,0,0,0,0,0,0,0,0,0,0,0,0,0,0,0,0,0,0,0,0,0,0,0,0,0,0,0,0,0,0,0,0,0,0,0,0,0,0,0,0,0,0,0,0,0,0,0,0,0,0,0,0,0,0,0,0,0,0,0,0,0,0,0,0,0,0,0,0,0,0,0,0,0,0,0,0,0,0,0,0,0,0,0,0,0,0,0,0,0,0,0,0,0,0,0,0,0,0,0,0,0,0,0,0,0,0,0,0,0,0,0,0,0,0,0,0,0,0,0,0,0,0,0,0,0,0,0,0,0,0,0,0,0,0,0,0,0,0,0,0,0,0,0,0,0,0,0,0,0,0,0,0,0,0,0,0,0,0,0,0,0,0,0,0,0,0,0,0,0,0,0,0,0,0,0,0,0,0,0,0,0,0,0,0,0,0,0,0,0,0,0,0,0,0,0,0,0,0,0,0,0,0,0,0,0,0,0,0,0,0,0,0,0,0,0,0,0,0,0,0,0,0,0,0,0,0,0,0,0,0,0,0,0,0,0,0,0,0,0,0,0,0,0,0,0,0,0,0,0,0,0,0,0,0,0,0,0,0,0,0,0,0,0,0,0,0,0,0,0,0,0,0,0,0,0,0,0,0,0,0,0,0,0,0,0,0,0,0,0,0,0,0,0,0,0,0,0,0,0,0,0,0,0,0,0,0,0,0,0,0,0,0,0,0,0,0,0,0,0,0,0,0,0,0,0,0,0,0,0,0,0,0,0,0,0,0,0,0,0,0,0,0,0,0,0,0,0,0,0,0,0,0,0,0,0,0,0,0,0,0,0,0,0,0,0,0,0,0,0,0,0,0,0,0,0,0,0,0,0,0,0,0,0,0,0,0,0,0,0,0,0,0,0,0,0,0,0,0,0,0,0,0,0,0,0,0,0,0,0,0,0,0,0,0,0,0,0,0,0,0,0,0,0,0,0,0,0,0,0,0,0,0,0,0,0,0,0,0,0,0,0,0,0,0,0,0,0,0,0,0,0,0,0,0,0,0,0,0,0,0,0,0,0,0,0,0,0,0,0,0,0,0,0,0,0,0,0,0,0,0,0,0,0,0,0,0,0,0,0,0,0,0,0,0,0,0,0,0,0,0,0,0,0,0,0,0,0,0,0,0,0,0,0,0,0,0,0,0,0,0,0,0,0,0,0,0,0,0,0,0,0,0,0,0,0,0,0,0,0,0,0,0,0,0,0,0,0,0,0,0,0,0,0,0,0,0,0,0,0,0,0,0,0,0,0,0,0,0,0,0,0,0,0,0,0,0,0,0,0,0,0,0,0,0,0,0,0,0,0,0,0,0,0,0,0,0,0,0,0,0,0,0,0,0,0,0,0,0,0,0,0,0,0,0,0,0,0,0,0,0,0,0,0,0,0,0,0,0,0,0,0,0,0,0,0,0,0,0,0,0,0,0,0,0,0,0,0,0,0,0,0,0,0,0,0,0,0,0,0,0,0,0,0,0,0,0,0,0,0,0,0,0,0,0,0,0,0,0,0,0,0,0,0,0,0,0,0,0,0,0,0,0,0,0,0,0,0,0,0,0,0,0,0,0,0,0,0,0,0,0,0,0,0,0,0,0,0,0,0,0,0,0,0,0,0,0,0,0,0,0,0,0]
["Flatiron Reservoir",0,0,0,0,0,0,0,0,0,0,0,0,0,0,0,0,0,0,0,0,0,0,0,0,0,0,0,0,0,0,0,0,0,0,0,0,0,0,0,0,0,0,0,0,0,0,0,0,0,0,0,0,0,0,0,0,0,0,0,0,0,0,0,0,0,0,0,0,0,0,0,0,0,0,0,0,0,0,0,0,0,0,0,0,0,0,0,0,0,0,0,0,0,0,0,0,0,0,0,0,0,0,0,0,0,0,0,0,0,0,0,0,0,0,0,0,0,0,0,0,0,0,0,0,0,0,0,0,0,0,0,0,0,0,0,0,0,0,0,0,0,0,0,0,0,0,0,0,0,0,0,0,0,0,0,0,0,0,0,0,0,0,0,0,0,0,0,0,0,0,0,0,0,0,0,0,0,0,0,0,0,0,0,0,0,0,0,0,0,0,0,0,0,0,0,0,0,0,0,0,0,0,0,0,0,0,0,0,0,0,0,0,0,0,0,0,0,0,0,0,0,0,0,0,0,0,0,0,0,0,0,0,0,0,0,0,0,0,0,0,0,0,0,0,0,0,0,0,0,0,0,0,0,0,0,0,0,0,0,0,0,0,0,0,0,0,0,0,0,0,0,0,0,0,0,0,0,0,0,0,0,0,0,0,0,0,0,0,0,0,0,0,0,0,0,0,0,0,0,0,0,0,0,0,0,0,0,0,0,0,0,0,0,0,0,0,0,0,0,0,0,0,0,0,0,0,0,0,0,0,0,0,0,0,0,0,0,0,0,0,0,0,0,0,0,0,0,0,0,0,0,0,0,0,0,0,0,0,0,0,0,0,0,0,0,0,0,0,0,0,0,0,0,0,0,0,0,0,0,0,0,0,0,0,0,0,0,0,0,0,0,0,0,0,0,0,0,0,0,0,0,0,0,0,0,0,0,0,0,0,0,0,0,0,0,0,0,0,0,0,0,0,0,0,0,0,0,0,0,0,0,0,0,0,0,0,0,0,0,0,0,0,0,0,0,0,0,0,0,0,0,0,0,0,0,0,0,0,0,0,0,0,0,0,0,0,0,0,0,0,0,0,0,0,0,0,0,0,0,0,0,0,0,0,0,0,0,0,0,0,0,0,0,0,0,0,0,0,0,0,0,0,0,0,0,0,0,0,0,0,0,0,0,0,0,0,0,0,0,0,0,0,0,0,0,0,0,0,0,0,0,0,0,0,0,0,0,0,0,0,0,0,0,0,0,0,0,0,0,0,0,0,0,0,0,0,0,0,0,0,0,0,0,0,0,0,0,0,0,0,0,0,0,0,0,0,0,0,0,0,0,0,0,0,0,0,0,0,0,0,0,0,0,0,0,0,0,0,0,0,0,0,0,0,0,0,0,0,0,0,0,0,0,0,0,0,0,0,0,0,0,0,0,0,0,0,0,0,0,0,0,0,0,0,0,0,0,0,0,0,0,0,0,0,0,0,0,0,0,0,0,0,0,0,0,0,0,0,0,0,0,0,0,0,0,0,0,0,0,0,0,0,0,0,0,0,0,0,0,0,0,0,0,0,0,0,0,0,0,0,0,0,0,0,0,0,0,0,0,0,0,0,0,0,0,0,0,0,0,0,0,0,0,0,0,0,0,0,0,0,0,0,0,0,0,0,0,0,0,0,0,0,0,0,0,0,0,0,0,0,0,0,0,0,0,0,0,0,0,0,0,0,0,0,0,0,0,0,0,0,0,0,0,0,0,0,0,0,0,0,0,0,0,0,0,0,0,0,0,0,0,0,0,0,0,0,0,0,0,0,0,0,0,0,0,0,0,0,0,0,0,0,0,0,0,0,0,0,0,0,0,0,0,0,0,0,0,0,0,0,0,0,0,0,0,0,0,0,0,0,0,0,0,0,0,0,0,0,0,0,0,0,0,0,0,0,0,0,0,0,0,0,0,0,0,0,0,0,0,0,0,0,0,0,0,0,0,0,0,0,0,0,0,0,0,0,0,0,0,0,0,0,0,0,0,0,0,0,0,0,0,0,0,0,0,0,0,0,0,0,0,0,0,0,0,0,0,0,0,0,0,0,0,0,0,0,0,0,0,0,0,0,0,0,0,0,0,0,0,0,0,0,0,0,0,0,0,0,0,0,0,0,0,0,0,0,0,0,0,0,0,0,0,0,0,0,0,0,0,0,0,0,0,0,0,0,0,0,0,0,0,0,0,0,0,0,0,0,0,0,0,0,0,0,0,0,0,0,0,0,0,0,0,0,0,0,0,0,0,0]
["Median",{"$f":"MEDIAN($B234:$ALM234)","v":0},{"$f":"MEDIAN($B235:$ALM235)","v":0},{"$f":"MEDIAN($B236:$ALM236)","v":0},{"$f":"MEDIAN($B237:$ALM237)","v":0},{"$f":"MEDIAN($B238:$ALM238)","v":0},{"$f":"MEDIAN($B239:$ALM239)","v":0},{"$f":"MEDIAN($B240:$ALM240)","v":0},{"$f":"MEDIAN($B241:$ALM241)","v":0},{"$f":"MEDIAN($B242:$ALM242)","v":0},{"$f":"MEDIAN($B243:$ALM243)","v":0},{"$f":"MEDIAN($B244:$ALM244)","v":0},{"$f":"MEDIAN($B245:$ALM245)","v":0},{"$f":"MEDIAN($B246:$ALM246)","v":0}]
["Max",{"$f":"MAX($B234:$ALM234)","v":0},{"$f":"MAX($B235:$ALM235)","v":0},{"$f":"MAX($B236:$ALM236)","v":0},{"$f":"MAX($B237:$ALM237)","v":0},{"$f":"MAX($B238:$ALM238)","v":0},{"$f":"MAX($B239:$ALM239)","v":0},{"$f":"MAX($B240:$ALM240)","v":0},{"$f":"MAX($B241:$ALM241)","v":0},{"$f":"MAX($B242:$ALM242)","v":0},{"$f":"MAX($B243:$ALM243)","v":0},{"$f":"MAX($B244:$ALM244)","v":13609248.0339047},{"$f":"MAX($B245:$ALM245)","v":0},{"$f":"MAX($B246:$ALM246)","v":0}]
["Q3",{"$f":"B251-B250","v":0},{"$f":"C251-C250","v":0},0,0,0,{"$f":"G251-G250","v":0},0,0,0,0,0,0,0]
["Q1_bc",{"$f":"B228","v":0},null,{"$f":"C228","v":0},null,{"$f":"D228","v":0},null,{"$f":"E228","v":0},null,{"$f":"F228","v":0},null,{"$f":"G228","v":0},null,{"$f":"H228","v":0},null,{"$f":"I228","v":0},null,{"$f":"J228","v":0},null,{"$f":"K228","v":0},null,{"$f":"L228","v":0},null,{"$f":"M228","v":0},null,{"$f":"N228","v":0}]
["Median_pm",null,0,null,0,null,0,null,0,null,0,null,0,null,{"$f":"H257","v":0},null,{"$f":"I257","v":0},null,{"$f":"J257","v":0},null,{"$f":"K257","v":0},null,{"$f":"L257","v":0},null,{"$f":"M257","v":0},null,{"$f":"N257","v":0}]
["Cause of Establishment"]
["Lake Granby","not established","not established","not established","not established","not established","not established","not established","not established","not established","not established","not established","not established","not established","not established","not established","not established","not established","not established","not established","not established","not established","not established","not established","not established","not established","not established","not established","boats","not established","not established","boats","not established","not established","not established","not established","not established","not established","not established","not established","not established","not established","not established","not established","not established","not established","not established","not established","not established","not established","not established","boats","not established","not established","not established","not established","not established","not established","not established","not established","not established","not established","not established","not established","not established","not established","not established","not established","not established","not established","not established","not established","not established","not established","not established","not established","not established","not established","not established","boats","not established","not established","not established","not established","not established","not established","not established","not established","not established","not established","not established","not established","not established","not established","not established","not established","not established","not established","not established","not established","not established","not established","not established","not established","not established","not established","not established","not established","not established","not established","not established","not established","not established","not established","not established","not established","not established","not established","boats","boats","boats","not established","not established","not established","not established","not established","not established","not established","not established","not established","not established","not established","not established","not established","boats","not established","not established","not established","not established","boats","not established","not established","not established","not established","not established","not established","not established","not established","not established","not established","not established","not established","not established","not established","not established","not established","not established","not established","not established","not established","not established","boats","not established","not established","not established","not established","not established","not established","not established","not established","not established","not established","boats","not established","not established","not established","not established","not established","not established","not established","not established","boats","not established","not established","boats","not established","not established","not established","not established","not established","not established","not established","not established","not established","not established","not established","not established","not established","not established","not established","not established","not established","not established","not established","not established","not established","not established","not established","not established","not established","not established","not established","not established","not established","not established","not established","not established","not established","not established","not established","boats","not established","not established","boats","not established","not established","not established","not established","not established","not established","not established","not established","not established","not established","not established","not established","not established","not established","not established","not established","boats","not established","not established","not established","not established","boats","not established","not established","not established","not established","not established","not established","not established","not established","not established","not established","not established","not established","not established","not established","not established","not established","not established","not established","not established","not established","not established","not established","not established","not established","not established","not established","not established","not established","not established","not established","not established","not established","not established","not established","not established","boats","not established","not established","not established","boats","not established","not established","not established","not established","not established","not established","not established","not established","not established","not established","not established","not established","boats","not established","not established","not established","not established","not established","not established","not established","not established","not established","not established","not established","not established","not established","not established","not established","not established","not established","not established","not established","not established","not established","not established","not established","not established","not established","not established","not established","not established","not established","not established","not established","not established","not established","not established","not established","not established","not established","not established","not established","not established","not established","not established","not established","not established","not established","not established","not established","not established","not established","not established","not established","not established","not established","not established","not established","not established","not established","not established","not established","not established","not established","not established","not established","not established","not established","not established","not established","not established","not established","not established","not established","not established","not established","not established","not established","not established","not established","not established","not established","not established","not established","not established","not established","not established","not established","boats","not established","not established","not established","not established","not established","not established","boats","not established","not established","not established","not established","not established","not established","not established","not established","not established","not established","not established","not established","not established","not established","not established","not established","not established","not established","not established","not established","not established","not established","not established","not established","not established","not established","not established","not established","not established","not established","not established","not established","not established","not established","not established","not established","not established","not established","not established","not established","not established","not established","not established","not established","not established","not established","not established","not established","not established","not established","not established","not established","not established","not established","not established","not established","not established","not established","not established","not established","not established","not established","not established","not established","not established","not established","not established","not established","not established","not established","not established","not established","not established","not established","not established","not established","not established","not established","not established","not established","not established","not established","not established","not established","not established","not established","not established","not established","not established","not established","not established","not established","not established","not established","not established","not established","not established","not established","not established","not established","not established","not established","not established","not established","not established","not established","not established","not established","not established","not established","not established","not established","not established","not established","boats","not established","not established","not established","not established","not established","not established","not established","not established","not established","not established","not established","not established","not established","not established","not established","not established","not established","not established","not established","not established","boats","not established","not established","not established","not established","not established","not established","not established","not established","not established","not established","not established","not established","not established","not established","boats","not established","not established","not established","not established","not established","not established","not established","not established","boats","not established","not established","not established","not established","not established","not established","not established","not established","not established","not established","not established","not established","not established","not established","not established","not established","not established","not established","not established","not established","not established","not established","not established","not established","not established","not established","not established","not established","not established","not established","not established","not established","not established","not established","not established","not established","not established","not established","not established","not established","not established","not established","not established","not established","not established","not established","not established","not established","boats","not established","not established","not established","not established","not established","not established","not established","not established","not established","boats","not established","not established","not established","not established","not established","boats","not established","not established","not established","not established","not established","not established","not established","not established","not established","not established","not established","not established","not established","not established","not established","not established","not established","not established","not established","boats","not established","not established","not established","not established","not established","not established","not established","not established","not established","not established","not established","not established","not established","not established","not established","not established","not established","not established","not established","not established","not established","not established","not established","not established","not established","not established","not established","not established","not established","not established","not established","not established","not established","not established","not established","not established","not established","not established","not established","not established","not established","not established","not established","not established","not established","not established","not established","not established","not established","not established","not established","not established","not established","not established","boats","not established","not established","not established","not established","not established","not established","not established","not established","boats","not established","not established","not established","not established","not established","not established","not established","not established","not established","not established","not established","not established","not established","not established","not established","not established","not established","not established","not established","not established","not established","not established","not established","not established","not established","not established","not established","not established","not established","not established","not established","not established","not established","not established","not established","not established","not established","boats","not established","not established","not established","not established","not established","not established","not established","not established","not established","not established","not established","not established","not established","not established","not established","not established","not established","not established","not established","not established","not established","not established","not established","not established","not established","not established","not established","boats","not established","not established","not established","not established","not established","not established","not established","not established","boats","not established","not established","not established","not established","not established","not established","not established","not established","not established","not established","not established","not established","not established","not established","not established","not established","not established","boats","boats","not established","not established","boats","not established","not established","not established","not established","not established","not established","not established","not established","not established","not established","not established","not established","not established","not established","not established","not established","not established","not established","not established","not established","not established","boats","not established","not established","not established","not established","not established","not established","not established","not established","not established","not established","boats","not established","not established","not established","not established","not established","not established","not established","not established","not established","not established","not established","not established","not established","not established","not established","not established","not established","not established","not established","not established","not established","not established","not established","not established","not established","not established","not established","not established","not established","not established","not established","not established","not established","not established","not established","not established","not established","not established","not established","not established","not established","not established","not established","not established","not established","not established","not established","not established","not established","not established","not established","boats","not established","not established","not established","not established","not established","not established","not established","not established","not established","not established","not established","not established","not established","not established","not established","not established","not established","not established","not established","not established","not established","not established","not established","not established","not established","not established","not established","not established","not established","boats","not established","not established","not established","not established","not established","not established","not established","not established","not established","not established","not established","not established","not established","not established","not established","not established","not established","not established","not established","not established","not established","not established","not established","not established","not established","not established","not established","not established","not established","not established","not established","not established","not established","not established","not established","not established","not established","not established","not established","not established","not established","not established","not established","not established","boats","not established","not established","not established","not established","not established","not established","not established","not established","not established","not established","not established","not established","not established","not established","not established","not established","not established","not established","not established","not established","not established","not established","not established","not established","not established","not established","not established","not established","not established","not established","not established","not established","not established","not established","not established","not established","not established","not established","not established","not established","not established","not established","not established"]
["Pinewood Reservoir","not established","not established","not established","not established","not established","not established","not established","not established","not established","not established","not established","not established","not established","not established","not established","not established","not established","not established","not established","not established","not established","not established","not established","not established","not established","not established","not established","not established","not established","not established","not established","not established","not established","not established","not established","not established","not established","not established","not established","not established","not established","not established","not established","not established","not established","not established","not established","not established","not established","not established","not established","not established","not established","not established","not established","not established","not established","not established","not established","not established","not established","not established","not established","not established","not established","not established","not established","not established","not established","not established","not established","not established","not established","not established","not established","not established","not established","not established","not established","not established","not established","not established","not established","not established","not established","not established","not established","not established","not established","not established","not established","not established","not established","not established","not established","not established","not established","not established","not established","not established","not established","not established","not established","not established","not established","not established","not established","not established","not established","not established","not established","not established","not established","not established","not established","not established","not established","not established","not established","not established","not established","not established","not established","not established","not established","not established","not established","not established","not established","not established","not established","not established","not established","not established","not established","not established","not established","not established","not established","not established","not established","not established","not established","not established","not established","not established","not established","not established","not established","not established","not established","not established","not established","not established","not established","not established","not established","not established","not established","not established","not established","not established","not established","not established","not established","not established","not established","not established","not established","not established","not established","not established","not established","not established","not established","not established","not established","not established","not established","not established","not established","not established","not established","not established","not established","not established","not established","not established","not established","not established","not established","not established","not established","not established","not established","not established","not established","not established","not established","not established","not established","not established","not established","not established","not established","not established","not established","not established","not established","not established","not established","not established","not established","not established","not established","not established","not established","not established","not established","not established","not established","not established","not established","not established","not established","not established","not established","not established","not established","not established","not established","not established","not established","not established","not established","not established","not established","not established","not established","not established","not established","not established","not established","not established","not established","not established","not established","not established","not established","not established","not established","not established","not established","not established","not established","not established","not established","not established","not established","not established","not established","not established","not established","not established","not established","not established","not established","not established","not established","not established","not established","not established","not established","not established","not established","not established","not established","not established","not established","not established","not established","not established","not established","not established","not established","not established","not established","not established","not established","not established","not established","not established","not established","not established","not established","not established","not established","not established","not established","not established","not established","not established","not established","not established","not established","not established","not established","not established","not established","not established","not established","not established","not established","not established","not established","not established","not established","not established","not established","not established","not established","not established","not established","not established","not established","not established","not established","not established","not established","not established","not established","not established","not established","not established","not established","not established","not established","not established","not established","not established","not established","not established","not established","not established","not established","not established","not established","not established","not established","not established","not established","not established","not established","not established","not established","not established","not established","not established","not established","not established","not established","not established","not established","not established","not established","not established","not established","not established","not established","not established","not established","not established","not established","not established","not established","not established","not established","not established","not established","not established","not established","not established","not established","not established","not established","not established","not established","not established","not established","not established","not established","not established","not established","not established","not established","not established","not established","not established","not established","not established","not established","not established","not established","not established","not established","not established","not established","not established","not established","not established","not established","not established","not established","not established","not established","not established","not established","not established","not established","not established","not established","not established","not established","not established","not established","not established","not established","not established","not established","not established","not established","not established","not established","not established","not established","not established","not established","not established","not established","not established","not established","not established","not established","not established","not established","not established","not established","not established","not established","not established","not established","not established","not established","not established","not established","not established","not established","not established","not established","not established","not established","not established","not established","not established","not established","not established","not established","not established","not established","not established","not established","not established","not established","not established","not established","not established","not established","not established","not established","not established","not established","not established","not established","not established","not established","not established","not established","not established","not established","not established","not established","not established","not established","not established","not established","not established","not established","not established","not established","not established","not established","not established","not established","not established","not established","not established","not established","not established","not established","not established","not established","not established","not established","not established","not established","not established","not established","not established","not established","not established","not established","not established","not established","not established","not established","not established","not established","not established","not established","not established","not established","not established","not established","not established","not established","not established","not established","not established","not established","not established","not established","not established","not established","not established","not established","not established","not established","not established","not established","not established","not established","not established","not established","not established","not established","not established","not established","not established","not established","not established","not established","not established","not established","not established","not established","not established","not established","not established","not established","not established","not established","not established","not established","not established","not established","not established","not established","not established","not established","not established","not established","not established","not established","not established","not established","not established","not established","not established","not established","not established","not established","not established","not established","not established","not established","not established","not established","not established","not established","not established","not established","not established","not established","not established","not established","not established","not established","not established","not established","not established","not established","not established","not established","not established","not established","not established","not established","not established","not established","not established","not established","not established","not established","not established","not established","not established","not established","not established","not established","not established","not established","not established","not established","not established","not established","not established","not established","not established","not established","not established","not established","not established","not established","not established","not established","not established","not established","not established","not established","not established","not established","not established","not established","not established","not established","not established","not established","not established","not established","not established","not established","not established","not established","not established","not established","not established","not established","not established","not established","not established","not established","not established","not established","not established","not established","not established","not established","not established","not established","not established","not established","not established","not established","not established","not established","not established","not established","not established","not established","not established","not established","not established","not established","not established","not established","not established","not established","not established","not established","not established","not established","not established","not established","not established","not established","not established","not established","not established","not established","not established","not established","not established","not established","not established","not established","not established","not established","not established","not established","not established","not established","not established","not established","not established","not established","not established","not established","not established","not established","not established","not established","not established","not established","not established","not established","not established","not established","not established","not established","not established","not established","not established","not established","not established","not established","not established","not established","not established","not established","not established","not established","not established","not established","not established","not established","not established","not established","not established","not established","not established","not established","not established","not established","not established","not established","not established","not established","not established","not established","not established","not established","not established","not established","not established","not established","not established","not established","not established","not established","not established","not established","not established","not established","not established","not established","not established","not established","not established","not established","not established","not established","not established","not established","not established","not established","not established","not established","not established","not established","not established","not established","not established","not established","not established","not established","not established","not established","not established","not established","not established","not established","not established","not established","not established","not established","not established","not established","not established","not established","not established","not established","not established","not established","not established","not established","not established","not established","not established","not established","not established","not established","not established","not established","not established","not established","not established","not established","not established","not established","not established","not established","not established","not established","not established","not established","not established","not established","not established","not established","not established","not established","not established","not established","not established","not established","not established","not established","not established","not established","not established","not established","not established","not established","not established","not established","not established","not established","not established","not established","not established","not established","not established","not established","not established","not established","not established","not established","not established","not established","not established","not established","not established","not established","not established","not established","not established","not established","not established","not established","not established","not established","not established","not established","not established","not established","not established","not established","not established","not established","not established","not established","not established","not established","not established","not established","not established","not established","not established","not established","not established","not established","not established","not established","not established","not established","not established","not established","not established","not established","not established","not established","not established","not established","not established","not established","not established","not established","not established","not established","not established","not established","not established","not established","not established","not established","not established","not established","not established","not established","not established","not established","not established","not established","not established","not established","not established","not established","not established","not established","not established","not established","not established","not established","not established","not established","not established","not established","not established","not established","not established","not established","not established","not established","not established","not established","not established","not established","not established","not established","not established","not established","not established","not established","not established","not established","not established","not established","not established","not established","not established","not established","not established","not established","not established","not established","not established","not established","not established","not established","not established","not established","not established","not established","not established","not established","not established","not established","not established","not established","not established"]
["Boulder Reservoir","boats","not established","not established","not established","not established","not established","not established","not established","boats","not established","not established","not established","not established","not established","not established","not established","not established","not established","not established","not established","not established","not established","not established","not established","not established","not established","not established","not established","boats","boats","not established","not established","not established","not established","not established","not established","not established","not established","not established","not established","not established","not established","not established","not established","boats","not established","not established","boats","not established","not established","not established","boats","not established","not established","not established","not established","boats","boats","not established","not established","not established","not established","not established","not established","not established","boats","not established","not established","not established","not established","not established","not established","boats","not established","not established","not established","not established","not established","not established","not established","not established","not established","not established","not established","not established","not established","not established","not established","not established","not established","not established","not established","not established","not established","not established","not established","boats","not established","not established","not established","not established","not established","not established","not established","not established","not established","not established","not established","boats","not established","not established","not established","not established","not established","not established","not established","not established","not established","not established","not established","not established","not established","not established","not established","not established","not established","boats","not established","not established","not established","not established","not established","boats","not established","not established","not established","not established","not established","not established","not established","not established","not established","not established","not established","not established","not established","not established","not established","not established","not established","not established","not established","not established","not established","not established","not established","not established","not established","not established","not established","not established","not established","not established","not established","not established","not established","not established","not established","not established","not established","not established","not established","not established","not established","not established","boats","not established","boats","not established","not established","not established","not established","not established","not established","not established","not established","not established","not established","not established","not established","not established","not established","not established","boats","boats","boats","not established","not established","not established","not established","not established","not established","boats","not established","not established","not established","not established","not established","not established","boats","not established","boats","not established","boats","not established","not established","not established","not established","boats","not established","not established","not established","not established","not established","not established","not established","not established","not established","not established","not established","not established","not established","not established","not established","not established","not established","not established","boats","not established","not established","not established","not established","not established","not established","not established","not established","not established","not established","not established","not established","not established","not established","not established","boats","not established","not established","not established","not established","boats","not established","not established","boats","not established","not established","not established","not established","not established","not established","not established","not established","not established","not established","not established","not established","not established","not established","not established","not established","not established","not established","not established","not established","not established","not established","not established","boats","boats","not established","not established","not established","not established","not established","not established","not established","not established","not established","not established","not established","not established","not established","boats","not established","not established","boats","boats","not established","not established","not established","not established","not established","boats","boats","not established","not established","not established","not established","not established","not established","boats","not established","not established","not established","not established","not established","not established","boats","not established","not established","not established","not established","not established","not established","not established","not established","not established","not established","boats","not established","not established","not established","not established","not established","boats","not established","not established","boats","not established","not established","not established","not established","not established","not established","boats","not established","not established","not established","not established","not established","not established","not established","not established","not established","not established","not established","not established","not established","not established","boats","not established","not established","not established","not established","not established","not established","not established","not established","not established","not established","not established","not established","not established","not established","not established","not established","not established","boats","not established","not established","boats","boats","not established","not established","not established","not established","not established","not established","not established","not established","not established","not established","not established","not established","not established","not established","not established","not established","not established","not established","not established","not established","not established","not established","not established","not established","not established","not established","not established","not established","not established","not established","not established","not established","not established","boats","not established","boats","not established","not established","not established","boats","boats","not established","not established","not established","not established","not established","not established","not established","not established","not established","not established","not established","not established","not established","not established","not established","not established","not established","not established","not established","not established","not established","not established","not established","not established","not established","not established","not established","not established","boats","not established","not established","not established","not established","not established","not established","not established","boats","not established","not established","not established","not established","not established","not established","not established","not established","not established","not established","not established","not established","not established","not established","not established","not established","not established","not established","not established","not established","not established","not established","not established","not established","not established","boats","not established","boats","not established","not established","not established","not established","boats","not established","not established","not established","not established","not established","not established","not established","boats","not established","not established","not established","not established","not established","not established","not established","not established","not established","boats","boats","not established","not established","not established","not established","boats","not established","not established","not established","not established","boats","not established","not established","boats","not established","not established","not established","not established","not established","boats","not established","not established","not established","not established","not established","not established","not established","not established","not established","not established","not established","not established","boats","not established","boats","not established","boats","not established","not established","not established","not established","not established","not established","not established","not established","not established","not established","not established","not established","not established","not established","not established","not established","not established","not established","not established","not established","not established","not established","not established","not established","not established","not established","boats","not established","boats","boats","not established","not established","not established","not established","not established","not established","boats","boats","not established","not established","not established","not established","not established","not established","not established","not established","not established","not established","boats","not established","not established","not established","not established","not established","not established","not established","not established","not established","not established","not established","not established","not established","not established","not established","not established","not established","not established","boats","not established","not established","not established","not established","not established","boats","not established","boats","not established","not established","not established","not established","not established","not established","not established","boats","not established","not established","not established","not established","not established","not established","not established","not established","not established","not established","not established","boats","not established","boats","not established","not established","not established","not established","boats","not established","not established","not established","not established","not established","not established","not established","not established","not established","not established","not established","not established","boats","not established","not established","not established","not established","not established","not established","not established","not established","not established","boats","not established","not established","boats","not established","not established","not established","not established","not established","not established","not established","not established","not established","not established","not established","not established","not established","not established","not established","not established","not established","not established","not established","not established","not established","boats","not established","not established","not established","not established","not established","not established","not established","not established","not established","not established","not established","not established","not established","not established","not established","not established","not established","not established","boats","not established","boats","not established","not established","not established","not established","not established","not established","not established","not established","not established","not established","not established","not established","not established","not established","not established","not established","boats","not established","not established","not established","boats","not established","not established","not established","not established","boats","not established","not established","not established","not established","not established","not established","not established","not established","boats","not established","not established","not established","not established","not established","boats","not established","not established","not established","not established","not established","boats","not established","not established","boats","not established","boats","not established","not established","not established","not established","not established","not established","not established","not established","boats","not established","not established","not established","boats","not established","not established","not established","boats","not established","not established","not established","not established","not established","not established","not established","not established","not established","boats","not established","not established","not established","not established","not established","not established","not established","boats","not established","not established","boats","not established","not established","not established","not established","not established","not established","not established","not established","not established","not established","not established","not established","not established","not established","not established","not established","not established","not established","not established","not established","not established","not established","boats","boats","not established","not established","not established","not established","not established","boats","boats","not established","not established","not established","not established","not established","not established","boats","boats","not established","not established","not established","boats","not established","not established","not established","not established","not established","not established","not established","not established","boats","not established","not established","not established","not established","not established","not established","not established","boats","boats","not established","not established","not established","not established","not established","not established","not established","not established","not established","not established","boats","not established","boats","not established","not established","not established","not established","not established","not established","not established","not established","boats","not established","not established","not established","boats","not established","not established","not established","not established","not established","not established","not established","not established","boats","not established","boats","not established","boats","not established","not established","boats","boats","not established","not established","not established","not established","not established","not established","not established","not established","not established","not established","not established","not established","not established","not established","not established","not established","boats","not established","not established","not established","not established","not established","not established","not established","not established","boats","not established","not established","boats","not established","not established","not established","not established","boats","not established","not established","not established","not established","not established","not established","not established","not established","not established","not established","not established","boats","not established","not established","not established","not established","not established","not established","not established","not established","not established","not established","not established","not established","not established","boats","boats","not established","not established","boats","not established","not established","not established","not established","not established","not established","boats","not established","not established","not established","boats","not established","not established","not established"]
["Lake Granby","not established","not established","not established","not established","not established","not established","not established","not established","not established","not established","not established","not established","not established","not established","not established","not established","not established","not established","not established","not established","not established","not established","not established","not established","not established","not established","not established","not established","not established","not established","not established","not established","not established","not established","not established","not established","not established","not established","not established","not established","not established","not established","not established","not established","not established","not established","not established","not established","not established","not established","not established","not established","not established","not established","not established","not established","not established","not established","not established","not established","not established","not established","not established","not established","not established","not established","not established","not established","not established","not established","not established","not established","not established","not established","not established","not established","not established","not established","not established","not established","not established","not established","not established","not established","not established","not established","not established","not established","not established","not established","not established","not established","not established","not established","not established","not established","not established","not established","not established","not established","not established","not established","not established","not established","not established","not established","not established","not established","not established","not established","not established","not established","not established","not established","not established","not established","not established","not established","not established","not established","not established","not established","not established","not established","not established","not established","not established","not established","not established","not established","not established","not established","not established","not established","not established","not established","not established","not established","not established","not established","not established","not established","not established","not established","not established","not established","not established","not established","not established","not established","not established","not established","not established","not established","not established","not established","not established","not established","not established","not established","not established","not established","not established","not established","not established","not established","not established","not established","not established","not established","not established","not established","not established","not established","not established","not established","not established","not established","not established","not established","not established","not established","not established","not established","not established","not established","not established","not established","not established","not established","not established","not established","not established","not established","not established","not established","not established","not established","not established","not established","not established","not established","not established","not established","not established","not established","not established","not established","not established","not established","not established","not established","not established","not established","not established","not established","not established","not established","not established","not established","not established","not established","not established","not established","not established","not established","not established","not established","not established","not established","not established","not established","not established","not established","not established","not established","not established","not established","not established","not established","not established","not established","not established","not established","not established","not established","not established","not established","not established","not established","not established","not established","not established","not established","not established","not established","not established","not established","not established","not established","not established","not established","not established","not established","not established","not established","not established","not established","not established","not established","not established","not established","not established","not established","not established","not established","not established","not established","not established","not established","not established","not established","not established","not established","not established","not established","not established","not established","not established","not established","not established","not established","not established","not established","not established","not established","not established","not established","not established","not established","not established","not established","not established","not established","not established","not established","not established","not established","not established","not established","not established","not established","not established","not established","not established","not established","not established","not established","not established","not established","not established","not established","not established","not established","not established","not established","not established","not established","not established","not established","not established","not established","not established","not established","not established","not established","not established","not established","not established","not established","not established","not established","not established","not established","not established","not established","not established","not established","not established","not established","not established","not established","not established","not established","not established","not established","not established","not established","not established","not established","not established","not established","not established","not established","not established","not established","not established","not established","not established","not established","not established","not established","not established","not established","not established","not established","not established","not established","not established","not established","not established","not established","not established","not established","not established","not established","not established","not established","not established","not established","not established","not established","not established","not established","not established","not established","not established","not established","not established","not established","not established","not established","not established","not established","not established","not established","not established","not established","not established","not established","not established","not established","not established","not established","not established","not established","not established","not established","not established","not established","not established","not established","not established","not established","not established","not established","not established","not established","not established","not established","not established","not established","not established","not established","not established","not established","not established","not established","not established","not established","not established","not established","not established","not established","not established","not established","not established","not established","not established","not established","not established","not established","not established","not established","not established","not established","not established","not established","not established","not established","not established","not established","not established","not established","not established","not established","not established","not established","not established","not established","not established","not established","not established","not established","not established","not established","not established","not established","not established","not established","not established","not established","not established","not established","not established","not established","not established","not established","not established","not established","not established","not established","not established","not established","not established","not established","not established","not established","not established","not established","not established","not established","not established","not established","not established","not established","not established","not established","not established","not established","not established","not established","not established","not established","not established","not established","not established","not established","not established","not established","not established","not established","not established","not established","not established","not established","not established","not established","not established","not established","not established","not established","not established","not established","not established","not established","not established","not established","not established","not established","not established","not established","not established","not established","not established","not established","not established","not established","not established","not established","not established","not established","not established","not established","not established","not established","not established","not established","not established","not established","not established","not established","not established","not established","not established","not established","not established","not established","not established","not established","not established","not established","not established","not established","not established","not established","not established","not established","not established","not established","not established","not established","not established","not established","not established","not established","not established","not established","not established","not established","not established","not established","not established","not established","not established","not established","not established","not established","not established","not established","not established","not established","not established","not established","not established","not established","not established","not established","not established","not established","not established","not established","not established","not established","not established","not established","not established","not established","not established","not established","not established","not established","not established","not established","not established","not established","not established","not established","not established","not established","not established","not established","not established","not established","not established","not established","not established","not established","not established","not established","not established","not established","not established","not established","not established","not established","not established","not established","not established","not established","not established","not established","not established","not established","not established","not established","not established","not established","not established","not established","not established","not established","not established","not established","not established","not established","not established","not established","not established","not established","not established","not established","not established","not established","not established","not established","not established","not established","not established","not established","not established","not established","not established","not established","not established","not established","not established","not established","not established","not established","not established","not established","not established","not established","not established","not established","not established","not established","not established","not established","not established","not established","not established","not established","not established","not established","not established","not established","not established","not established","not established","not established","not established","not established","not established","not established","not established","not established","not established","not established","not established","not established","not established","not established","not established","not established","not established","not established","not established","not established","not established","not established","not established","not established","not established","not established","not established","not established","not established","not established","not established","not established","not established","not established","not established","not established","not established","not established","not established","not established","not established","not established","not established","not established","not established","not established","not established","not established","not established","not established","not established","not established","not established","not established","not established","not established","not established","not established","not established","not established","not established","not established","not established","not established","not established","not established","not established","not established","not established","not established","not established","not established","not established","not established","not established","not established","not established","not established","not established","not established","not established","not established","not established","not established","not established","not established","not established","not established","not established","not established","not established","not established","not established","not established","not established","not established","not established","not established","not established","not established","not established","not established","not established","not established","not established","not established","not established","not established","not established","not established","not established","not established","not established","not established","not established","not established","not established","not established","not established","not established","not established","not established","not established","not established","not established","not established","not established","not established","not established","not established","not established","not established","not established","not established","not established","not established","not established","not established","not established","not established","not established","not established","not established","not established","not established","not established","not established","not established","not established","not established","not established","not established","not established","not established","not established","not established","not established","not established","not established","not established","not established","not established","not established","not established","not established","not established","not established","not established","not established","not established","not established","not established","not established","not established","not established","not established","not established","not established","not established","not established","not established","not established","not established","not established","not established","not established","not established","not established","not established","not established","not established","not established","not established","not established","not established","not established","not established","not established","not established","not established","not established","not established","not established","not established","not established","not established","not established","not established","not established","not established","not established","not established","not established","not established","not established","not established","not established","not established","not established","not established","not established","not established","not established","not established","not established","not established","not established","not established","not established","not established","not established","not established","not established","not established","not established","not established","not established","not established","not established","not established","not established","not established","not established","not established","not established","not established","not established","not established","not established","not established","not established","not established","not established","not established","not established","not established","not established","not established","not established","not established","not established","not established","not established","not established","not established","not established","not established","not established","not established","not established","not established","not established","not established","not established","not established","not established","not established","not established","not established","not established","not established","not established","not established","not established","not established","not established","not established","not established","not established","not established"]
["Pinewood Reservoir","not established","not established","not established","not established","not established","not established","not established","not established","not established","not established","not established","not established","not established","not established","not established","not established","not established","not established","not established","not established","not established","not established","not established","not established","not established","not established","not established","not established","not established","not established","not established","not established","not established","not established","not established","not established","not established","not established","not established","not established","not established","not established","not established","not established","not established","not established","not established","not established","not established","not established","not established","not established","not established","not established","not established","not established","not established","not established","not established","not established","not established","not established","not established","not established","not established","not established","not established","not established","not established","not established","not established","not established","not established","not established","not established","not established","not established","not established","not established","not established","not established","not established","not established","not established","not established","not established","not established","not established","not established","not established","not established","not established","not established","not established","not established","not established","not established","not established","not established","not established","not established","not established","not established","not established","not established","not established","not established","not established","not established","not established","not established","not established","not established","not established","not established","not established","not established","not established","not established","not established","not established","not established","not established","not established","not established","not established","not established","not established","not established","not established","not established","not established","not established","not established","not established","not established","not established","not established","not established","not established","not established","not established","not established","not established","not established","not established","not established","not established","not established","not established","not established","not established","not established","not established","not established","not established","not established","not established","not established","not established","not established","not established","not established","not established","not established","not established","not established","not established","not established","not established","not established","not established","not established","not established","not established","not established","not established","not established","not established","not established","not established","not established","not established","not established","not established","not established","not established","not established","not established","not established","not established","not established","not established","not established","not established","not established","not established","not established","not established","not established","not established","not established","not established","not established","not established","not established","not established","not established","not established","not established","not established","not established","not established","not established","not established","not established","not established","not established","not established","not established","not established","not established","not established","not established","not established","not established","not established","not established","not established","not established","not established","not established","not established","not established","not established","not established","not established","not established","not established","not established","not established","not established","not established","not established","not established","not established","not established","not established","not established","not established","not established","not established","not established","not established","not established","not established","not established","not established","not established","not established","not established","not established","not established","not established","not established","not established","not established","not established","not established","not established","not established","not established","not established","not established","not established","not established","not established","not established","not established","not established","not established","not established","not established","not established","not established","not established","not established","not established","not established","not established","not established","not established","not established","not established","not established","not established","not established","not established","not established","not established","not established","not established","not established","not established","not established","not established","not established","not established","not established","not established","not established","not established","not established","not established","not established","not established","not established","not established","not established","not established","not established","not established","not established","not established","not established","not established","not established","not established","not established","not established","not established","not established","not established","not established","not established","not established","not established","not established","not established","not established","not established","not established","not established","not established","not established","not established","not established","not established","not established","not established","not established","not established","not established","not established","not established","not established","not established","not established","not established","not established","not established","not established","not established","not established","not established","not established","not established","not established","not established","not established","not established","not established","not established","not established","not established","not established","not established","not established","not established","not established","not established","not established","not established","not established","not established","not established","not established","not established","not established","not established","not established","not established","not established","not established","not established","not established","not established","not established","not established","not established","not established","not established","not established","not established","not established","not established","not established","not established","not established","not established","not established","not established","not established","not established","not established","not established","not established","not established","not established","not established","not established","not established","not established","not established","not established","not established","not established","not established","not established","not established","not established","not established","not established","not established","not established","not established","not established","not established","not established","not established","not established","not established","not established","not established","not established","not established","not established","not established","not established","not established","not established","not established","not established","not established","not established","not established","not established","not established","not established","not established","not established","not established","not established","not established","not established","not established","not established","not established","not established","not established","not established","not established","not established","not established","not established","not established","not established","not established","not established","not established","not established","not established","not established","not established","not established","not established","not established","not established","not established","not established","not established","not established","not established","not established","not established","not established","not established","not established","not established","not established","not established","not established","not established","not established","not established","not established","not established","not established","not established","not established","not established","not established","not established","not established","not established","not established","not established","not established","not established","not established","not established","not established","not established","not established","not established","not established","not established","not established","not established","not established","not established","not established","not established","not established","not established","not established","not established","not established","not established","not established","not established","not established","not established","not established","not established","not established","not established","not established","not established","not established","not established","not established","not established","not established","not established","not established","not established","not established","not established","not established","not established","not established","not established","not established","not established","not established","not established","not established","not established","not established","not established","not established","not established","not established","not established","not established","not established","not established","not established","not established","not established","not established","not established","not established","not established","not established","not established","not established","not established","not established","not established","not established","not established","not established","not established","not established","not established","not established","not established","not established","not established","not established","not established","not established","not established","not established","not established","not established","not established","not established","not established","not established","not established","not established","not established","not established","not established","not established","not established","not established","not established","not established","not established","not established","not established","not established","not established","not established","not established","not established","not established","not established","not established","not established","not established","not established","not established","not established","not established","not established","not established","not established","not established","not established","not established","not established","not established","not established","not established","not established","not established","not established","not established","not established","not established","not established","not established","not established","not established","not established","not established","not established","not established","not established","not established","not established","not established","not established","not established","not established","not established","not established","not established","not established","not established","not established","not established","not established","not established","not established","not established","not established","not established","not established","not established","not established","not established","not established","not established","not established","not established","not established","not established","not established","not established","not established","not established","not established","not established","not established","not established","not established","not established","not established","not established","not established","not established","not established","not established","not established","not established","not established","not established","not established","not established","not established","not established","not established","not established","not established","not established","not established","not established","not established","not established","not established","not established","not established","not established","not established","not established","not established","not established","not established","not established","not established","not established","not established","not established","not established","not established","not established","not established","not established","not established","not established","not established","not established","not established","not established","not established","not established","not established","not established","not established","not established","not established","not established","not established","not established","not established","not established","not established","not established","not established","not established","not established","not established","not established","not established","not established","not established","not established","not established","not established","not established","not established","not established","not established","not established","not established","not established","not established","not established","not established","not established","not established","not established","not established","not established","not established","not established","not established","not established","not established","not established","not established","not established","not established","not established","not established","not established","not established","not established","not established","not established","not established","not established","not established","not established","not established","not established","not established","not established","not established","not established","not established","not established","not established","not established","not established","not established","not established","not established","not established","not established","not established","not established","not established","not established","not established","not established","not established","not established","not established","not established","not established","not established","not established","not established","not established","not established","not established","not established","not established","not established","not established","not established","not established","not established","not established","not established","not established","not established","not established","not established","not established","not established","not established","not established","not established","not established","not established","not established","not established","not established","not established","not established","not established","not established","not established","not established","not established","not established","not established","not established","not established","not established","not established","not established","not established","not established","not established","not established","not established","not established","not established","not established","not established","not established","not established","not established","not established","not established","not established","not established","not established","not established","not established","not established","not established","not established","not established","not established","not established","not established","not established","not established","not established","not established","not established","not established","not established","not established","not established","not established","not established","not established","not established","not established","not established","not established","not established","not established","not established","not established","not established","not established","not established","not established","not established","not established","not established","not established","not established","not established","not established","not established","not established","not established","not established","not established","not established","not established","not established","not established","not established","not established","not established","not established","not established","not established","not established","not established","not established","not established","not established","not established","not established","not established","not established","not established","not established","not established","not established","not established","not established","not established","not established","not established","not established","not established","not established","not established","not established","not established","not established","not established","not established","not established","not established","not established","not established","not established","not established","not established","not established","not established","not established","not established","not established","not established","not established","not established","not established","not established","not established","not established","not established","not established"]
[]
["Table for Comparison Plots Construction","Windy Gap",null,"Willow Creek",null,"Lake Granby",null,"Shadow Mnt.",null,"Grand Lake",null,"East Portal",null,"Mary's Lake",null,"Lake Estes",null,"Pinewood",null,"Flatiron",null,"Horsetooth",null,"Carter Lake",null,"Boulder"]
["Percent Flow Introductions(p.m.)",null,{"$f":"IF(COUNTIF($B292:$ALM292,\"boats\")+COUNTIF($B292:$ALM292,\"flows\")+COUNTIF($B292:$ALM292,\"both\")>0,COUNTIF($B292:$ALM292,\"flows\")/(COUNTIF($B292:$ALM292,\"boats\")+COUNTIF($B292:$ALM292,\"flows\")+COUNTIF($B292:$ALM292,\"both\")),\"\")","v":""},null,{"$f":"IF(COUNTIF($B293:$ALM293,\"boats\")+COUNTIF($B293:$ALM293,\"flows\")+COUNTIF($B293:$ALM293,\"both\")>0,COUNTIF($B293:$ALM293,\"flows\")/(COUNTIF($B293:$ALM293,\"boats\")+COUNTIF($B293:$ALM293,\"flows\")+COUNTIF($B293:$ALM293,\"both\")),\"\")","v":""},null,{"$f":"IF(COUNTIF($B294:$ALM294,\"boats\")+COUNTIF($B294:$ALM294,\"flows\")+COUNTIF($B294:$ALM294,\"both\")>0,COUNTIF($B294:$ALM294,\"flows\")/(COUNTIF($B294:$ALM294,\"boats\")+COUNTIF($B294:$ALM294,\"flows\")+COUNTIF($B294:$ALM294,\"both\")),\"\")","v":""},null,{"$f":"IF(COUNTIF($B295:$ALM295,\"boats\")+COUNTIF($B295:$ALM295,\"flows\")+COUNTIF($B295:$ALM295,\"both\")>0,COUNTIF($B295:$ALM295,\"flows\")/(COUNTIF($B295:$ALM295,\"boats\")+COUNTIF($B295:$ALM295,\"flows\")+COUNTIF($B295:$ALM295,\"both\")),\"\")","v":""},null,{"$f":"IF(COUNTIF($B296:$ALM296,\"boats\")+COUNTIF($B296:$ALM296,\"flows\")+COUNTIF($B296:$ALM296,\"both\")>0,COUNTIF($B296:$ALM296,\"flows\")/(COUNTIF($B296:$ALM296,\"boats\")+COUNTIF($B296:$ALM296,\"flows\")+COUNTIF($B296:$ALM296,\"both\")),\"\")","v":""},null,{"$f":"IF(COUNTIF($B297:$ALM297,\"boats\")+COUNTIF($B297:$ALM297,\"flows\")+COUNTIF($B297:$ALM297,\"both\")>0,COUNTIF($B297:$ALM297,\"flows\")/(COUNTIF($B297:$ALM297,\"boats\")+COUNTIF($B297:$ALM297,\"flows\")+COUNTIF($B297:$ALM297,\"both\")),\"\")","v":""},null,{"$f":"IF(COUNTIF($B298:$ALM298,\"boats\")+COUNTIF($B298:$ALM298,\"flows\")+COUNTIF($B298:$ALM298,\"both\")>0,COUNTIF($B298:$ALM298,\"flows\")/(COUNTIF($B298:$ALM298,\"boats\")+COUNTIF($B298:$ALM298,\"flows\")+COUNTIF($B298:$ALM298,\"both\")),\"\")","v":""},null,{"$f":"IF(COUNTIF($B299:$ALM299,\"boats\")+COUNTIF($B299:$ALM299,\"flows\")+COUNTIF($B299:$ALM299,\"both\")>0,COUNTIF($B299:$ALM299,\"flows\")/(COUNTIF($B299:$ALM299,\"boats\")+COUNTIF($B299:$ALM299,\"flows\")+COUNTIF($B299:$ALM299,\"both\")),\"\")","v":""},null,{"$f":"IF(COUNTIF($B300:$ALM300,\"boats\")+COUNTIF($B300:$ALM300,\"flows\")+COUNTIF($B300:$ALM300,\"both\")>0,COUNTIF($B300:$ALM300,\"flows\")/(COUNTIF($B300:$ALM300,\"boats\")+COUNTIF($B300:$ALM300,\"flows\")+COUNTIF($B300:$ALM300,\"both\")),\"\")","v":""},null,{"$f":"IF(COUNTIF($B301:$ALM301,\"boats\")+COUNTIF($B301:$ALM301,\"flows\")+COUNTIF($B301:$ALM301,\"both\")>0,COUNTIF($B301:$ALM301,\"flows\")/(COUNTIF($B301:$ALM301,\"boats\")+COUNTIF($B301:$ALM301,\"flows\")+COUNTIF($B301:$ALM301,\"both\")),\"\")","v":""},null,{"$f":"IF(COUNTIF($B302:$ALM302,\"boats\")+COUNTIF($B302:$ALM302,\"flows\")+COUNTIF($B302:$ALM302,\"both\")>0,COUNTIF($B302:$ALM302,\"flows\")/(COUNTIF($B302:$ALM302,\"boats\")+COUNTIF($B302:$ALM302,\"flows\")+COUNTIF($B302:$ALM302,\"both\")),\"\")","v":0},null,{"$f":"IF(COUNTIF($B303:$ALM303,\"boats\")+COUNTIF($B303:$ALM303,\"flows\")+COUNTIF($B303:$ALM303,\"both\")>0,COUNTIF($B303:$ALM303,\"flows\")/(COUNTIF($B303:$ALM303,\"boats\")+COUNTIF($B303:$ALM303,\"flows\")+COUNTIF($B303:$ALM303,\"both\")),\"\")","v":""},null,{"$f":"IF(COUNTIF($B304:$ALM304,\"boats\")+COUNTIF($B304:$ALM304,\"flows\")+COUNTIF($B304:$ALM304,\"both\")>0,COUNTIF($B304:$ALM304,\"flows\")/(COUNTIF($B304:$ALM304,\"boats\")+COUNTIF($B304:$ALM304,\"flows\")+COUNTIF($B304:$ALM304,\"both\")),\"\")","v":""}]
[]
["Year",0,1,2,3,4,5,6,7,8,9,10,11,12,13,14,15,16,17,18,19,20,21,22,23,24,25,26,27,28,29,30,31,32,33,34,35,36,37,38,39,40,41,42,43,44,45,46,47,48,49]
["East Portal Reservoir",0,0,0,0,0,0,0,0,0,0,0,0,0,0,0,0,0,0,0,0,0,0,0,0,0,0,0,0,0,0,0,0,0,0,0,0,0,0,0,0,0,0,0,0,0,0,0,0,0,0,0,0,0,0,0,0,0,0,0,0,0,0,0,0,0,0,0,0,0,0,0,0,0,0,0,0,0,0,0,0,0,0,0,0,0,0,0,0,0,0,0,0,0,0,0,0,0,0,0,0,0,0,0,0,0,0,0,0,0,0,0,0,0,0,0,0,0,0,0,0,0,0,0,0,0,0,0,0,0,0,0,0,0,0,0,0,0,0,0,0,0,0,0,0,0,0,0,0,0,0,0,0,0,0,0,0,0,0,0,0,0,0,0,0,0,0,0,0,0,0,0,0,0,0,0,0,0,0,0,0,0,0,0,0,0,0,0,0,0,0,0,0,0,0,0,0,0,0,0,0,0,0,0,0,0,0,0,0,0,0,0,0,0,0,0,0,0,0,0,0,0,0,0,0,0,0,0,0,0,0,0,0,0,0,0,0,0,0,0,0,0,0,0,0,0,0,0,0,0,0,0,0,0,0,0,0,0,0,0,0,0,0,0,0,0,0,0,0,0,0,0,0,0,0,0,0,0,0,0,0,0,0,0,0,0,0,0,0,0,0,0,0,0,0,0,0,0,0,0,0,0,0,0,0,0,0,0,0,0,0,0,0,0,0,0,0,0,0,0,0,0,0,0,0,0,0,0,0,0,0,0,0,0,0,0,0,0,0,0,0,0,0,0,0,0,0,0,0,0,0,0,0,0,0,0,0,0,0,0,0,0,0,0,0,0,0,0,0,0,0,0,0,0,0,0,0,0,0,0,0,0,0,0,0,0,0,0,0,0,0,0,0,0,0,0,0,0,0,0,0,0,0,0,0,0,0,0,0,0,0,0,0,0,0,0,0,0,0,0,0,0,0,0,0,0,0,0,0,0,0,0,0,0,0,0,0,0,0,0,0,0,0,0,0,0,0,0,0,0,0,0,0,0,0,0,0,0,0,0,0,0,0,0,0,0,0,0,0,0,0,0,0,0,0,0,0,0,0,0,0,0,0,0,0,0,0,0,0,0,0,0,0,0,0,0,0,0,0,0,0,0,0,0,0,0,0,0,0,0,0,0,0,0,0,0,0,0,0,0,0,0,0,0,0,0,0,0,0,0,0,0,0,0,0,0,0,0,0,0,0,0,0,0,0,0,0,0,0,0,0,0,0,0,0,0,0,0,0,0,0,0,0,0,0,0,0,0,0,0,0,0,0,0,0,0,0,0,0,0,0,0,0,0,0,0,0,0,0,0,0,0,0,0,0,0,0,0,0,0,0,0,0,0,0,0,0,0,0,0,0,0,0,0,0,0,0,0,0,0,0,0,0,0,0,0,0,0,0,0,0,0,0,0,0,0,0,0,0,0,0,0,0,0,0,0,0,0,0,0,0,0,0,0,0,0,0,0,0,0,0,0,0,0,0,0,0,0,0,0,0,0,0,0,0,0,0,0,0,0,0,0,0,0,0,0,0,0,0,0,0,0,0,0,0,0,0,0,0,0,0,0,0,0,0,0,0,0,0,0,0,0,0,0,0,0,0,0,0,0,0,0,0,0,0,0,0,0,0,0,0,0,0,0,0,0,0,0,0,0,0,0,0,0,0,0,0,0,0,0,0,0,0,0,0,0,0,0,0,0,0,0,0,0,0,0,0,0,0,0,0,0,0,0,0,0,0,0,0,0,0,0,0,0,0,0,0,0,0,0,0,0,0,0,0,0,0,0,0,0,0,0,0,0,0,0,0,0,0,0,0,0,0,0,0,0,0,0,0,0,0,0,0,0,0,0,0,0,0,0,0,0,0,0,0,0,0,0,0,0,0,0,0,0,0,0,0,0,0,0,0,0,0,0,0,0,0,0,0,0,0,0,0,0,0,0,0,0,0,0,0,0,0,0,0,0,0,0,0,0,0,0,0,0,0,0,0,0,0,0,0,0,0,0,0,0,0,0,0,0,0,0,0,0,0,0,0,0,0,0,0,0,0,0,0,0,0,0,0,0,0,0,0,0,0,0,0,0,0,0,0,0,0,0,0,0,0,0,0,0,0,0,0,0,0,0,0,0,0,0,0,0,0,0,0,0,0,0,0,0,0,0,0,0,0,0,0,0,0,0,0,0,0,0,0,0,0,0,0,0,0,0,0,0,0,0,0,0,0,0,0,0,0,0,0,0,0,0,0,0,0]
["Flatiron Reservoir",0,0,0,0,0,0,0,0,0,0,0,0,0,0,0,0,0,0,0,0,0,0,0,0,0,0,0,0,0,0,0,0,0,0,0,0,0,0,0,0,0,0,0,0,0,0,0,0,0,0,0,0,0,0,0,0,0,0,0,0,0,0,0,0,0,0,0,0,0,0,0,0,0,0,0,0,0,0,0,0,0,0,0,0,0,0,0,0,0,0,0,0,0,0,0,0,0,0,0,0,0,0,0,0,0,0,0,0,0,0,0,0,0,0,0,0,0,0,0,0,0,0,0,0,0,0,0,0,0,0,0,0,0,0,0,0,0,0,0,0,0,0,0,0,0,0,0,0,0,0,0,0,0,0,0,0,0,0,0,0,0,0,0,0,0,0,0,0,0,0,0,0,0,0,0,0,0,0,0,0,0,0,0,0,0,0,0,0,0,0,0,0,0,0,0,0,0,0,0,0,0,0,0,0,0,0,0,0,0,0,0,0,0,0,0,0,0,0,0,0,0,0,0,0,0,0,0,0,0,0,0,0,0,0,0,0,0,0,0,0,0,0,0,0,0,0,0,0,0,0,0,0,0,0,0,0,0,0,0,0,0,0,0,0,0,0,0,0,0,0,0,0,0,0,0,0,0,0,0,0,0,0,0,0,0,0,0,0,0,0,0,0,0,0,0,0,0,0,0,0,0,0,0,0,0,0,0,0,0,0,0,0,0,0,0,0,0,0,0,0,0,0,0,0,0,0,0,0,0,0,0,0,0,0,0,0,0,0,0,0,0,0,0,0,0,0,0,0,0,0,0,0,0,0,0,0,0,0,0,0,0,0,0,0,0,0,0,0,0,0,0,0,0,0,0,0,0,0,0,0,0,0,0,0,0,0,0,0,0,0,0,0,0,0,0,0,0,0,0,0,0,0,0,0,0,0,0,0,0,0,0,0,0,0,0,0,0,0,0,0,0,0,0,0,0,0,0,0,0,0,0,0,0,0,0,0,0,0,0,0,0,0,0,0,0,0,0,0,0,0,0,0,0,0,0,0,0,0,0,0,0,0,0,0,0,0,0,0,0,0,0,0,0,0,0,0,0,0,0,0,0,0,0,0,0,0,0,0,0,0,0,0,0,0,0,0,0,0,0,0,0,0,0,0,0,0,0,0,0,0,0,0,0,0,0,0,0,0,0,0,0,0,0,0,0,0,0,0,0,0,0,0,0,0,0,0,0,0,0,0,0,0,0,0,0,0,0,0,0,0,0,0,0,0,0,0,0,0,0,0,0,0,0,0,0,0,0,0,0,0,0,0,0,0,0,0,0,0,0,0,0,0,0,0,0,0,0,0,0,0,0,0,0,0,0,0,0,0,0,0,0,0,0,0,0,0,0,0,0,0,0,0,0,0,0,0,0,0,0,0,0,0,0,0,0,0,0,0,0,0,0,0,0,0,0,0,0,0,0,0,0,0,0,0,0,0,0,0,0,0,0,0,0,0,0,0,0,0,0,0,0,0,0,0,0,0,0,0,0,0,0,0,0,0,0,0,0,0,0,0,0,0,0,0,0,0,0,0,0,0,0,0,0,0,0,0,0,0,0,0,0,0,0,0,0,0,0,0,0,0,0,0,0,0,0,0,0,0,0,0,0,0,0,0,0,0,0,0,0,0,0,0,0,0,0,0,0,0,0,0,0,0,0,0,0,0,0,0,0,0,0,0,0,0,0,0,0,0,0,0,0,0,0,0,0,0,0,0,0,0,0,0,0,0,0,0,0,0,0,0,0,0,0,0,0,0,0,0,0,0,0,0,0,0,0,0,0,0,0,0,0,0,0,0,0,0,0,0,0,0,0,0,0,0,0,0,0,0,0,0,0,0,0,0,0,0,0,0,0,0,0,0,0,0,0,0,0,0,0,0,0,0,0,0,0,0,0,0,0,0,0,0,0,0,0,0,0,0,0,0,0,0,0,0,0,0,0,0,0,0,0,0,0,0,0,0,0,0,0,0,0,0,0,0,0,0,0,0,0,0,0,0,0,0,0,0,0,0,0,0,0,0,0,0,0,0,0,0,0,0,0,0,0,0,0,0,0,0,0,0,0,0,0,0,0,0,0,0,0,0,0,0,0,0,0,0,0,0,0,0,0,0,0,0,0,0,0,0,0,0,0,0,0,0,0,0,0,0,0,0,0,0,0,0,0,0,0,0,0,0,0,0,0,0,0,0,0,0,0,0,0,0,0,0,0,0,0,0,0,0,0,0,0,0,0,0,0,0,0,0]
["Year",0,1,2,3,4,5,6,7,8,9,10,11,12,13,14,15,16,17,18,19,20,21,22,23,24,25,26,27,28,29,30,31,32,33,34,35,36,37,38,39,40,41,42,43,44,45,46,47,48,49]
["Grand Lake",3.0030030030030028,3.0030030030030028,3.2182182182182184,3.6076076076076076,3.850850850850851,3.98998998998999,4.1451451451451451,4.3573573573573574,4.5995995995995997,4.7997997997997999,4.9909909909909906,5.1761761761761758,5.3803803803803802,5.5835835835835832,5.8048048048048049,6.0210210210210207,6.2172172172172173,6.4114114114114118,6.6036036036036032,6.8258258258258255,7.0380380380380378,7.243243243243243,7.4304304304304303,7.666666666666667,7.8758758758758756,8.0780780780780788,8.2732732732732739,8.481481481481481,8.6826826826826835,8.8828828828828836,9.0730730730730738,9.2602602602602602,9.4274274274274266,9.5725725725725734,9.7117117117117111,9.7967967967967962,9.8738738738738743,9.9339339339339343,9.9709709709709706,9.984984984984985,9.9939939939939944,10.002002002002001,10.005005005005005,10.009009009009009,10.01001001001001,10.01001001001001,10.01001001001001,10.01001001001001,10.01001001001001,10.01001001001001,0,0,0,0,0,0,0,0,0,0,0,0,0,0,0,0,0,0,0,0,0,0,0,0,0,0,0,0,0,0,0,0,0,0,0,0,0,0,0,0,0,0,0,0,0,0,0,0,0,0,0,0,0,0,0,0,0,0,0,0,0,0,0,0,0,0,0,0,0,0,0,0,0,0,0,0,0,0,0,0,0,0,0,0,0,0,0,0,0,0,0,0,0,0,0,0,0,0,0,0,0,0,0,0,0,0,0,0,0,0,0,0,0,0,0,0,0,0,0,0,0,0,0,0,0,0,0,0,0,0,0,0,0,0,0,0,0,0,0,0,0,0,0,0,0,0,0,0,0,0,0,0,0,0,0,0,0,0,0,0,0,0,0,0,0,0,0,0,0,0,0,0,0,0,0,0,0,0,0,0,0,0,0,0,0,0,0,0,0,0,0,0,0,0,0,0,0,0,0,0,0,0,0,0,0,0,0,0,0,0,0,0,0,0,0,0,0,0,0,0,0,0,0,0,0,0,0,0,0,0,0,0,0,0,0,0,0,0,0,0,0,0,0,0,0,0,0,0,0,0,0,0,0,0,0,0,0,0,0,0,0,0,0,0,0,0,0,0,0,0,0,0,0,0,0,0,0,0,0,0,0,0,0,0,0,0,0,0,0,0,0,0,0,0,0,0,0,0,0,0,0,0,0,0,0,0,0,0,0,0,0,0,0,0,0,0,0,0,0,0,0,0,0,0,0,0,0,0,0,0,0,0,0,0,0,0,0,0,0,0,0,0,0,0,0,0,0,0,0,0,0,0,0,0,0,0,0,0,0,0,0,0,0,0,0,0,0,0,0,0,0,0,0,0,0,0,0,0,0,0,0,0,0,0,0,0,0,0,0,0,0,0,0,0,0,0,0,0,0,0,0,0,0,0,0,0,0,0,0,0,0,0,0,0,0,0,0,0,0,0,0,0,0,0,0,0,0,0,0,0,0,0,0,0,0,0,0,0,0,0,0,0,0,0,0,0,0,0,0,0,0,0,0,0,0,0,0,0,0,0,0,0,0,0,0,0,0,0,0,0,0,0,0,0,0,0,0,0,0,0,0,0,0,0,0,0,0,0,0,0,0,0,0,0,0,0,0,0,0,0,0,0,0,0,0,0,0,0,0,0,0,0,0,0,0,0,0,0,0,0,0,0,0,0,0,0,0,0,0,0,0,0,0,0,0,0,0,0,0,0,0,0,0,0,0,0,0,0,0,0,0,0,0,0,0,0,0,0,0,0,0,0,0,0,0,0,0,0,0,0,0,0,0,0,0,0,0,0,0,0,0,0,0,0,0,0,0,0,0,0,0,0,0,0,0,0,0,0,0,0,0,0,0,0,0,0,0,0,0,0,0,0,0,0,0,0,0,0,0,0,0,0,0,0,0,0,0,0,0,0,0,0,0,0,0,0,0,0,0,0,0,0,0,0,0,0,0,0,0,0,0,0,0,0,0,0,0,0,0,0,0,0,0,0,0,0,0,0,0,0,0,0,0,0,0,0,0,0,0,0,0,0,0,0,0,0,0,0,0,0,0,0,0,0,0,0,0,0,0,0,0,0,0,0,0,0,0,0,0,0,0,0,0,0,0,0,0,0,0,0,0,0,0,0,0,0,0,0,0,0,0,0,0,0,0,0,0,0,0,0,0,0,0,0,0,0,0,0,0,0,0,0,0,0,0,0,0,0,0,0,0,0,0,0,0,0,0,0,0,0,0,0,0,0,0,0,0,0,0,0,0,0,0,0,0,0,0,0,0,0,0,0,0,0,0,0,0,0,0,0,0,0,0,0,0,0,0,0,0,0,0,0,0,0,0,0,0,0,0,0,0,0,0,0,0,0,0,0,0,0,0,0,0,0,0,0,0,0,0,0,0,0,0,0,0,0,0,0,0,0,0,0,0,0,0,0,0,0,0,0,0,0,0,0,0,0,0,0,0,0,0,0,0,0,0,0,0,0,0,0,0,0,0,0,0,0,0,0,0,0,0,0,0,0,0,0,0,0,0,0,0,0,0,0,0,0,0,0,0,0,0,0,0,0,0,0,0,0,0,0,0,0,0,0,0,0,0,0,0,0,0,0,0,0,0,0,0,0,0,0,0,0,0,0,0,0,0,0,0,0]
["Horsetooth Reservoir",44.044044044044043,46.781781781781781,49.865865865865864,52.923923923923923,55.924924924924923,59.027027027027025,62.078078078078079,65.063063063063069,68.078078078078079,71.112112112112115,74.166166166166164,77.236236236236238,80.27927927927928,83.321321321321321,86.312312312312315,89.287287287287285,92.376376376376371,95.37537537537537,98.393393393393396,101.54054054054055,104.49649649649649,107.61361361361361,110.70970970970971,113.87187187187187,116.94494494494495,119.96096096096096,122.94994994994995,125.98398398398399,128.85285285285286,131.48448448448448,133.98198198198199,136.21421421421422,138.08208208208208,139.59059059059058,140.77377377377377,141.63463463463464,142.24324324324326,142.63463463463464,142.85085085085086,142.97497497497497,143.05105105105105,143.09909909909911,143.12512512512512,143.13913913913913,143.14314314314313,143.14314314314313,143.14314314314313,143.14314314314313,143.14314314314313,143.14314314314313,0,0,0,0,0,0,0,0,0,0,0,0,0,0,0,0,0,0,0,0,0,0,0,0,0,0,0,0,0,0,0,0,0,0,0,0,0,0,0,0,0,0,0,0,0,0,0,0,0,0,0,0,0,0,0,0,0,0,0,0,0,0,0,0,0,0,0,0,0,0,0,0,0,0,0,0,0,0,0,0,0,0,0,0,0,0,0,0,0,0,0,0,0,0,0,0,0,0,0,0,0,0,0,0,0,0,0,0,0,0,0,0,0,0,0,0,0,0,0,0,0,0,0,0,0,0,0,0,0,0,0,0,0,0,0,0,0,0,0,0,0,0,0,0,0,0,0,0,0,0,0,0,0,0,0,0,0,0,0,0,0,0,0,0,0,0,0,0,0,0,0,0,0,0,0,0,0,0,0,0,0,0,0,0,0,0,0,0,0,0,0,0,0,0,0,0,0,0,0,0,0,0,0,0,0,0,0,0,0,0,0,0,0,0,0,0,0,0,0,0,0,0,0,0,0,0,0,0,0,0,0,0,0,0,0,0,0,0,0,0,0,0,0,0,0,0,0,0,0,0,0,0,0,0,0,0,0,0,0,0,0,0,0,0,0,0,0,0,0,0,0,0,0,0,0,0,0,0,0,0,0,0,0,0,0,0,0,0,0,0,0,0,0,0,0,0,0,0,0,0,0,0,0,0,0,0,0,0,0,0,0,0,0,0,0,0,0,0,0,0,0,0,0,0,0,0,0,0,0,0,0,0,0,0,0,0,0,0,0,0,0,0,0,0,0,0,0,0,0,0,0,0,0,0,0,0,0,0,0,0,0,0,0,0,0,0,0,0,0,0,0,0,0,0,0,0,0,0,0,0,0,0,0,0,0,0,0,0,0,0,0,0,0,0,0,0,0,0,0,0,0,0,0,0,0,0,0,0,0,0,0,0,0,0,0,0,0,0,0,0,0,0,0,0,0,0,0,0,0,0,0,0,0,0,0,0,0,0,0,0,0,0,0,0,0,0,0,0,0,0,0,0,0,0,0,0,0,0,0,0,0,0,0,0,0,0,0,0,0,0,0,0,0,0,0,0,0,0,0,0,0,0,0,0,0,0,0,0,0,0,0,0,0,0,0,0,0,0,0,0,0,0,0,0,0,0,0,0,0,0,0,0,0,0,0,0,0,0,0,0,0,0,0,0,0,0,0,0,0,0,0,0,0,0,0,0,0,0,0,0,0,0,0,0,0,0,0,0,0,0,0,0,0,0,0,0,0,0,0,0,0,0,0,0,0,0,0,0,0,0,0,0,0,0,0,0,0,0,0,0,0,0,0,0,0,0,0,0,0,0,0,0,0,0,0,0,0,0,0,0,0,0,0,0,0,0,0,0,0,0,0,0,0,0,0,0,0,0,0,0,0,0,0,0,0,0,0,0,0,0,0,0,0,0,0,0,0,0,0,0,0,0,0,0,0,0,0,0,0,0,0,0,0,0,0,0,0,0,0,0,0,0,0,0,0,0,0,0,0,0,0,0,0,0,0,0,0,0,0,0,0,0,0,0,0,0,0,0,0,0,0,0,0,0,0,0,0,0,0,0,0,0,0,0,0,0,0,0,0,0,0,0,0,0,0,0,0,0,0,0,0,0,0,0,0,0,0,0,0,0,0,0,0,0,0,0,0,0,0,0,0,0,0,0,0,0,0,0,0,0,0,0,0,0,0,0,0,0,0,0,0,0,0,0,0,0,0,0,0,0,0,0,0,0,0,0,0,0,0,0,0,0,0,0,0,0,0,0,0,0,0,0,0,0,0,0,0,0,0,0,0,0,0,0,0,0,0,0,0,0,0,0,0,0,0,0,0,0,0,0,0,0,0,0,0,0,0,0,0,0,0,0,0,0,0,0,0,0,0,0,0,0,0,0,0,0,0,0,0,0,0,0,0,0,0,0,0,0,0,0,0,0,0,0,0,0,0,0,0,0,0,0,0,0,0,0,0,0,0,0,0,0,0,0,0,0,0,0,0,0,0,0,0,0,0,0,0,0,0,0,0,0,0,0,0,0,0,0,0,0,0,0,0,0,0,0,0,0,0,0,0,0,0,0,0,0,0,0,0,0,0,0,0,0,0,0,0,0,0,0,0,0,0,0,0,0,0,0,0,0]
["Average Joint Probability of Colinization from Boats"]
["Willow Creek Reservoir",0,0,0,0,0,0,0,0,0,0,0,0,0,0,0,0,0,0,0,0,0,0,0,0,0,0,0,0,0,0,0,0,0,0,0,0,0,0,0,0,0,0,0,0,0,0,0,0,0,0,0,0,0,0,0,0,0,0,0,0,0,0,0,0,0,0,0,0,0,0,0,0,0,0,0,0,0,0,0,0,0,0,0,0,0,0,0,0,0,0,0,0,0,0,0,0,0,0,0,0,0,0,0,0,0,0,0,0,0,0,0,0,0,0,0,0,0,0,0,0,0,0,0,0,0,0,0,0,0,0,0,0,0,0,0,0,0,0,0,0,0,0,0,0,0,0,0,0,0,0,0,0,0,0,0,0,0,0,0,0,0,0,0,0,0,0,0,0,0,0,0,0,0,0,0,0,0,0,0,0,0,0,0,0,0,0,0,0,0,0,0,0,0,0,0,0,0,0,0,0,0,0,0,0,0,0,0,0,0,0,0,0,0,0,0,0,0,0,0,0,0,0,0,0,0,0,0,0,0,0,0,0,0,0,0,0,0,0,0,0,0,0,0,0,0,0,0,0,0,0,0,0,0,0,0,0,0,0,0,0,0,0,0,0,0,0,0,0,0,0,0,0,0,0,0,0,0,0,0,0,0,0,0,0,0,0,0,0,0,0,0,0,0,0,0,0,0,0,0,0,0,0,0,0,0,0,0,0,0,0,0,0,0,0,0,0,0,0,0,0,0,0,0,0,0,0,0,0,0,0,0,0,0,0,0,0,0,0,0,0,0,0,0,0,0,0,0,0,0,0,0,0,0,0,0,0,0,0,0,0,0,0,0,0,0,0,0,0,0,0,0,0,0,0,0,0,0,0,0,0,0,0,0,0,0,0,0,0,0,0,0,0,0,0,0,0,0,0,0,0,0,0,0,0,0,0,0,0,0,0,0,0,0,0,0,0,0,0,0,0,0,0,0,0,0,0,0,0,0,0,0,0,0,0,0,0,0,0,0,0,0,0,0,0,0,0,0,0,0,0,0,0,0,0,0,0,0,0,0,0,0,0,0,0,0,0,0,0,0,0,0,0,0,0,0,0,0,0,0,0,0,0,0,0,0,0,0,0,0,0,0,0,0,0,0,0,0,0,0,0,0,0,0,0,0,0,0,0,0,0,0,0,0,0,0,0,0,0,0,0,0,0,0,0,0,0,0,0,0,0,0,0,0,0,0,0,0,0,0,0,0,0,0,0,0,0,0,0,0,0,0,0,0,0,0,0,0,0,0,0,0,0,0,0,0,0,0,0,0,0,0,0,0,0,0,0,0,0,0,0,0,0,0,0,0,0,0,0,0,0,0,0,0,0,0,0,0,0,0,0,0,0,0,0,0,0,0,0,0,0,0,0,0,0,0,0,0,0,0,0,0,0,0,0,0,0,0,0,0,0,0,0,0,0,0,0,0,0,0,0,0,0,0,0,0,0,0,0,0,0,0,0,0,0,0,0,0,0,0,0,0,0,0,0,0,0,0,0,0,0,0,0,0,0,0,0,0,0,0,0,0,0,0,0,0,0,0,0,0,0,0,0,0,0,0,0,0,0,0,0,0,0,0,0,0,0,0,0,0,0,0,0,0,0,0,0,0,0,0,0,0,0,0,0,0,0,0,0,0,0,0,0,0,0,0,0,0,0,0,0,0,0,0,0,0,0,0,0,0,0,0,0,0,0,0,0,0,0,0,0,0,0,0,0,0,0,0,0,0,0,0,0,0,0,0,0,0,0,0,0,0,0,0,0,0,0,0,0,0,0,0,0,0,0,0,0,0,0,0,0,0,0,0,0,0,0,0,0,0,0,0,0,0,0,0,0,0,0,0,0,0,0,0,0,0,0,0,0,0,0,0,0,0,0,0,0,0,0,0,0,0,0,0,0,0,0,0,0,0,0,0,0,0,0,0,0,0,0,0,0,0,0,0,0,0,0,0,0,0,0,0,0,0,0,0,0,0,0,0,0,0,0,0,0,0,0,0,0,0,0,0,0,0,0,0,0,0,0,0,0,0,0,0,0,0,0,0,0,0,0,0,0,0,0,0,0,0,0,0,0,0,0,0,0,0,0,0,0,0,0,0,0,0,0,0,0,0,0,0,0,0,0,0,0,0,0,0,0,0,0,0,0,0,0,0,0,0,0,0,0,0,0,0,0,0,0,0,0,0,0,0,0,0,0,0,0,0,0,0,0,0,0,0,0,0,0,0,0,0,0,0,0,0,0,0,0,0,0,0,0]
["Lake Estes",3.673573408765541E-8,7.9764708901809522E-8,1.333555890497641E-7,1.9848314336842744E-7,2.7578540510726679E-7,3.6603900501383041E-7,4.7056276196000894E-7,5.9091958766979854E-7,7.274796593367924E-7,8.8150097582557621E-7,1.0531337174723476E-6,1.2427050706677749E-6,1.4522058683571804E-6,1.6813401549277923E-6,1.9297951153313795E-6,2.1954114520115639E-6,2.4750419858405317E-6,2.7649344019056652E-6,3.06247279125185E-6,3.3636767390526097E-6,3.6670314815555235E-6,3.9718010278806299E-6,4.2770828025840421E-6,4.5825803640858649E-6,4.8882274093029022E-6,5.1939576438467462E-6,5.499704780331477E-6,5.8054472461879752E-6,6.1112074000297603E-6,6.4169628827278549E-6,6.7227136943536743E-6,7.0284598349785843E-6,7.3342013046739152E-6,7.6399381035109431E-6,7.9456702315611273E-6,8.2513976888958335E-6,8.5571204755864005E-6,8.8628385917041046E-6,9.1685520373203404E-6,9.4742608125064959E-6,9.7799649173339437E-6,1.0085664351873938E-5,1.0391359116197882E-5,1.0697049210377143E-5,1.1002734634483004E-5,1.130841538858692E-5,1.1614091472760194E-5,1.1919762887074106E-5,1.2225429631600023E-5,1.2531091706409311E-5,0,0,0,0,0,0,0,0,0,0,0,0,0,0,0,0,0,0,0,0,0,0,0,0,0,0,0,0,0,0,0,0,0,0,0,0,0,0,0,0,0,0,0,0,0,0,0,0,0,0,0,0,0,0,0,0,0,0,0,0,0,0,0,0,0,0,0,0,0,0,0,0,0,0,0,0,0,0,0,0,0,0,0,0,0,0,0,0,0,0,0,0,0,0,0,0,0,0,0,0,0,0,0,0,0,0,0,0,0,0,0,0,0,0,0,0,0,0,0,0,0,0,0,0,0,0,0,0,0,0,0,0,0,0,0,0,0,0,0,0,0,0,0,0,0,0,0,0,0,0,0,0,0,0,0,0,0,0,0,0,0,0,0,0,0,0,0,0,0,0,0,0,0,0,0,0,0,0,0,0,0,0,0,0,0,0,0,0,0,0,0,0,0,0,0,0,0,0,0,0,0,0,0,0,0,0,0,0,0,0,0,0,0,0,0,0,0,0,0,0,0,0,0,0,0,0,0,0,0,0,0,0,0,0,0,0,0,0,0,0,0,0,0,0,0,0,0,0,0,0,0,0,0,0,0,0,0,0,0,0,0,0,0,0,0,0,0,0,0,0,0,0,0,0,0,0,0,0,0,0,0,0,0,0,0,0,0,0,0,0,0,0,0,0,0,0,0,0,0,0,0,0,0,0,0,0,0,0,0,0,0,0,0,0,0,0,0,0,0,0,0,0,0,0,0,0,0,0,0,0,0,0,0,0,0,0,0,0,0,0,0,0,0,0,0,0,0,0,0,0,0,0,0,0,0,0,0,0,0,0,0,0,0,0,0,0,0,0,0,0,0,0,0,0,0,0,0,0,0,0,0,0,0,0,0,0,0,0,0,0,0,0,0,0,0,0,0,0,0,0,0,0,0,0,0,0,0,0,0,0,0,0,0,0,0,0,0,0,0,0,0,0,0,0,0,0,0,0,0,0,0,0,0,0,0,0,0,0,0,0,0,0,0,0,0,0,0,0,0,0,0,0,0,0,0,0,0,0,0,0,0,0,0,0,0,0,0,0,0,0,0,0,0,0,0,0,0,0,0,0,0,0,0,0,0,0,0,0,0,0,0,0,0,0,0,0,0,0,0,0,0,0,0,0,0,0,0,0,0,0,0,0,0,0,0,0,0,0,0,0,0,0,0,0,0,0,0,0,0,0,0,0,0,0,0,0,0,0,0,0,0,0,0,0,0,0,0,0,0,0,0,0,0,0,0,0,0,0,0,0,0,0,0,0,0,0,0,0,0,0,0,0,0,0,0,0,0,0,0,0,0,0,0,0,0,0,0,0,0,0,0,0,0,0,0,0,0,0,0,0,0,0,0,0,0,0,0,0,0,0,0,0,0,0,0,0,0,0,0,0,0,0,0,0,0,0,0,0,0,0,0,0,0,0,0,0,0,0,0,0,0,0,0,0,0,0,0,0,0,0,0,0,0,0,0,0,0,0,0,0,0,0,0,0,0,0,0,0,0,0,0,0,0,0,0,0,0,0,0,0,0,0,0,0,0,0,0,0,0,0,0,0,0,0,0,0,0,0,0,0,0,0,0,0,0,0,0,0,0,0,0,0,0,0,0,0,0,0,0,0,0,0,0,0,0,0,0,0,0,0,0,0,0,0,0,0,0,0,0,0,0,0,0,0,0,0,0,0,0,0,0,0,0,0,0,0,0,0,0,0,0,0,0,0,0,0,0,0,0,0,0,0,0,0,0,0,0,0,0,0,0,0,0,0,0,0,0,0,0,0,0,0,0,0,0,0,0,0,0,0,0,0,0,0,0,0,0,0,0,0,0,0,0,0,0,0,0,0,0,0,0,0,0,0,0,0,0,0,0,0,0,0,0,0,0,0,0,0,0,0,0,0,0,0,0,0,0,0,0,0,0,0,0,0,0,0,0,0,0,0,0,0,0,0,0,0,0,0,0,0,0,0,0,0,0,0,0,0,0,0,0,0,0,0,0,0,0,0,0,0,0,0,0,0,0,0,0,0,0,0,0,0,0,0,0,0,0,0,0,0,0,0,0,0,0,0,0,0,0,0,0,0,0,0,0,0,0,0,0,0,0,0,0,0,0,0,0,0,0,0,0,0,0,0,0,0,0,0,0,0]
["Boulder Reservoir",1.711200167700569E-5,3.8778344319126007E-5,6.5848875915089779E-5,9.8727643050508721E-5,1.3766600021836254E-4,1.8329840602185926E-4,2.36104187979971E-4,2.968476590587185E-4,3.6584918659336957E-4,4.4370447055172519E-4,5.3030584454272028E-4,6.2612193841391048E-4,7.3206785837192831E-4,8.4777952805295575E-4,9.7317481379978661E-4,1.1071152225490604E-3,1.2478387828690702E-3,1.3936530335480395E-3,1.5431353922563428E-3,1.6944910938759259E-3,1.8468611756875108E-3,1.9998963337936673E-3,2.1531853007151431E-3,2.3065496536346917E-3,2.4599670285554011E-3,2.6133777169612122E-3,2.7667759399531088E-3,2.9201482211141175E-3,3.0734946601961729E-3,3.2268096548170107E-3,3.3800932114244724E-3,3.5333453364650804E-3,3.6865660363840434E-3,3.8397553176252445E-3,3.9929131866312381E-3,4.1460396498432467E-3,4.2991347137012106E-3,4.4521983846437041E-3,4.6052306691080191E-3,4.7582315735301061E-3,4.9112011043446046E-3,5.0641392679848128E-3,5.217046070882761E-3,5.3699215194690951E-3,5.5227656201731904E-3,5.6755783794230881E-3,5.8283598036455104E-3,5.9811098992658658E-3,6.1338286727082398E-3,6.2865161303953931E-3,0,0,0,0,0,0,0,0,0,0,0,0,0,0,0,0,0,0,0,0,0,0,0,0,0,0,0,0,0,0,0,0,0,0,0,0,0,0,0,0,0,0,0,0,0,0,0,0,0,0,0,0,0,0,0,0,0,0,0,0,0,0,0,0,0,0,0,0,0,0,0,0,0,0,0,0,0,0,0,0,0,0,0,0,0,0,0,0,0,0,0,0,0,0,0,0,0,0,0,0,0,0,0,0,0,0,0,0,0,0,0,0,0,0,0,0,0,0,0,0,0,0,0,0,0,0,0,0,0,0,0,0,0,0,0,0,0,0,0,0,0,0,0,0,0,0,0,0,0,0,0,0,0,0,0,0,0,0,0,0,0,0,0,0,0,0,0,0,0,0,0,0,0,0,0,0,0,0,0,0,0,0,0,0,0,0,0,0,0,0,0,0,0,0,0,0,0,0,0,0,0,0,0,0,0,0,0,0,0,0,0,0,0,0,0,0,0,0,0,0,0,0,0,0,0,0,0,0,0,0,0,0,0,0,0,0,0,0,0,0,0,0,0,0,0,0,0,0,0,0,0,0,0,0,0,0,0,0,0,0,0,0,0,0,0,0,0,0,0,0,0,0,0,0,0,0,0,0,0,0,0,0,0,0,0,0,0,0,0,0,0,0,0,0,0,0,0,0,0,0,0,0,0,0,0,0,0,0,0,0,0,0,0,0,0,0,0,0,0,0,0,0,0,0,0,0,0,0,0,0,0,0,0,0,0,0,0,0,0,0,0,0,0,0,0,0,0,0,0,0,0,0,0,0,0,0,0,0,0,0,0,0,0,0,0,0,0,0,0,0,0,0,0,0,0,0,0,0,0,0,0,0,0,0,0,0,0,0,0,0,0,0,0,0,0,0,0,0,0,0,0,0,0,0,0,0,0,0,0,0,0,0,0,0,0,0,0,0,0,0,0,0,0,0,0,0,0,0,0,0,0,0,0,0,0,0,0,0,0,0,0,0,0,0,0,0,0,0,0,0,0,0,0,0,0,0,0,0,0,0,0,0,0,0,0,0,0,0,0,0,0,0,0,0,0,0,0,0,0,0,0,0,0,0,0,0,0,0,0,0,0,0,0,0,0,0,0,0,0,0,0,0,0,0,0,0,0,0,0,0,0,0,0,0,0,0,0,0,0,0,0,0,0,0,0,0,0,0,0,0,0,0,0,0,0,0,0,0,0,0,0,0,0,0,0,0,0,0,0,0,0,0,0,0,0,0,0,0,0,0,0,0,0,0,0,0,0,0,0,0,0,0,0,0,0,0,0,0,0,0,0,0,0,0,0,0,0,0,0,0,0,0,0,0,0,0,0,0,0,0,0,0,0,0,0,0,0,0,0,0,0,0,0,0,0,0,0,0,0,0,0,0,0,0,0,0,0,0,0,0,0,0,0,0,0,0,0,0,0,0,0,0,0,0,0,0,0,0,0,0,0,0,0,0,0,0,0,0,0,0,0,0,0,0,0,0,0,0,0,0,0,0,0,0,0,0,0,0,0,0,0,0,0,0,0,0,0,0,0,0,0,0,0,0,0,0,0,0,0,0,0,0,0,0,0,0,0,0,0,0,0,0,0,0,0,0,0,0,0,0,0,0,0,0,0,0,0,0,0,0,0,0,0,0,0,0,0,0,0,0,0,0,0,0,0,0,0,0,0,0,0,0,0,0,0,0,0,0,0,0,0,0,0,0,0,0,0,0,0,0,0,0,0,0,0,0,0,0,0,0,0,0,0,0,0,0,0,0,0,0,0,0,0,0,0,0,0,0,0,0,0,0,0,0,0,0,0,0,0,0,0,0,0,0,0,0,0,0,0,0,0,0,0,0,0,0,0,0,0,0,0,0,0,0,0,0,0,0,0,0,0,0,0,0,0,0,0,0,0,0,0,0,0,0,0,0,0,0,0,0,0,0,0,0,0,0,0,0,0,0,0,0,0,0,0,0,0,0,0,0,0,0,0,0,0,0,0,0,0,0,0,0,0,0,0,0,0,0,0,0,0,0,0,0,0,0,0,0,0,0,0,0,0,0,0,0,0,0,0,0,0,0,0,0,0,0,0,0,0,0,0,0,0,0,0,0,0,0,0,0,0,0,0,0,0,0,0,0,0,0]
["Willow Creek Reservoir",0,0,0,0,0,0,0,0,0,0,0,0,0,0,0,0,0,0,0,0,0,0,0,0,0,0,0,0,0,0,0,0,0,0,0,0,0,0,0,0,0,0,0,0,0,0,0,0,0,0,0,0,0,0,0,0,0,0,0,0,0,0,0,0,0,0,0,0,0,0,0,0,0,0,0,0,0,0,0,0,0,0,0,0,0,0,0,0,0,0,0,0,0,0,0,0,0,0,0,0,0,0,0,0,0,0,0,0,0,0,0,0,0,0,0,0,0,0,0,0,0,0,0,0,0,0,0,0,0,0,0,0,0,0,0,0,0,0,0,0,0,0,0,0,0,0,0,0,0,0,0,0,0,0,0,0,0,0,0,0,0,0,0,0,0,0,0,0,0,0,0,0,0,0,0,0,0,0,0,0,0,0,0,0,0,0,0,0,0,0,0,0,0,0,0,0,0,0,0,0,0,0,0,0,0,0,0,0,0,0,0,0,0,0,0,0,0,0,0,0,0,0,0,0,0,0,0,0,0,0,0,0,0,0,0,0,0,0,0,0,0,0,0,0,0,0,0,0,0,0,0,0,0,0,0,0,0,0,0,0,0,0,0,0,0,0,0,0,0,0,0,0,0,0,0,0,0,0,0,0,0,0,0,0,0,0,0,0,0,0,0,0,0,0,0,0,0,0,0,0,0,0,0,0,0,0,0,0,0,0,0,0,0,0,0,0,0,0,0,0,0,0,0,0,0,0,0,0,0,0,0,0,0,0,0,0,0,0,0,0,0,0,0,0,0,0,0,0,0,0,0,0,0,0,0,0,0,0,0,0,0,0,0,0,0,0,0,0,0,0,0,0,0,0,0,0,0,0,0,0,0,0,0,0,0,0,0,0,0,0,0,0,0,0,0,0,0,0,0,0,0,0,0,0,0,0,0,0,0,0,0,0,0,0,0,0,0,0,0,0,0,0,0,0,0,0,0,0,0,0,0,0,0,0,0,0,0,0,0,0,0,0,0,0,0,0,0,0,0,0,0,0,0,0,0,0,0,0,0,0,0,0,0,0,0,0,0,0,0,0,0,0,0,0,0,0,0,0,0,0,0,0,0,0,0,0,0,0,0,0,0,0,0,0,0,0,0,0,0,0,0,0,0,0,0,0,0,0,0,0,0,0,0,0,0,0,0,0,0,0,0,0,0,0,0,0,0,0,0,0,0,0,0,0,0,0,0,0,0,0,0,0,0,0,0,0,0,0,0,0,0,0,0,0,0,0,0,0,0,0,0,0,0,0,0,0,0,0,0,0,0,0,0,0,0,0,0,0,0,0,0,0,0,0,0,0,0,0,0,0,0,0,0,0,0,0,0,0,0,0,0,0,0,0,0,0,0,0,0,0,0,0,0,0,0,0,0,0,0,0,0,0,0,0,0,0,0,0,0,0,0,0,0,0,0,0,0,0,0,0,0,0,0,0,0,0,0,0,0,0,0,0,0,0,0,0,0,0,0,0,0,0,0,0,0,0,0,0,0,0,0,0,0,0,0,0,0,0,0,0,0,0,0,0,0,0,0,0,0,0,0,0,0,0,0,0,0,0,0,0,0,0,0,0,0,0,0,0,0,0,0,0,0,0,0,0,0,0,0,0,0,0,0,0,0,0,0,0,0,0,0,0,0,0,0,0,0,0,0,0,0,0,0,0,0,0,0,0,0,0,0,0,0,0,0,0,0,0,0,0,0,0,0,0,0,0,0,0,0,0,0,0,0,0,0,0,0,0,0,0,0,0,0,0,0,0,0,0,0,0,0,0,0,0,0,0,0,0,0,0,0,0,0,0,0,0,0,0,0,0,0,0,0,0,0,0,0,0,0,0,0,0,0,0,0,0,0,0,0,0,0,0,0,0,0,0,0,0,0,0,0,0,0,0,0,0,0,0,0,0,0,0,0,0,0,0,0,0,0,0,0,0,0,0,0,0,0,0,0,0,0,0,0,0,0,0,0,0,0,0,0,0,0,0,0,0,0,0,0,0,0,0,0,0,0,0,0,0,0,0,0,0,0,0,0,0,0,0,0,0,0,0,0,0,0,0,0,0,0,0,0,0,0,0,0,0,0,0,0,0,0,0,0,0,0,0,0,0,0,0,0,0,0,0,0,0,0,0,0,0,0,0,0,0,0,0,0,0,0,0,0,0,0,0,0,0,0,0,0,0,0,0,0,0,0,0,0,0,0,0,0,0,0,0,0,0,0,0,0,0,0,0,0,0,0,0,0,0,0,0]
["Lake Granby",2.8656542417628026E-8,5.8169436907084211E-8,9.1804500226928921E-8,1.2914182784202446E-7,1.7071969819695639E-7,2.1677195776701642E-7,2.672745651339801E-7,3.2237614778334481E-7,3.8257948324349678E-7,4.4765073035641851E-7,5.1799601752334938E-7,5.93840111717533E-7,6.7541012773865711E-7,7.6275585361366762E-7,8.5605610968016002E-7,9.5558606135102861E-7,1.0613522343613693E-6,1.1735637471453076E-6,1.2925123809581282E-6,1.4187890190167596E-6,1.5520672175977672E-6,1.692552205902692E-6,1.8409436918872605E-6,1.996734347989883E-6,2.1607634279401927E-6,2.3326501512830071E-6,2.5123221990883665E-6,2.7005331931349847E-6,2.8970083191536346E-6,3.1013400966735805E-6,3.3128863130539148E-6,3.5312815128131989E-6,3.755776162226067E-6,3.9846995944180567E-6,4.2178033875846596E-6,4.4536321759336822E-6,4.6915737137114119E-6,4.930868733510935E-6,5.170852247058962E-6,5.4113819567190833E-6,5.6521445503905412E-6,5.8930633047074312E-6,6.1340391056997762E-6,6.3750719510874754E-6,6.6161218755939377E-6,6.8571688968278925E-6,7.0982130148242521E-6,7.3392542296179792E-6,7.5802925412440776E-6,7.8213279497374384E-6,0,0,0,0,0,0,0,0,0,0,0,0,0,0,0,0,0,0,0,0,0,0,0,0,0,0,0,0,0,0,0,0,0,0,0,0,0,0,0,0,0,0,0,0,0,0,0,0,0,0,0,0,0,0,0,0,0,0,0,0,0,0,0,0,0,0,0,0,0,0,0,0,0,0,0,0,0,0,0,0,0,0,0,0,0,0,0,0,0,0,0,0,0,0,0,0,0,0,0,0,0,0,0,0,0,0,0,0,0,0,0,0,0,0,0,0,0,0,0,0,0,0,0,0,0,0,0,0,0,0,0,0,0,0,0,0,0,0,0,0,0,0,0,0,0,0,0,0,0,0,0,0,0,0,0,0,0,0,0,0,0,0,0,0,0,0,0,0,0,0,0,0,0,0,0,0,0,0,0,0,0,0,0,0,0,0,0,0,0,0,0,0,0,0,0,0,0,0,0,0,0,0,0,0,0,0,0,0,0,0,0,0,0,0,0,0,0,0,0,0,0,0,0,0,0,0,0,0,0,0,0,0,0,0,0,0,0,0,0,0,0,0,0,0,0,0,0,0,0,0,0,0,0,0,0,0,0,0,0,0,0,0,0,0,0,0,0,0,0,0,0,0,0,0,0,0,0,0,0,0,0,0,0,0,0,0,0,0,0,0,0,0,0,0,0,0,0,0,0,0,0,0,0,0,0,0,0,0,0,0,0,0,0,0,0,0,0,0,0,0,0,0,0,0,0,0,0,0,0,0,0,0,0,0,0,0,0,0,0,0,0,0,0,0,0,0,0,0,0,0,0,0,0,0,0,0,0,0,0,0,0,0,0,0,0,0,0,0,0,0,0,0,0,0,0,0,0,0,0,0,0,0,0,0,0,0,0,0,0,0,0,0,0,0,0,0,0,0,0,0,0,0,0,0,0,0,0,0,0,0,0,0,0,0,0,0,0,0,0,0,0,0,0,0,0,0,0,0,0,0,0,0,0,0,0,0,0,0,0,0,0,0,0,0,0,0,0,0,0,0,0,0,0,0,0,0,0,0,0,0,0,0,0,0,0,0,0,0,0,0,0,0,0,0,0,0,0,0,0,0,0,0,0,0,0,0,0,0,0,0,0,0,0,0,0,0,0,0,0,0,0,0,0,0,0,0,0,0,0,0,0,0,0,0,0,0,0,0,0,0,0,0,0,0,0,0,0,0,0,0,0,0,0,0,0,0,0,0,0,0,0,0,0,0,0,0,0,0,0,0,0,0,0,0,0,0,0,0,0,0,0,0,0,0,0,0,0,0,0,0,0,0,0,0,0,0,0,0,0,0,0,0,0,0,0,0,0,0,0,0,0,0,0,0,0,0,0,0,0,0,0,0,0,0,0,0,0,0,0,0,0,0,0,0,0,0,0,0,0,0,0,0,0,0,0,0,0,0,0,0,0,0,0,0,0,0,0,0,0,0,0,0,0,0,0,0,0,0,0,0,0,0,0,0,0,0,0,0,0,0,0,0,0,0,0,0,0,0,0,0,0,0,0,0,0,0,0,0,0,0,0,0,0,0,0,0,0,0,0,0,0,0,0,0,0,0,0,0,0,0,0,0,0,0,0,0,0,0,0,0,0,0,0,0,0,0,0,0,0,0,0,0,0,0,0,0,0,0,0,0,0,0,0,0,0,0,0,0,0,0,0,0,0,0,0,0,0,0,0,0,0,0,0,0,0,0,0,0,0,0,0,0,0,0,0,0,0,0,0,0,0,0,0,0,0,0,0,0,0,0,0,0,0,0,0,0,0,0,0,0,0,0,0,0,0,0,0,0,0,0,0,0,0,0,0,0,0,0,0,0,0,0,0,0,0,0,0,0,0,0,0,0,0,0,0,0,0,0,0,0,0,0,0,0,0,0,0,0,0,0,0,0,0,0,0,0,0,0,0,0,0,0,0,0,0,0,0,0,0,0,0,0,0,0,0,0,0,0,0,0,0,0,0,0,0,0,0,0,0,0,0,0,0,0,0,0,0,0,0,0,0,0,0,0,0,0,0,0,0,0,0,0,0,0,0,0,0,0,0,0,0,0,0,0,0,0,0,0,0,0,0,0,0,0,0,0,0,0,0,0,0,0,0,0,0,0,0,0,0,0,0,0,0,0,0,0,0,0,0,0]
["Lake Estes",0,0,0,4.1470139514579989E-11,2.7109183637758954E-10,7.3878284391660408E-10,1.3685145636396982E-9,2.0750428136367353E-9,2.8215052450031329E-9,3.5802550966866812E-9,4.3466845746277629E-9,5.1138819885539246E-9,5.8818473386696616E-9,6.649812659546196E-9,7.4177779508656571E-9,8.1857432125658054E-9,8.9537084448800639E-9,9.7216736479551387E-9,1.0489638821473115E-8,1.1257603965371788E-8,1.2025569079884641E-8,1.2793534165158298E-8,1.3561499220874821E-8,1.4329464246972089E-8,1.5097429243683564E-8,1.5865394211155881E-8,1.6633359149071098E-8,1.7401324057367036E-8,1.8169288936277031E-8,1.8937253785947708E-8,1.9705218606061355E-8,2.0473183396555792E-8,2.124114815766431E-8,2.2009112889533541E-8,2.2777077591845635E-8,2.3545042264538432E-8,2.4313006907845435E-8,2.5080971521913262E-8,2.5848936106424182E-8,2.6616900661315736E-8,2.7384865186821279E-8,2.8152829683087575E-8,2.8920794149797057E-8,2.968875858688722E-8,3.045672299459143E-8,3.1224687373056398E-8,3.1992651721964362E-8,3.2760616041253179E-8,3.3528580331156246E-8,3.4296544591819988E-8,0,0,0,0,0,0,0,0,0,0,0,0,0,0,0,0,0,0,0,0,0,0,0,0,0,0,0,0,0,0,0,0,0,0,0,0,0,0,0,0,0,0,0,0,0,0,0,0,0,0,0,0,0,0,0,0,0,0,0,0,0,0,0,0,0,0,0,0,0,0,0,0,0,0,0,0,0,0,0,0,0,0,0,0,0,0,0,0,0,0,0,0,0,0,0,0,0,0,0,0,0,0,0,0,0,0,0,0,0,0,0,0,0,0,0,0,0,0,0,0,0,0,0,0,0,0,0,0,0,0,0,0,0,0,0,0,0,0,0,0,0,0,0,0,0,0,0,0,0,0,0,0,0,0,0,0,0,0,0,0,0,0,0,0,0,0,0,0,0,0,0,0,0,0,0,0,0,0,0,0,0,0,0,0,0,0,0,0,0,0,0,0,0,0,0,0,0,0,0,0,0,0,0,0,0,0,0,0,0,0,0,0,0,0,0,0,0,0,0,0,0,0,0,0,0,0,0,0,0,0,0,0,0,0,0,0,0,0,0,0,0,0,0,0,0,0,0,0,0,0,0,0,0,0,0,0,0,0,0,0,0,0,0,0,0,0,0,0,0,0,0,0,0,0,0,0,0,0,0,0,0,0,0,0,0,0,0,0,0,0,0,0,0,0,0,0,0,0,0,0,0,0,0,0,0,0,0,0,0,0,0,0,0,0,0,0,0,0,0,0,0,0,0,0,0,0,0,0,0,0,0,0,0,0,0,0,0,0,0,0,0,0,0,0,0,0,0,0,0,0,0,0,0,0,0,0,0,0,0,0,0,0,0,0,0,0,0,0,0,0,0,0,0,0,0,0,0,0,0,0,0,0,0,0,0,0,0,0,0,0,0,0,0,0,0,0,0,0,0,0,0,0,0,0,0,0,0,0,0,0,0,0,0,0,0,0,0,0,0,0,0,0,0,0,0,0,0,0,0,0,0,0,0,0,0,0,0,0,0,0,0,0,0,0,0,0,0,0,0,0,0,0,0,0,0,0,0,0,0,0,0,0,0,0,0,0,0,0,0,0,0,0,0,0,0,0,0,0,0,0,0,0,0,0,0,0,0,0,0,0,0,0,0,0,0,0,0,0,0,0,0,0,0,0,0,0,0,0,0,0,0,0,0,0,0,0,0,0,0,0,0,0,0,0,0,0,0,0,0,0,0,0,0,0,0,0,0,0,0,0,0,0,0,0,0,0,0,0,0,0,0,0,0,0,0,0,0,0,0,0,0,0,0,0,0,0,0,0,0,0,0,0,0,0,0,0,0,0,0,0,0,0,0,0,0,0,0,0,0,0,0,0,0,0,0,0,0,0,0,0,0,0,0,0,0,0,0,0,0,0,0,0,0,0,0,0,0,0,0,0,0,0,0,0,0,0,0,0,0,0,0,0,0,0,0,0,0,0,0,0,0,0,0,0,0,0,0,0,0,0,0,0,0,0,0,0,0,0,0,0,0,0,0,0,0,0,0,0,0,0,0,0,0,0,0,0,0,0,0,0,0,0,0,0,0,0,0,0,0,0,0,0,0,0,0,0,0,0,0,0,0,0,0,0,0,0,0,0,0,0,0,0,0,0,0,0,0,0,0,0,0,0,0,0,0,0,0,0,0,0,0,0,0,0,0,0,0,0,0,0,0,0,0,0,0,0,0,0,0,0,0,0,0,0,0,0,0,0,0,0,0,0,0,0,0,0,0,0,0,0,0,0,0,0,0,0,0,0,0,0,0,0,0,0,0,0,0,0,0,0,0,0,0,0,0,0,0,0,0,0,0,0,0,0,0,0,0,0,0,0,0,0,0,0,0,0,0,0,0,0,0,0,0,0,0,0,0,0,0,0,0,0,0,0,0,0,0,0,0,0,0,0,0,0,0,0,0,0,0,0,0,0,0,0,0,0,0,0,0,0,0,0,0,0,0,0,0,0,0,0,0,0,0,0,0,0,0,0,0,0,0,0,0,0,0,0,0,0,0,0,0,0,0,0,0,0,0,0,0,0,0,0,0,0,0,0,0,0,0,0,0,0,0,0,0,0,0,0,0,0,0,0,0,0,0,0,0,0,0,0,0,0,0,0,0,0,0,0,0,0,0,0,0,0,0,0,0,0,0,0]
[]
[200,7.3052376774007666E-4]
[800,9.5837432856685778E-3]
[1300,2.3478107097639533E-2]
[1800,4.258613488613916E-2]
[2400,7.1619785359693044E-2]
[2800,9.4248203948527953E-2]
[3300,0.12573640850113166]
[3900,0.16751500056866464]
[4400,0.20503396868452539]
[4500,0.21278219269027776]
[5000,0.25251861228383232]
[5500,0.29354630807229132]
[6300,0.36068201227697483]
[6500,0.37757274781933281]
[7000,0.41969492474324233]
[7600,0.46961273099391299]
[8100,0.51028718436587717]
[8700,0.55754794485049008]
[9200,0.59535191316043989]
[9700,0.63150445164195623]
[10300,0.67248847006516899]
[10400,0.67905109133973141]
[10800,0.70450905942235809]
[11300,0.73451104559460823]
[11800,0.76245553064441063]
[12400,0.79326340588758371]
[12900,0.81669045401947593]
[13400,0.83812412445296625]
[14000,0.86130701031017831]
[14300,0.87190137079496133]
[15000,0.89417681711656805]
[15500,0.90811611620157184]
[16000,0.92053568587190937]
[16600,0.93359140516466632]
[17100,0.9430639869381412]
[17600,0.95137633824950218]
[17700,0.95290919308039834]
[18200,0.95997206480647579]
[18700,0.96610755614303512]
[19200,{"$f":"1-EXP(-1*(a_boat*A580)^c_boat)","v":0.97141345854572225}]
[19700,0.97598151682121403]
[20300,0.98060882622808776]
[20800,0.98384434719442748]
[21400,0.98708770507024846]
[21900,0.98933188548965556]
[22400,0.99121932903187537]
[22700,0.99220161497019255]
[23400,0.99411839564772897]
[23900,0.99521332581472488]
[24000,0.99540858632592433]
[24500,0.99628005935454411]
[25100,0.99712453951591529]
[25600,{"$f":"1-EXP(-1*(a_boat*A644)^c_boat)","v":0.99768930748577467}]
[26100,0.9981500147698994]
[26600,0.99852432722326578]
[27100,0.99882723275660168]
[27700,0.99911412642937958]
[28200,0.99930162617018914]
[28700,0.99945144881513182]
[29300,0.99959141461279777]
[29800,0.99968162846709063]
["From upstream 1 (b-c scenario)"]
["Windy Gap Reservoir",0,0,0,0,0,0,0,0,0,0,0,0,0,0,0,0,0,0,0,0,0,0,0,0,0,0,0,0,0,0,0,0,0,0,0,0,0,0,0,0,0,0,0,0,0,0,0,0,0,0,0,0,0,0,0,0,0,0,0,0,0,0,0,0,0,0,0,0,0,0,0,0,0,0,0,0,0,0,0,0,0,0,0,0,0,0,0,0,0,0,0,0,0,0,0,0,0,0,0,0,0,0,0,0,0,0,0,0,0,0,0,0,0,0,0,0,0,0,0,0,0,0,0,0,0,0,0,0,0,0,0,0,0,0,0,0,0,0,0,0,0,0,0,0,0,0,0,0,0,0,0,0,0,0,0,0,0,0,0,0,0,0,0,0,0,0,0,0,0,0,0,0,0,0,0,0,0,0,0,0,0,0,0,0,0,0,0,0,0,0,0,0,0,0,0,0,0,0,0,0,0,0,0,0,0,0,0,0,0,0,0,0,0,0,0,0,0,0,0,0,0,0,0,0,0,0,0,0,0,0,0,0,0,0,0,0,0,0,0,0,0,0,0,0,0,0,0,0,0,0,0,0,0,0,0,0,0,0,0,0,0,0,0,0,0,0,0,0,0,0,0,0,0,0,0,0,0,0,0,0,0,0,0,0,0,0,0,0,0,0,0,0,0,0,0,0,0,0,0,0,0,0,0,0,0,0,0,0,0,0,0,0,0,0,0,0,0,0,0,0,0,0,0,0,0,0,0,0,0,0,0,0,0,0,0,0,0,0,0,0,0,0,0,0,0,0,0,0,0,0,0,0,0,0,0,0,0,0,0,0,0,0,0,0,0,0,0,0,0,0,0,0,0,0,0,0,0,0,0,0,0,0,0,0,0,0,0,0,0,0,0,0,0,0,0,0,0,0,0,0,0,0,0,0,0,0,0,0,0,0,0,0,0,0,0,0,0,0,0,0,0,0,0,0,0,0,0,0,0,0,0,0,0,0,0,0,0,0,0,0,0,0,0,0,0,0,0,0,0,0,0,0,0,0,0,0,0,0,0,0,0,0,0,0,0,0,0,0,0,0,0,0,0,0,0,0,0,0,0,0,0,0,0,0,0,0,0,0,0,0,0,0,0,0,0,0,0,0,0,0,0,0,0,0,0,0,0,0,0,0,0,0,0,0,0,0,0,0,0,0,0,0,0,0,0,0,0,0,0,0,0,0,0,0,0,0,0,0,0,0,0,0,0,0,0,0,0,0,0,0,0,0,0,0,0,0,0,0,0,0,0,0,0,0,0,0,0,0,0,0,0,0,0,0,0,0,0,0,0,0,0,0,0,0,0,0,0,0,0,0,0,0,0,0,0,0,0,0,0,0,0,0,0,0,0,0,0,0,0,0,0,0,0,0,0,0,0,0,0,0,0,0,0,0,0,0,0,0,0,0,0,0,0,0,0,0,0,0,0,0,0,0,0,0,0,0,0,0,0,0,0,0,0,0,0,0,0,0,0,0,0,0,0,0,0,0,0,0,0,0,0,0,0,0,0,0,0,0,0,0,0,0,0,0,0,0,0,0,0,0,0,0,0,0,0,0,0,0,0,0,0,0,0,0,0,0,0,0,0,0,0,0,0,0,0,0,0,0,0,0,0,0,0,0,0,0,0,0,0,0,0,0,0,0,0,0,0,0,0,0,0,0,0,0,0,0,0,0,0,0,0,0,0,0,0,0,0,0,0,0,0,0,0,0,0,0,0,0,0,0,0,0,0,0,0,0,0,0,0,0,0,0,0,0,0,0,0,0,0,0,0,0,0,0,0,0,0,0,0,0,0,0,0,0,0,0,0,0,0,0,0,0,0,0,0,0,0,0,0,0,0,0,0,0,0,0,0,0,0,0,0,0,0,0,0,0,0,0,0,0,0,0,0,0,0,0,0,0,0,0,0,0,0,0,0,0,0,0,0,0,0,0,0,0,0,0,0,0,0,0,0,0,0,0,0,0,0,0,0,0,0,0,0,0,0,0,0,0,0,0,0,0,0,0,0,0,0,0,0,0,0,0,0,0,0,0,0,0,0,0,0,0,0,0,0,0,0,0,0,0,0,0,0,0,0,0,0,0,0,0,0,0,0,0,0,0,0,0,0,0,0,0,0,0,0,0,0,0,0,0,0,0,0,0,0,0,0,0,0,0,0,0,0,0,0,0,0,0,0,0,0,0,0,0,0,0,0,0,0,0,0,0,0,0,0,0,0,0,0,0,0,0,0,0,0,0,0,0,0,0]
["To Shadow Mountain From Lake Granby",0,0,0,0,0,0,0,0,0,0,0,0,0,0,0,0,0,0,0,0,0,0,0,3.9910587757538903E-5,3.9938100263002879E-5,5.9939648299738711E-5,7.9953652562927047E-5,9.9975652768417977E-5,1.2000252188547087E-4,1.2002751504905849E-4,1.2004719641329823E-4,1.4007314404462448E-4,1.4008738273094449E-4,1.6011268030623535E-4,1.601227712039414E-4,1.6013071748223319E-4,2.0017121867158918E-4,2.0017737811852098E-4,2.6023689704692145E-4,3.0027907203783867E-4,3.2030248926123213E-4,3.4032542132897035E-4,3.8036724995815611E-4,4.2040899220673105E-4,4.404310125244167E-4,4.4043301624027307E-4,4.6045434838377051E-4,5.2051507965146656E-4,5.4053609123062938E-4,5.6055692709631229E-4,0,0,0,0,0,0,0,0,0,0,0,0,0,0,0,0,0,0,0,0,0,0,0,0,0,0,0,0,0,0,0,0,0,0,0,0,0,0,0,0,0,0,0,0,0,0,0,0,0,0,0,0,0,0,0,0,0,0,0,0,0,0,0,0,0,0,0,0,0,0,0,0,0,0,0,0,0,0,0,0,0,0,0,0,0,0,0,0,0,0,0,0,0,0,0,0,0,0,0,0,0,0,0,0,0,0,0,0,0,0,0,0,0,0,0,0,0,0,0,0,0,0,0,0,0,0,0,0,0,0,0,0,0,0,0,0,0,0,0,0,0,0,0,0,0,0,0,0,0,0,0,0,0,0,0,0,0,0,0,0,0,0,0,0,0,0,0,0,0,0,0,0,0,0,0,0,0,0,0,0,0,0,0,0,0,0,0,0,0,0,0,0,0,0,0,0,0,0,0,0,0,0,0,0,0,0,0,0,0,0,0,0,0,0,0,0,0,0,0,0,0,0,0,0,0,0,0,0,0,0,0,0,0,0,0,0,0,0,0,0,0,0,0,0,0,0,0,0,0,0,0,0,0,0,0,0,0,0,0,0,0,0,0,0,0,0,0,0,0,0,0,0,0,0,0,0,0,0,0,0,0,0,0,0,0,0,0,0,0,0,0,0,0,0,0,0,0,0,0,0,0,0,0,0,0,0,0,0,0,0,0,0,0,0,0,0,0,0,0,0,0,0,0,0,0,0,0,0,0,0,0,0,0,0,0,0,0,0,0,0,0,0,0,0,0,0,0,0,0,0,0,0,0,0,0,0,0,0,0,0,0,0,0,0,0,0,0,0,0,0,0,0,0,0,0,0,0,0,0,0,0,0,0,0,0,0,0,0,0,0,0,0,0,0,0,0,0,0,0,0,0,0,0,0,0,0,0,0,0,0,0,0,0,0,0,0,0,0,0,0,0,0,0,0,0,0,0,0,0,0,0,0,0,0,0,0,0,0,0,0,0,0,0,0,0,0,0,0,0,0,0,0,0,0,0,0,0,0,0,0,0,0,0,0,0,0,0,0,0,0,0,0,0,0,0,0,0,0,0,0,0,0,0,0,0,0,0,0,0,0,0,0,0,0,0,0,0,0,0,0,0,0,0,0,0,0,0,0,0,0,0,0,0,0,0,0,0,0,0,0,0,0,0,0,0,0,0,0,0,0,0,0,0,0,0,0,0,0,0,0,0,0,0,0,0,0,0,0,0,0,0,0,0,0,0,0,0,0,0,0,0,0,0,0,0,0,0,0,0,0,0,0,0,0,0,0,0,0,0,0,0,0,0,0,0,0,0,0,0,0,0,0,0,0,0,0,0,0,0,0,0,0,0,0,0,0,0,0,0,0,0,0,0,0,0,0,0,0,0,0,0,0,0,0,0,0,0,0,0,0,0,0,0,0,0,0,0,0,0,0,0,0,0,0,0,0,0,0,0,0,0,0,0,0,0,0,0,0,0,0,0,0,0,0,0,0,0,0,0,0,0,0,0,0,0,0,0,0,0,0,0,0,0,0,0,0,0,0,0,0,0,0,0,0,0,0,0,0,0,0,0,0,0,0,0,0,0,0,0,0,0,0,0,0,0,0,0,0,0,0,0,0,0,0,0,0,0,0,0,0,0,0,0,0,0,0,0,0,0,0,0,0,0,0,0,0,0,0,0,0,0,0,0,0,0,0,0,0,0,0,0,0,0,0,0,0,0,0,0,0,0,0,0,0,0,0,0,0,0,0,0,0,0,0,0,0,0,0,0,0,0,0,0,0,0,0,0,0,0,0,0,0,0,0,0,0,0,0,0,0,0,0,0,0,0,0,0,0,0,0,0,0,0,0,0,0,0,0,0,0,0,0,0,0,0,0,0,0,0,0,0,0,0,0,0,0,0,0,0,0,0,0,0,0,0,0,0,0,0,0,0,0,0,0,0,0,0,0,0,0,0,0,0,0,0,0,0,0,0,0,0,0,0,0,0,0,0,0,0,0,0,0,0,0,0,0,0,0,0,0,0,0,0,0,0,0,0,0,0,0,0,0,0,0,0,0,0,0,0,0,0,0,0,0,0,0,0,0,0,0,0,0,0,0,0,0,0,0,0,0,0,0,0,0,0,0,0,0,0,0]
["To Flatiron From Pinewood",0,0,0,0,0,0,0,0,0,0,0,0,0,0,0,0,0,0,0,0,0,0,0,0,0,0,0,0,0,0,0,0,0,0,0,0,0,0,0,0,0,0,0,0,0,0,0,0,0,0,0,0,0,0,0,0,0,0,0,0,0,0,0,0,0,0,0,0,0,0,0,0,0,0,0,0,0,0,0,0,0,0,0,0,0,0,0,0,0,0,0,0,0,0,0,0,0,0,0,0,0,0,0,0,0,0,0,0,0,0,0,0,0,0,0,0,0,0,0,0,0,0,0,0,0,0,0,0,0,0,0,0,0,0,0,0,0,0,0,0,0,0,0,0,0,0,0,0,0,0,0,0,0,0,0,0,0,0,0,0,0,0,0,0,0,0,0,0,0,0,0,0,0,0,0,0,0,0,0,0,0,0,0,0,0,0,0,0,0,0,0,0,0,0,0,0,0,0,0,0,0,0,0,0,0,0,0,0,0,0,0,0,0,0,0,0,0,0,0,0,0,0,0,0,0,0,0,0,0,0,0,0,0,0,0,0,0,0,0,0,0,0,0,0,0,0,0,0,0,0,0,0,0,0,0,0,0,0,0,0,0,0,0,0,0,0,0,0,0,0,0,0,0,0,0,0,0,0,0,0,0,0,0,0,0,0,0,0,0,0,0,0,0,0,0,0,0,0,0,0,0,0,0,0,0,0,0,0,0,0,0,0,0,0,0,0,0,0,0,0,0,0,0,0,0,0,0,0,0,0,0,0,0,0,0,0,0,0,0,0,0,0,0,0,0,0,0,0,0,0,0,0,0,0,0,0,0,0,0,0,0,0,0,0,0,0,0,0,0,0,0,0,0,0,0,0,0,0,0,0,0,0,0,0,0,0,0,0,0,0,0,0,0,0,0,0,0,0,0,0,0,0,0,0,0,0,0,0,0,0,0,0,0,0,0,0,0,0,0,0,0,0,0,0,0,0,0,0,0,0,0,0,0,0,0,0,0,0,0,0,0,0,0,0,0,0,0,0,0,0,0,0,0,0,0,0,0,0,0,0,0,0,0,0,0,0,0,0,0,0,0,0,0,0,0,0,0,0,0,0,0,0,0,0,0,0,0,0,0,0,0,0,0,0,0,0,0,0,0,0,0,0,0,0,0,0,0,0,0,0,0,0,0,0,0,0,0,0,0,0,0,0,0,0,0,0,0,0,0,0,0,0,0,0,0,0,0,0,0,0,0,0,0,0,0,0,0,0,0,0,0,0,0,0,0,0,0,0,0,0,0,0,0,0,0,0,0,0,0,0,0,0,0,0,0,0,0,0,0,0,0,0,0,0,0,0,0,0,0,0,0,0,0,0,0,0,0,0,0,0,0,0,0,0,0,0,0,0,0,0,0,0,0,0,0,0,0,0,0,0,0,0,0,0,0,0,0,0,0,0,0,0,0,0,0,0,0,0,0,0,0,0,0,0,0,0,0,0,0,0,0,0,0,0,0,0,0,0,0,0,0,0,0,0,0,0,0,0,0,0,0,0,0,0,0,0,0,0,0,0,0,0,0,0,0,0,0,0,0,0,0,0,0,0,0,0,0,0,0,0,0,0,0,0,0,0,0,0,0,0,0,0,0,0,0,0,0,0,0,0,0,0,0,0,0,0,0,0,0,0,0,0,0,0,0,0,0,0,0,0,0,0,0,0,0,0,0,0,0,0,0,0,0,0,0,0,0,0,0,0,0,0,0,0,0,0,0,0,0,0,0,0,0,0,0,0,0,0,0,0,0,0,0,0,0,0,0,0,0,0,0,0,0,0,0,0,0,0,0,0,0,0,0,0,0,0,0,0,0,0,0,0,0,0,0,0,0,0,0,0,0,0,0,0,0,0,0,0,0,0,0,0,0,0,0,0,0,0,0,0,0,0,0,0,0,0,0,0,0,0,0,0,0,0,0,0,0,0,0,0,0,0,0,0,0,0,0,0,0,0,0,0,0,0,0,0,0,0,0,0,0,0,0,0,0,0,0,0,0,0,0,0,0,0,0,0,0,0,0,0,0,0,0,0,0,0,0,0,0,0,0,0,0,0,0,0,0,0,0,0,0,0,0,0,0,0,0,0,0,0,0,0,0,0,0,0,0,0,0,0,0,0,0,0,0,0,0,0,0,0,0,0,0,0,0,0,0,0,0,0,0,0,0,0,0,0,0,0,0,0,0,0,0,0,0,0,0,0,0,0,0,0,0,0,0,0,0,0,0,0,0,0,0,0,0,0,0,0,0,0]
["Year",0,1,2,3,4,5,6,7,8,9,10,11,12,13,14,15,16,17,18,19,20,21,22,23,24,25,26,27,28,29,30,31,32,33,34,35,36,37,38,39,40,41,42,43,44,45,46,47,48,49]
["To Grand Lake From Shadow Mountain",0,0,0,0,0,0,0,0,0,0,0,0,0,0,0,0,0,0,0,0,0,0,0,0,0,0,0,0,0,0,0,0,0,0,0,0,0,0,0,0,0,0,0,0,0,0,0,0,0,0,0,0,0,0,0,0,0,0,0,0,0,0,0,0,0,0,0,0,0,0,0,0,0,0,0,0,0,0,0,0,0,0,0,0,0,0,0,0,0,0,0,0,0,0,0,0,0,0,0,0,0,0,0,0,0,0,0,0,0,0,0,0,0,0,0,0,0,0,0,0,0,0,0,0,0,0,0,0,0,0,0,0,0,0,0,0,0,0,0,0,0,0,0,0,0,0,0,0,0,0,0,0,0,0,0,0,0,0,0,0,0,0,0,0,0,0,0,0,0,0,0,0,0,0,0,0,0,0,0,0,0,0,0,0,0,0,0,0,0,0,0,0,0,0,0,0,0,0,0,0,0,0,0,0,0,0,0,0,0,0,0,0,0,0,0,0,0,0,0,0,0,0,0,0,0,0,0,0,0,0,0,0,0,0,0,0,0,0,0,0,0,0,0,0,0,0,0,0,0,0,0,0,0,0,0,0,0,0,0,0,0,0,0,0,0,0,0,0,0,0,0,0,0,0,0,0,0,0,0,0,0,0,0,0,0,0,0,0,0,0,0,0,0,0,0,0,0,0,0,0,0,0,0,0,0,0,0,0,0,0,0,0,0,0,0,0,0,0,0,0,0,0,0,0,0,0,0,0,0,0,0,0,0,0,0,0,0,0,0,0,0,0,0,0,0,0,0,0,0,0,0,0,0,0,0,0,0,0,0,0,0,0,0,0,0,0,0,0,0,0,0,0,0,0,0,0,0,0,0,0,0,0,0,0,0,0,0,0,0,0,0,0,0,0,0,0,0,0,0,0,0,0,0,0,0,0,0,0,0,0,0,0,0,0,0,0,0,0,0,0,0,0,0,0,0,0,0,0,0,0,0,0,0,0,0,0,0,0,0,0,0,0,0,0,0,0,0,0,0,0,0,0,0,0,0,0,0,0,0,0,0,0,0,0,0,0,0,0,0,0,0,0,0,0,0,0,0,0,0,0,0,0,0,0,0,0,0,0,0,0,0,0,0,0,0,0,0,0,0,0,0,0,0,0,0,0,0,0,0,0,0,0,0,0,0,0,0,0,0,0,0,0,0,0,0,0,0,0,0,0,0,0,0,0,0,0,0,0,0,0,0,0,0,0,0,0,0,0,0,0,0,0,0,0,0,0,0,0,0,0,0,0,0,0,0,0,0,0,0,0,0,0,0,0,0,0,0,0,0,0,0,0,0,0,0,0,0,0,0,0,0,0,0,0,0,0,0,0,0,0,0,0,0,0,0,0,0,0,0,0,0,0,0,0,0,0,0,0,0,0,0,0,0,0,0,0,0,0,0,0,0,0,0,0,0,0,0,0,0,0,0,0,0,0,0,0,0,0,0,0,0,0,0,0,0,0,0,0,0,0,0,0,0,0,0,0,0,0,0,0,0,0,0,0,0,0,0,0,0,0,0,0,0,0,0,0,0,0,0,0,0,0,0,0,0,0,0,0,0,0,0,0,0,0,0,0,0,0,0,0,0,0,0,0,0,0,0,0,0,0,0,0,0,0,0,0,0,0,0,0,0,0,0,0,0,0,0,0,0,0,0,0,0,0,0,0,0,0,0,0,0,0,0,0,0,0,0,0,0,0,0,0,0,0,0,0,0,0,0,0,0,0,0,0,0,0,0,0,0,0,0,0,0,0,0,0,0,0,0,0,0,0,0,0,0,0,0,0,0,0,0,0,0,0,0,0,0,0,0,0,0,0,0,0,0,0,0,0,0,0,0,0,0,0,0,0,0,0,0,0,0,0,0,0,0,0,0,0,0,0,0,0,0,0,0,0,0,0,0,0,0,0,0,0,0,0,0,0,0,0,0,0,0,0,0,0,0,0,0,0,0,0,0,0,0,0,0,0,0,0,0,0,0,0,0,0,0,0,0,0,0,0,0,0,0,0,0,0,0,0,0,0,0,0,0,0,0,0,0,0,0,0,0,0,0,0,0,0,0,0,0,0,0,0,0,0,0,0,0,0,0,0,0,0,0,0,0,0,0,0,0,0,0,0,0,0,0,0,0,0,0,0,0,0,0,0,0,0,0,0,0,0,0,0,0,0,0,0,0,0,0,0,0,0,0,0,0,0,0,0,0,0,0,0,0,0,0,0,0,0,0,0,0,0,0,0,0,0,0,0]
["To Horsetooth From Flatiron",0,0,0,0,0,0,0,0,0,0,0,0,0,0,0,0,0,0,0,0,0,0,0,0,0,0,0,0,0,0,0,0,0,0,0,0,0,0,0,0,0,0,0,0,0,0,0,0,0,0,0,0,0,0,0,0,0,0,0,0,0,0,0,0,0,0,0,0,0,0,0,0,0,0,0,0,0,0,0,0,0,0,0,0,0,0,0,0,0,0,0,0,0,0,0,0,0,0,0,0,0,0,0,0,0,0,0,0,0,0,0,0,0,0,0,0,0,0,0,0,0,0,0,0,0,0,0,0,0,0,0,0,0,0,0,0,0,0,0,0,0,0,0,0,0,0,0,0,0,0,0,0,0,0,0,0,0,0,0,0,0,0,0,0,0,0,0,0,0,0,0,0,0,0,0,0,0,0,0,0,0,0,0,0,0,0,0,0,0,0,0,0,0,0,0,0,0,0,0,0,0,0,0,0,0,0,0,0,0,0,0,0,0,0,0,0,0,0,0,0,0,0,0,0,0,0,0,0,0,0,0,0,0,0,0,0,0,0,0,0,0,0,0,0,0,0,0,0,0,0,0,0,0,0,0,0,0,0,0,0,0,0,0,0,0,0,0,0,0,0,0,0,0,0,0,0,0,0,0,0,0,0,0,0,0,0,0,0,0,0,0,0,0,0,0,0,0,0,0,0,0,0,0,0,0,0,0,0,0,0,0,0,0,0,0,0,0,0,0,0,0,0,0,0,0,0,0,0,0,0,0,0,0,0,0,0,0,0,0,0,0,0,0,0,0,0,0,0,0,0,0,0,0,0,0,0,0,0,0,0,0,0,0,0,0,0,0,0,0,0,0,0,0,0,0,0,0,0,0,0,0,0,0,0,0,0,0,0,0,0,0,0,0,0,0,0,0,0,0,0,0,0,0,0,0,0,0,0,0,0,0,0,0,0,0,0,0,0,0,0,0,0,0,0,0,0,0,0,0,0,0,0,0,0,0,0,0,0,0,0,0,0,0,0,0,0,0,0,0,0,0,0,0,0,0,0,0,0,0,0,0,0,0,0,0,0,0,0,0,0,0,0,0,0,0,0,0,0,0,0,0,0,0,0,0,0,0,0,0,0,0,0,0,0,0,0,0,0,0,0,0,0,0,0,0,0,0,0,0,0,0,0,0,0,0,0,0,0,0,0,0,0,0,0,0,0,0,0,0,0,0,0,0,0,0,0,0,0,0,0,0,0,0,0,0,0,0,0,0,0,0,0,0,0,0,0,0,0,0,0,0,0,0,0,0,0,0,0,0,0,0,0,0,0,0,0,0,0,0,0,0,0,0,0,0,0,0,0,0,0,0,0,0,0,0,0,0,0,0,0,0,0,0,0,0,0,0,0,0,0,0,0,0,0,0,0,0,0,0,0,0,0,0,0,0,0,0,0,0,0,0,0,0,0,0,0,0,0,0,0,0,0,0,0,0,0,0,0,0,0,0,0,0,0,0,0,0,0,0,0,0,0,0,0,0,0,0,0,0,0,0,0,0,0,0,0,0,0,0,0,0,0,0,0,0,0,0,0,0,0,0,0,0,0,0,0,0,0,0,0,0,0,0,0,0,0,0,0,0,0,0,0,0,0,0,0,0,0,0,0,0,0,0,0,0,0,0,0,0,0,0,0,0,0,0,0,0,0,0,0,0,0,0,0,0,0,0,0,0,0,0,0,0,0,0,0,0,0,0,0,0,0,0,0,0,0,0,0,0,0,0,0,0,0,0,0,0,0,0,0,0,0,0,0,0,0,0,0,0,0,0,0,0,0,0,0,0,0,0,0,0,0,0,0,0,0,0,0,0,0,0,0,0,0,0,0,0,0,0,0,0,0,0,0,0,0,0,0,0,0,0,0,0,0,0,0,0,0,0,0,0,0,0,0,0,0,0,0,0,0,0,0,0,0,0,0,0,0,0,0,0,0,0,0,0,0,0,0,0,0,0,0,0,0,0,0,0,0,0,0,0,0,0,0,0,0,0,0,0,0,0,0,0,0,0,0,0,0,0,0,0,0,0,0,0,0,0,0,0,0,0,0,0,0,0,0,0,0,0,0,0,0,0,0,0,0,0,0,0,0,0,0,0,0,0,0,0,0,0,0,0,0,0,0,0,0,0,0,0,0,0,0,0,0,0,0,0,0,0,0,0,0,0,0,0,0,0,0,0,0,0,0,0,0,0,0,0,0,0,0,0,0,0,0,0,0,0,0,0,0,0,0,0,0,0,0,0,0,0,0]
["Year",0,1,2,3,4,5,6,7,8,9,10,11,12,13,14,15,16,17,18,19,20,21,22,23,24,25,26,27,28,29,30,31,32,33,34,35,36,37,38,39,40,41,42,43,44,45,46,47,48,49]
["Grand Lake",0,0,0,0,0,0,0,0,0,0,0,0,0,0,0,0,0,0,0,0,0,0,0,0,0,0,0,0,0,0,0,0,0,0,0,0,0,0,0,0,0,0,0,0,0,0,0,0,0,0,0,0,0,0,0,0,0,0,0,0,0,0,0,0,0,0,0,0,0,0,0,0,0,0,0,0,0,0,0,0,0,0,0,0,0,0,0,0,0,0,0,0,0,0,0,0,0,0,0,0,0,0,0,0,0,0,0,0,0,0,0,0,0,0,0,0,0,0,0,0,0,0,0,0,0,0,0,0,0,0,0,0,0,0,0,0,0,0,0,0,0,0,0,0,0,0,0,0,0,0,0,0,0,0,0,0,0,0,0,0,0,0,0,0,0,0,0,0,0,0,0,0,0,0,0,0,0,0,0,0,0,0,0,0,0,0,0,0,0,0,0,0,0,0,0,0,0,0,0,0,0,0,0,0,0,0,0,0,0,0,0,0,0,0,0,0,0,0,0,0,0,0,0,0,0,0,0,0,0,0,0,0,0,0,0,0,0,0,0,0,0,0,0,0,0,0,0,0,0,0,0,0,0,0,0,0,0,0,0,0,0,0,0,0,0,0,0,0,0,0,0,0,0,0,0,0,0,0,0,0,0,0,0,0,0,0,0,0,0,0,0,0,0,0,0,0,0,0,0,0,0,0,0,0,0,0,0,0,0,0,0,0,0,0,0,0,0,0,0,0,0,0,0,0,0,0,0,0,0,0,0,0,0,0,0,0,0,0,0,0,0,0,0,0,0,0,0,0,0,0,0,0,0,0,0,0,0,0,0,0,0,0,0,0,0,0,0,0,0,0,0,0,0,0,0,0,0,0,0,0,0,0,0,0,0,0,0,0,0,0,0,0,0,0,0,0,0,0,0,0,0,0,0,0,0,0,0,0,0,0,0,0,0,0,0,0,0,0,0,0,0,0,0,0,0,0,0,0,0,0,0,0,0,0,0,0,0,0,0,0,0,0,0,0,0,0,0,0,0,0,0,0,0,0,0,0,0,0,0,0,0,0,0,0,0,0,0,0,0,0,0,0,0,0,0,0,0,0,0,0,0,0,0,0,0,0,0,0,0,0,0,0,0,0,0,0,0,0,0,0,0,0,0,0,0,0,0,0,0,0,0,0,0,0,0,0,0,0,0,0,0,0,0,0,0,0,0,0,0,0,0,0,0,0,0,0,0,0,0,0,0,0,0,0,0,0,0,0,0,0,0,0,0,0,0,0,0,0,0,0,0,0,0,0,0,0,0,0,0,0,0,0,0,0,0,0,0,0,0,0,0,0,0,0,0,0,0,0,0,0,0,0,0,0,0,0,0,0,0,0,0,0,0,0,0,0,0,0,0,0,0,0,0,0,0,0,0,0,0,0,0,0,0,0,0,0,0,0,0,0,0,0,0,0,0,0,0,0,0,0,0,0,0,0,0,0,0,0,0,0,0,0,0,0,0,0,0,0,0,0,0,0,0,0,0,0,0,0,0,0,0,0,0,0,0,0,0,0,0,0,0,0,0,0,0,0,0,0,0,0,0,0,0,0,0,0,0,0,0,0,0,0,0,0,0,0,0,0,0,0,0,0,0,0,0,0,0,0,0,0,0,0,0,0,0,0,0,0,0,0,0,0,0,0,0,0,0,0,0,0,0,0,0,0,0,0,0,0,0,0,0,0,0,0,0,0,0,0,0,0,0,0,0,0,0,0,0,0,0,0,0,0,0,0,0,0,0,0,0,0,0,0,0,0,0,0,0,0,0,0,0,0,0,0,0,0,0,0,0,0,0,0,0,0,0,0,0,0,0,0,0,0,0,0,0,0,0,0,0,0,0,0,0,0,0,0,0,0,0,0,0,0,0,0,0,0,0,0,0,0,0,0,0,0,0,0,0,0,0,0,0,0,0,0,0,0,0,0,0,0,0,0,0,0,0,0,0,0,0,0,0,0,0,0,0,0,0,0,0,0,0,0,0,0,0,0,0,0,0,0,0,0,0,0,0,0,0,0,0,0,0,0,0,0,0,0,0,0,0,0,0,0,0,0,0,0,0,0,0,0,0,0,0,0,0,0,0,0,0,0,0,0,0,0,0,0,0,0,0,0,0,0,0,0,0,0,0,0,0,0,0,0,0,0,0,0,0,0,0,0,0,0,0,0,0,0,0,0,0,0,0,0,0,0,0,0,0,0,0,0,0,0,0,0,0,0,0,0,0,0,0,0,0,0,0,0,0,0,0,0]
["Horsetooth Reservoir",0,0,0,0,0,0,0,0,0,0,0,0,0,0,0,0,0,0,0,0,0,0,0,0,0,0,0,0,0,0,0,0,0,0,0,0,0,0,0,0,0,0,0,0,0,0,0,0,0,0,0,0,0,0,0,0,0,0,0,0,0,0,0,0,0,0,0,0,0,0,0,0,0,0,0,0,0,0,0,0,0,0,0,0,0,0,0,0,0,0,0,0,0,0,0,0,0,0,0,0,0,0,0,0,0,0,0,0,0,0,0,0,0,0,0,0,0,0,0,0,0,0,0,0,0,0,0,0,0,0,0,0,0,0,0,0,0,0,0,0,0,0,0,0,0,0,0,0,0,0,0,0,0,0,0,0,0,0,0,0,0,0,0,0,0,0,0,0,0,0,0,0,0,0,0,0,0,0,0,0,0,0,0,0,0,0,0,0,0,0,0,0,0,0,0,0,0,0,0,0,0,0,0,0,0,0,0,0,0,0,0,0,0,0,0,0,0,0,0,0,0,0,0,0,0,0,0,0,0,0,0,0,0,0,0,0,0,0,0,0,0,0,0,0,0,0,0,0,0,0,0,0,0,0,0,0,0,0,0,0,0,0,0,0,0,0,0,0,0,0,0,0,0,0,0,0,0,0,0,0,0,0,0,0,0,0,0,0,0,0,0,0,0,0,0,0,0,0,0,0,0,0,0,0,0,0,0,0,0,0,0,0,0,0,0,0,0,0,0,0,0,0,0,0,0,0,0,0,0,0,0,0,0,0,0,0,0,0,0,0,0,0,0,0,0,0,0,0,0,0,0,0,0,0,0,0,0,0,0,0,0,0,0,0,0,0,0,0,0,0,0,0,0,0,0,0,0,0,0,0,0,0,0,0,0,0,0,0,0,0,0,0,0,0,0,0,0,0,0,0,0,0,0,0,0,0,0,0,0,0,0,0,0,0,0,0,0,0,0,0,0,0,0,0,0,0,0,0,0,0,0,0,0,0,0,0,0,0,0,0,0,0,0,0,0,0,0,0,0,0,0,0,0,0,0,0,0,0,0,0,0,0,0,0,0,0,0,0,0,0,0,0,0,0,0,0,0,0,0,0,0,0,0,0,0,0,0,0,0,0,0,0,0,0,0,0,0,0,0,0,0,0,0,0,0,0,0,0,0,0,0,0,0,0,0,0,0,0,0,0,0,0,0,0,0,0,0,0,0,0,0,0,0,0,0,0,0,0,0,0,0,0,0,0,0,0,0,0,0,0,0,0,0,0,0,0,0,0,0,0,0,0,0,0,0,0,0,0,0,0,0,0,0,0,0,0,0,0,0,0,0,0,0,0,0,0,0,0,0,0,0,0,0,0,0,0,0,0,0,0,0,0,0,0,0,0,0,0,0,0,0,0,0,0,0,0,0,0,0,0,0,0,0,0,0,0,0,0,0,0,0,0,0,0,0,0,0,0,0,0,0,0,0,0,0,0,0,0,0,0,0,0,0,0,0,0,0,0,0,0,0,0,0,0,0,0,0,0,0,0,0,0,0,0,0,0,0,0,0,0,0,0,0,0,0,0,0,0,0,0,0,0,0,0,0,0,0,0,0,0,0,0,0,0,0,0,0,0,0,0,0,0,0,0,0,0,0,0,0,0,0,0,0,0,0,0,0,0,0,0,0,0,0,0,0,0,0,0,0,0,0,0,0,0,0,0,0,0,0,0,0,0,0,0,0,0,0,0,0,0,0,0,0,0,0,0,0,0,0,0,0,0,0,0,0,0,0,0,0,0,0,0,0,0,0,0,0,0,0,0,0,0,0,0,0,0,0,0,0,0,0,0,0,0,0,0,0,0,0,0,0,0,0,0,0,0,0,0,0,0,0,0,0,0,0,0,0,0,0,0,0,0,0,0,0,0,0,0,0,0,0,0,0,0,0,0,0,0,0,0,0,0,0,0,0,0,0,0,0,0,0,0,0,0,0,0,0,0,0,0,0,0,0,0,0,0,0,0,0,0,0,0,0,0,0,0,0,0,0,0,0,0,0,0,0,0,0,0,0,0,0,0,0,0,0,0,0,0,0,0,0,0,0,0,0,0,0,0,0,0,0,0,0,0,0,0,0,0,0,0,0,0,0,0,0,0,0,0,0,0,0,0,0,0,0,0,0,0,0,0,0,0,0,0,0,0,0,0,0,0,0,0,0,0,0,0,0,0,0,0,0,0,0,0,0,0,0,0,0,0,0,0,0,0,0,0,0,0,0,0,0,0,0,0,0,0,0,0,0,0]
["Boulder Reservoir",0,0,0,0,0,0,0,0,0,0,0,0,0,0,0,0,0,0,0,0,0,0,0,0,0,0,0,0,0,0,0,0,0,0,0,0,0,0,0,0,0,0,0,0,0,0,0,0,0,0,0,0,0,0,0,0,0,0,0,0,0,0,0,0,0,0,0,0,0,0,0,0,0,0,0,0,0,0,0,0,0,0,0,0,0,0,0,0,0,0,0,0,0,0,0,0,0,0,0,0,0,0,0,0,0,0,0,0,0,0,0,0,0,0,0,0,0,0,0,0,0,0,0,0,0,0,0,0,0,0,0,0,0,0,0,0,0,0,0,0,0,0,0,0,0,0,0,0,0,0,0,0,0,0,0,0,0,0,0,0,0,0,0,0,0,0,0,0,0,0,0,0,0,0,0,0,0,0,0,0,0,0,0,0,0,0,0,0,0,0,0,0,0,0,0,0,0,0,0,0,0,0,0,0,0,0,0,0,0,0,0,0,0,0,0,0,0,0,0,0,0,0,0,0,0,0,0,0,0,0,0,0,0,0,0,0,0,0,0,0,0,0,0,0,0,0,0,0,0,0,0,0,0,0,0,0,0,0,0,0,0,0,0,0,0,0,0,0,0,0,0,0,0,0,0,0,0,0,0,0,0,0,0,0,0,0,0,0,0,0,0,0,0,0,0,0,0,0,0,0,0,0,0,0,0,0,0,0,0,0,0,0,0,0,0,0,0,0,0,0,0,0,0,0,0,0,0,0,0,0,0,0,0,0,0,0,0,0,0,0,0,0,0,0,0,0,0,0,0,0,0,0,0,0,0,0,0,0,0,0,0,0,0,0,0,0,0,0,0,0,0,0,0,0,0,0,0,0,0,0,0,0,0,0,0,0,0,0,0,0,0,0,0,0,0,0,0,0,0,0,0,0,0,0,0,0,0,0,0,0,0,0,0,0,0,0,0,0,0,0,0,0,0,0,0,0,0,0,0,0,0,0,0,0,0,0,0,0,0,0,0,0,0,0,0,0,0,0,0,0,0,0,0,0,0,0,0,0,0,0,0,0,0,0,0,0,0,0,0,0,0,0,0,0,0,0,0,0,0,0,0,0,0,0,0,0,0,0,0,0,0,0,0,0,0,0,0,0,0,0,0,0,0,0,0,0,0,0,0,0,0,0,0,0,0,0,0,0,0,0,0,0,0,0,0,0,0,0,0,0,0,0,0,0,0,0,0,0,0,0,0,0,0,0,0,0,0,0,0,0,0,0,0,0,0,0,0,0,0,0,0,0,0,0,0,0,0,0,0,0,0,0,0,0,0,0,0,0,0,0,0,0,0,0,0,0,0,0,0,0,0,0,0,0,0,0,0,0,0,0,0,0,0,0,0,0,0,0,0,0,0,0,0,0,0,0,0,0,0,0,0,0,0,0,0,0,0,0,0,0,0,0,0,0,0,0,0,0,0,0,0,0,0,0,0,0,0,0,0,0,0,0,0,0,0,0,0,0,0,0,0,0,0,0,0,0,0,0,0,0,0,0,0,0,0,0,0,0,0,0,0,0,0,0,0,0,0,0,0,0,0,0,0,0,0,0,0,0,0,0,0,0,0,0,0,0,0,0,0,0,0,0,0,0,0,0,0,0,0,0,0,0,0,0,0,0,0,0,0,0,0,0,0,0,0,0,0,0,0,0,0,0,0,0,0,0,0,0,0,0,0,0,0,0,0,0,0,0,0,0,0,0,0,0,0,0,0,0,0,0,0,0,0,0,0,0,0,0,0,0,0,0,0,0,0,0,0,0,0,0,0,0,0,0,0,0,0,0,0,0,0,0,0,0,0,0,0,0,0,0,0,0,0,0,0,0,0,0,0,0,0,0,0,0,0,0,0,0,0,0,0,0,0,0,0,0,0,0,0,0,0,0,0,0,0,0,0,0,0,0,0,0,0,0,0,0,0,0,0,0,0,0,0,0,0,0,0,0,0,0,0,0,0,0,0,0,0,0,0,0,0,0,0,0,0,0,0,0,0,0,0,0,0,0,0,0,0,0,0,0,0,0,0,0,0,0,0,0,0,0,0,0,0,0,0,0,0,0,0,0,0,0,0,0,0,0,0,0,0,0,0,0,0,0,0,0,0,0,0,0,0,0,0,0,0,0,0,0,0,0,0,0,0,0,0,0,0,0,0,0,0,0,0,0,0,0,0,0,0,0,0,0,0,0,0,0,0,0,0,0,0,0,0,0,0,0,0,0,0,0,0,0,0,0,0,0,0,0,0,0]
["From upstream 2 (p.m. scenario)"]
["Year",0,1,2,3,4,5,6,7,8,9,10,11,12,13,14,15,16,17,18,19,20,21,22,23,24,25,26,27,28,29,30,31,32,33,34,35,36,37,38,39,40,41,42,43,44,45,46,47,48,49]
["Windy Gap Reservoir",0,0,0,0,0,0,0,0,0,0,0,0,0,0,0,0,0,0,0,0,0,0,0,0,0,0,0,0,0,0,0,0,0,0,0,0,0,0,0,0,0,0,0,0,0,0,0,0,0,0,0,0,0,0,0,0,0,0,0,0,0,0,0,0,0,0,0,0,0,0,0,0,0,0,0,0,0,0,0,0,0,0,0,0,0,0,0,0,0,0,0,0,0,0,0,0,0,0,0,0,0,0,0,0,0,0,0,0,0,0,0,0,0,0,0,0,0,0,0,0,0,0,0,0,0,0,0,0,0,0,0,0,0,0,0,0,0,0,0,0,0,0,0,0,0,0,0,0,0,0,0,0,0,0,0,0,0,0,0,0,0,0,0,0,0,0,0,0,0,0,0,0,0,0,0,0,0,0,0,0,0,0,0,0,0,0,0,0,0,0,0,0,0,0,0,0,0,0,0,0,0,0,0,0,0,0,0,0,0,0,0,0,0,0,0,0,0,0,0,0,0,0,0,0,0,0,0,0,0,0,0,0,0,0,0,0,0,0,0,0,0,0,0,0,0,0,0,0,0,0,0,0,0,0,0,0,0,0,0,0,0,0,0,0,0,0,0,0,0,0,0,0,0,0,0,0,0,0,0,0,0,0,0,0,0,0,0,0,0,0,0,0,0,0,0,0,0,0,0,0,0,0,0,0,0,0,0,0,0,0,0,0,0,0,0,0,0,0,0,0,0,0,0,0,0,0,0,0,0,0,0,0,0,0,0,0,0,0,0,0,0,0,0,0,0,0,0,0,0,0,0,0,0,0,0,0,0,0,0,0,0,0,0,0,0,0,0,0,0,0,0,0,0,0,0,0,0,0,0,0,0,0,0,0,0,0,0,0,0,0,0,0,0,0,0,0,0,0,0,0,0,0,0,0,0,0,0,0,0,0,0,0,0,0,0,0,0,0,0,0,0,0,0,0,0,0,0,0,0,0,0,0,0,0,0,0,0,0,0,0,0,0,0,0,0,0,0,0,0,0,0,0,0,0,0,0,0,0,0,0,0,0,0,0,0,0,0,0,0,0,0,0,0,0,0,0,0,0,0,0,0,0,0,0,0,0,0,0,0,0,0,0,0,0,0,0,0,0,0,0,0,0,0,0,0,0,0,0,0,0,0,0,0,0,0,0,0,0,0,0,0,0,0,0,0,0,0,0,0,0,0,0,0,0,0,0,0,0,0,0,0,0,0,0,0,0,0,0,0,0,0,0,0,0,0,0,0,0,0,0,0,0,0,0,0,0,0,0,0,0,0,0,0,0,0,0,0,0,0,0,0,0,0,0,0,0,0,0,0,0,0,0,0,0,0,0,0,0,0,0,0,0,0,0,0,0,0,0,0,0,0,0,0,0,0,0,0,0,0,0,0,0,0,0,0,0,0,0,0,0,0,0,0,0,0,0,0,0,0,0,0,0,0,0,0,0,0,0,0,0,0,0,0,0,0,0,0,0,0,0,0,0,0,0,0,0,0,0,0,0,0,0,0,0,0,0,0,0,0,0,0,0,0,0,0,0,0,0,0,0,0,0,0,0,0,0,0,0,0,0,0,0,0,0,0,0,0,0,0,0,0,0,0,0,0,0,0,0,0,0,0,0,0,0,0,0,0,0,0,0,0,0,0,0,0,0,0,0,0,0,0,0,0,0,0,0,0,0,0,0,0,0,0,0,0,0,0,0,0,0,0,0,0,0,0,0,0,0,0,0,0,0,0,0,0,0,0,0,0,0,0,0,0,0,0,0,0,0,0,0,0,0,0,0,0,0,0,0,0,0,0,0,0,0,0,0,0,0,0,0,0,0,0,0,0,0,0,0,0,0,0,0,0,0,0,0,0,0,0,0,0,0,0,0,0,0,0,0,0,0,0,0,0,0,0,0,0,0,0,0,0,0,0,0,0,0,0,0,0,0,0,0,0,0,0,0,0,0,0,0,0,0,0,0,0,0,0,0,0,0,0,0,0,0,0,0,0,0,0,0,0,0,0,0,0,0,0,0,0,0,0,0,0,0,0,0,0,0,0,0,0,0,0,0,0,0,0,0,0,0,0,0,0,0,0,0,0,0,0,0,0,0,0,0,0,0,0,0,0,0,0,0,0,0,0,0,0,0,0,0,0,0,0,0,0,0,0,0,0,0,0,0,0,0,0,0,0,0,0,0,0,0,0,0,0,0,0,0,0,0,0,0,0,0,0,0,0,0,0,0,0,0,0,0,0,0,0,0,0,0]
["Willow Creek Reservoir",0,0,0,0,0,0,0,0,0,0,0,0,0,0,0,0,0,0,0,0,0,0,0,0,0,0,0,0,0,0,0,0,0,0,0,0,0,0,0,0,0,0,0,0,0,0,0,0,0,0,0,0,0,0,0,0,0,0,0,0,0,0,0,0,0,0,0,0,0,0,0,0,0,0,0,0,0,0,0,0,0,0,0,0,0,0,0,0,0,0,0,0,0,0,0,0,0,0,0,0,0,0,0,0,0,0,0,0,0,0,0,0,0,0,0,0,0,0,0,0,0,0,0,0,0,0,0,0,0,0,0,0,0,0,0,0,0,0,0,0,0,0,0,0,0,0,0,0,0,0,0,0,0,0,0,0,0,0,0,0,0,0,0,0,0,0,0,0,0,0,0,0,0,0,0,0,0,0,0,0,0,0,0,0,0,0,0,0,0,0,0,0,0,0,0,0,0,0,0,0,0,0,0,0,0,0,0,0,0,0,0,0,0,0,0,0,0,0,0,0,0,0,0,0,0,0,0,0,0,0,0,0,0,0,0,0,0,0,0,0,0,0,0,0,0,0,0,0,0,0,0,0,0,0,0,0,0,0,0,0,0,0,0,0,0,0,0,0,0,0,0,0,0,0,0,0,0,0,0,0,0,0,0,0,0,0,0,0,0,0,0,0,0,0,0,0,0,0,0,0,0,0,0,0,0,0,0,0,0,0,0,0,0,0,0,0,0,0,0,0,0,0,0,0,0,0,0,0,0,0,0,0,0,0,0,0,0,0,0,0,0,0,0,0,0,0,0,0,0,0,0,0,0,0,0,0,0,0,0,0,0,0,0,0,0,0,0,0,0,0,0,0,0,0,0,0,0,0,0,0,0,0,0,0,0,0,0,0,0,0,0,0,0,0,0,0,0,0,0,0,0,0,0,0,0,0,0,0,0,0,0,0,0,0,0,0,0,0,0,0,0,0,0,0,0,0,0,0,0,0,0,0,0,0,0,0,0,0,0,0,0,0,0,0,0,0,0,0,0,0,0,0,0,0,0,0,0,0,0,0,0,0,0,0,0,0,0,0,0,0,0,0,0,0,0,0,0,0,0,0,0,0,0,0,0,0,0,0,0,0,0,0,0,0,0,0,0,0,0,0,0,0,0,0,0,0,0,0,0,0,0,0,0,0,0,0,0,0,0,0,0,0,0,0,0,0,0,0,0,0,0,0,0,0,0,0,0,0,0,0,0,0,0,0,0,0,0,0,0,0,0,0,0,0,0,0,0,0,0,0,0,0,0,0,0,0,0,0,0,0,0,0,0,0,0,0,0,0,0,0,0,0,0,0,0,0,0,0,0,0,0,0,0,0,0,0,0,0,0,0,0,0,0,0,0,0,0,0,0,0,0,0,0,0,0,0,0,0,0,0,0,0,0,0,0,0,0,0,0,0,0,0,0,0,0,0,0,0,0,0,0,0,0,0,0,0,0,0,0,0,0,0,0,0,0,0,0,0,0,0,0,0,0,0,0,0,0,0,0,0,0,0,0,0,0,0,0,0,0,0,0,0,0,0,0,0,0,0,0,0,0,0,0,0,0,0,0,0,0,0,0,0,0,0,0,0,0,0,0,0,0,0,0,0,0,0,0,0,0,0,0,0,0,0,0,0,0,0,0,0,0,0,0,0,0,0,0,0,0,0,0,0,0,0,0,0,0,0,0,0,0,0,0,0,0,0,0,0,0,0,0,0,0,0,0,0,0,0,0,0,0,0,0,0,0,0,0,0,0,0,0,0,0,0,0,0,0,0,0,0,0,0,0,0,0,0,0,0,0,0,0,0,0,0,0,0,0,0,0,0,0,0,0,0,0,0,0,0,0,0,0,0,0,0,0,0,0,0,0,0,0,0,0,0,0,0,0,0,0,0,0,0,0,0,0,0,0,0,0,0,0,0,0,0,0,0,0,0,0,0,0,0,0,0,0,0,0,0,0,0,0,0,0,0,0,0,0,0,0,0,0,0,0,0,0,0,0,0,0,0,0,0,0,0,0,0,0,0,0,0,0,0,0,0,0,0,0,0,0,0,0,0,0,0,0,0,0,0,0,0,0,0,0,0,0,0,0,0,0,0,0,0,0,0,0,0,0,0,0,0,0,0,0,0,0,0,0,0,0,0,0,0,0,0,0,0,0,0,0,0,0,0,0,0,0,0,0,0,0,0,0,0,0,0,0,0,0,0,0,0,0,0,0,0,0,0,0,0,0,0,0,0,0,0,0,0,0,0,0,0]
["To Lake Granby From Willow Creek",0,0,0,0,0,0,0,0,0,0,0,0,0,0,0,0,0,0,0,0,0,0,0,0,0,0,0,0,0,0,0,0,0,0,0,0,0,0,0,0,0,0,0,0,0,0,0,0,0,0,0,0,0,0,0,0,0,0,0,0,0,0,0,0,0,0,0,0,0,0,0,0,0,0,0,0,0,0,0,0,0,0,0,0,0,0,0,0,0,0,0,0,0,0,0,0,0,0,0,0,0,0,0,0,0,0,0,0,0,0,0,0,0,0,0,0,0,0,0,0,0,0,0,0,0,0,0,0,0,0,0,0,0,0,0,0,0,0,0,0,0,0,0,0,0,0,0,0,0,0,0,0,0,0,0,0,0,0,0,0,0,0,0,0,0,0,0,0,0,0,0,0,0,0,0,0,0,0,0,0,0,0,0,0,0,0,0,0,0,0,0,0,0,0,0,0,0,0,0,0,0,0,0,0,0,0,0,0,0,0,0,0,0,0,0,0,0,0,0,0,0,0,0,0,0,0,0,0,0,0,0,0,0,0,0,0,0,0,0,0,0,0,0,0,0,0,0,0,0,0,0,0,0,0,0,0,0,0,0,0,0,0,0,0,0,0,0,0,0,0,0,0,0,0,0,0,0,0,0,0,0,0,0,0,0,0,0,0,0,0,0,0,0,0,0,0,0,0,0,0,0,0,0,0,0,0,0,0,0,0,0,0,0,0,0,0,0,0,0,0,0,0,0,0,0,0,0,0,0,0,0,0,0,0,0,0,0,0,0,0,0,0,0,0,0,0,0,0,0,0,0,0,0,0,0,0,0,0,0,0,0,0,0,0,0,0,0,0,0,0,0,0,0,0,0,0,0,0,0,0,0,0,0,0,0,0,0,0,0,0,0,0,0,0,0,0,0,0,0,0,0,0,0,0,0,0,0,0,0,0,0,0,0,0,0,0,0,0,0,0,0,0,0,0,0,0,0,0,0,0,0,0,0,0,0,0,0,0,0,0,0,0,0,0,0,0,0,0,0,0,0,0,0,0,0,0,0,0,0,0,0,0,0,0,0,0,0,0,0,0,0,0,0,0,0,0,0,0,0,0,0,0,0,0,0,0,0,0,0,0,0,0,0,0,0,0,0,0,0,0,0,0,0,0,0,0,0,0,0,0,0,0,0,0,0,0,0,0,0,0,0,0,0,0,0,0,0,0,0,0,0,0,0,0,0,0,0,0,0,0,0,0,0,0,0,0,0,0,0,0,0,0,0,0,0,0,0,0,0,0,0,0,0,0,0,0,0,0,0,0,0,0,0,0,0,0,0,0,0,0,0,0,0,0,0,0,0,0,0,0,0,0,0,0,0,0,0,0,0,0,0,0,0,0,0,0,0,0,0,0,0,0,0,0,0,0,0,0,0,0,0,0,0,0,0,0,0,0,0,0,0,0,0,0,0,0,0,0,0,0,0,0,0,0,0,0,0,0,0,0,0,0,0,0,0,0,0,0,0,0,0,0,0,0,0,0,0,0,0,0,0,0,0,0,0,0,0,0,0,0,0,0,0,0,0,0,0,0,0,0,0,0,0,0,0,0,0,0,0,0,0,0,0,0,0,0,0,0,0,0,0,0,0,0,0,0,0,0,0,0,0,0,0,0,0,0,0,0,0,0,0,0,0,0,0,0,0,0,0,0,0,0,0,0,0,0,0,0,0,0,0,0,0,0,0,0,0,0,0,0,0,0,0,0,0,0,0,0,0,0,0,0,0,0,0,0,0,0,0,0,0,0,0,0,0,0,0,0,0,0,0,0,0,0,0,0,0,0,0,0,0,0,0,0,0,0,0,0,0,0,0,0,0,0,0,0,0,0,0,0,0,0,0,0,0,0,0,0,0,0,0,0,0,0,0,0,0,0,0,0,0,0,0,0,0,0,0,0,0,0,0,0,0,0,0,0,0,0,0,0,0,0,0,0,0,0,0,0,0,0,0,0,0,0,0,0,0,0,0,0,0,0,0,0,0,0,0,0,0,0,0,0,0,0,0,0,0,0,0,0,0,0,0,0,0,0,0,0,0,0,0,0,0,0,0,0,0,0,0,0,0,0,0,0,0,0,0,0,0,0,0,0,0,0,0,0,0,0,0,0,0,0,0,0,0,0,0,0,0,0,0,0,0,0,0,0,0,0,0,0,0,0,0,0,0,0,0,0,0,0,0,0,0,0,0,0,0,0,0,0,0,0,0,0,0,0,0,0,0,0,0,0,0,0,0,0,0,0,0,0]
["Shadow Mountain Reservoir",0,0,0,0,0,0,0,0,0,0,0,0,0,0,0,0,0,0,0,0,0,0,0,0,0,0,0,0,0,0,0,0,0,0,0,0,0,0,0,0,0,0,0,0,0,0,0,0,0,0,0,0,0,0,0,0,0,0,0,0,0,0,0,0,0,0,0,0,0,0,0,0,0,0,0,0,0,0,0,0,0,0,0,0,0,0,0,0,0,0,0,0,0,0,0,0,0,0,0,0,0,0,0,0,0,0,0,0,0,0,0,0,0,0,0,0,0,0,0,0,0,0,0,0,0,0,0,0,0,0,0,0,0,0,0,0,0,0,0,0,0,0,0,0,0,0,0,0,0,0,0,0,0,0,0,0,0,0,0,0,0,0,0,0,0,0,0,0,0,0,0,0,0,0,0,0,0,0,0,0,0,0,0,0,0,0,0,0,0,0,0,0,0,0,0,0,0,0,0,0,0,0,0,0,0,0,0,0,0,0,0,0,0,0,0,0,0,0,0,0,0,0,0,0,0,0,0,0,0,0,0,0,0,0,0,0,0,0,0,0,0,0,0,0,0,0,0,0,0,0,0,0,0,0,0,0,0,0,0,0,0,0,0,0,0,0,0,0,0,0,0,0,0,0,0,0,0,0,0,0,0,0,0,0,0,0,0,0,0,0,0,0,0,0,0,0,0,0,0,0,0,0,0,0,0,0,0,0,0,0,0,0,0,0,0,0,0,0,0,0,0,0,0,0,0,0,0,0,0,0,0,0,0,0,0,0,0,0,0,0,0,0,0,0,0,0,0,0,0,0,0,0,0,0,0,0,0,0,0,0,0,0,0,0,0,0,0,0,0,0,0,0,0,0,0,0,0,0,0,0,0,0,0,0,0,0,0,0,0,0,0,0,0,0,0,0,0,0,0,0,0,0,0,0,0,0,0,0,0,0,0,0,0,0,0,0,0,0,0,0,0,0,0,0,0,0,0,0,0,0,0,0,0,0,0,0,0,0,0,0,0,0,0,0,0,0,0,0,0,0,0,0,0,0,0,0,0,0,0,0,0,0,0,0,0,0,0,0,0,0,0,0,0,0,0,0,0,0,0,0,0,0,0,0,0,0,0,0,0,0,0,0,0,0,0,0,0,0,0,0,0,0,0,0,0,0,0,0,0,0,0,0,0,0,0,0,0,0,0,0,0,0,0,0,0,0,0,0,0,0,0,0,0,0,0,0,0,0,0,0,0,0,0,0,0,0,0,0,0,0,0,0,0,0,0,0,0,0,0,0,0,0,0,0,0,0,0,0,0,0,0,0,0,0,0,0,0,0,0,0,0,0,0,0,0,0,0,0,0,0,0,0,0,0,0,0,0,0,0,0,0,0,0,0,0,0,0,0,0,0,0,0,0,0,0,0,0,0,0,0,0,0,0,0,0,0,0,0,0,0,0,0,0,0,0,0,0,0,0,0,0,0,0,0,0,0,0,0,0,0,0,0,0,0,0,0,0,0,0,0,0,0,0,0,0,0,0,0,0,0,0,0,0,0,0,0,0,0,0,0,0,0,0,0,0,0,0,0,0,0,0,0,0,0,0,0,0,0,0,0,0,0,0,0,0,0,0,0,0,0,0,0,0,0,0,0,0,0,0,0,0,0,0,0,0,0,0,0,0,0,0,0,0,0,0,0,0,0,0,0,0,0,0,0,0,0,0,0,0,0,0,0,0,0,0,0,0,0,0,0,0,0,0,0,0,0,0,0,0,0,0,0,0,0,0,0,0,0,0,0,0,0,0,0,0,0,0,0,0,0,0,0,0,0,0,0,0,0,0,0,0,0,0,0,0,0,0,0,0,0,0,0,0,0,0,0,0,0,0,0,0,0,0,0,0,0,0,0,0,0,0,0,0,0,0,0,0,0,0,0,0,0,0,0,0,0,0,0,0,0,0,0,0,0,0,0,0,0,0,0,0,0,0,0,0,0,0,0,0,0,0,0,0,0,0,0,0,0,0,0,0,0,0,0,0,0,0,0,0,0,0,0,0,0,0,0,0,0,0,0,0,0,0,0,0,0,0,0,0,0,0,0,0,0,0,0,0,0,0,0,0,0,0,0,0,0,0,0,0,0,0,0,0,0,0,0,0,0,0,0,0,0,0,0,0,0,0,0,0,0,0,0,0,0,0,0,0,0,0,0,0,0,0,0,0,0,0,0,0,0,0,0,0,0,0,0,0,0,0,0,0,0,0,0,0,0,0,0,0,0,0,0,0,0,0,0,0,0,0,0]
["Grand Lake",0,0,0,0,0,0,0,0,0,0,0,0,0,0,0,0,0,0,0,0,0,0,0,0,0,0,0,0,0,0,0,0,0,0,0,0,0,0,0,0,0,0,0,0,0,0,0,0,0,0,0,0,0,0,0,0,0,0,0,0,0,0,0,0,0,0,0,0,0,0,0,0,0,0,0,0,0,0,0,0,0,0,0,0,0,0,0,0,0,0,0,0,0,0,0,0,0,0,0,0,0,0,0,0,0,0,0,0,0,0,0,0,0,0,0,0,0,0,0,0,0,0,0,0,0,0,0,0,0,0,0,0,0,0,0,0,0,0,0,0,0,0,0,0,0,0,0,0,0,0,0,0,0,0,0,0,0,0,0,0,0,0,0,0,0,0,0,0,0,0,0,0,0,0,0,0,0,0,0,0,0,0,0,0,0,0,0,0,0,0,0,0,0,0,0,0,0,0,0,0,0,0,0,0,0,0,0,0,0,0,0,0,0,0,0,0,0,0,0,0,0,0,0,0,0,0,0,0,0,0,0,0,0,0,0,0,0,0,0,0,0,0,0,0,0,0,0,0,0,0,0,0,0,0,0,0,0,0,0,0,0,0,0,0,0,0,0,0,0,0,0,0,0,0,0,0,0,0,0,0,0,0,0,0,0,0,0,0,0,0,0,0,0,0,0,0,0,0,0,0,0,0,0,0,0,0,0,0,0,0,0,0,0,0,0,0,0,0,0,0,0,0,0,0,0,0,0,0,0,0,0,0,0,0,0,0,0,0,0,0,0,0,0,0,0,0,0,0,0,0,0,0,0,0,0,0,0,0,0,0,0,0,0,0,0,0,0,0,0,0,0,0,0,0,0,0,0,0,0,0,0,0,0,0,0,0,0,0,0,0,0,0,0,0,0,0,0,0,0,0,0,0,0,0,0,0,0,0,0,0,0,0,0,0,0,0,0,0,0,0,0,0,0,0,0,0,0,0,0,0,0,0,0,0,0,0,0,0,0,0,0,0,0,0,0,0,0,0,0,0,0,0,0,0,0,0,0,0,0,0,0,0,0,0,0,0,0,0,0,0,0,0,0,0,0,0,0,0,0,0,0,0,0,0,0,0,0,0,0,0,0,0,0,0,0,0,0,0,0,0,0,0,0,0,0,0,0,0,0,0,0,0,0,0,0,0,0,0,0,0,0,0,0,0,0,0,0,0,0,0,0,0,0,0,0,0,0,0,0,0,0,0,0,0,0,0,0,0,0,0,0,0,0,0,0,0,0,0,0,0,0,0,0,0,0,0,0,0,0,0,0,0,0,0,0,0,0,0,0,0,0,0,0,0,0,0,0,0,0,0,0,0,0,0,0,0,0,0,0,0,0,0,0,0,0,0,0,0,0,0,0,0,0,0,0,0,0,0,0,0,0,0,0,0,0,0,0,0,0,0,0,0,0,0,0,0,0,0,0,0,0,0,0,0,0,0,0,0,0,0,0,0,0,0,0,0,0,0,0,0,0,0,0,0,0,0,0,0,0,0,0,0,0,0,0,0,0,0,0,0,0,0,0,0,0,0,0,0,0,0,0,0,0,0,0,0,0,0,0,0,0,0,0,0,0,0,0,0,0,0,0,0,0,0,0,0,0,0,0,0,0,0,0,0,0,0,0,0,0,0,0,0,0,0,0,0,0,0,0,0,0,0,0,0,0,0,0,0,0,0,0,0,0,0,0,0,0,0,0,0,0,0,0,0,0,0,0,0,0,0,0,0,0,0,0,0,0,0,0,0,0,0,0,0,0,0,0,0,0,0,0,0,0,0,0,0,0,0,0,0,0,0,0,0,0,0,0,0,0,0,0,0,0,0,0,0,0,0,0,0,0,0,0,0,0,0,0,0,0,0,0,0,0,0,0,0,0,0,0,0,0,0,0,0,0,0,0,0,0,0,0,0,0,0,0,0,0,0,0,0,0,0,0,0,0,0,0,0,0,0,0,0,0,0,0,0,0,0,0,0,0,0,0,0,0,0,0,0,0,0,0,0,0,0,0,0,0,0,0,0,0,0,0,0,0,0,0,0,0,0,0,0,0,0,0,0,0,0,0,0,0,0,0,0,0,0,0,0,0,0,0,0,0,0,0,0,0,0,0,0,0,0,0,0,0,0,0,0,0,0,0,0,0,0,0,0,0,0,0,0,0,0,0,0,0,0,0,0,0,0,0,0,0,0,0,0,0,0,0,0,0,0,0,0,0,0,0,0,0,0,0,0,0,0,0,0,0,0,0,0]
["East Portal",0,0,0,0,0,0,0,0,0,0,0,0,0,0,0,0,0,0,0,0,0,0,0,0,0,0,0,0,0,0,0,0,0,0,0,0,0,0,0,0,0,0,0,0,0,0,0,0,0,0,0,0,0,0,0,0,0,0,0,0,0,0,0,0,0,0,0,0,0,0,0,0,0,0,0,0,0,0,0,0,0,0,0,0,0,0,0,0,0,0,0,0,0,0,0,0,0,0,0,0,0,0,0,0,0,0,0,0,0,0,0,0,0,0,0,0,0,0,0,0,0,0,0,0,0,0,0,0,0,0,0,0,0,0,0,0,0,0,0,0,0,0,0,0,0,0,0,0,0,0,0,0,0,0,0,0,0,0,0,0,0,0,0,0,0,0,0,0,0,0,0,0,0,0,0,0,0,0,0,0,0,0,0,0,0,0,0,0,0,0,0,0,0,0,0,0,0,0,0,0,0,0,0,0,0,0,0,0,0,0,0,0,0,0,0,0,0,0,0,0,0,0,0,0,0,0,0,0,0,0,0,0,0,0,0,0,0,0,0,0,0,0,0,0,0,0,0,0,0,0,0,0,0,0,0,0,0,0,0,0,0,0,0,0,0,0,0,0,0,0,0,0,0,0,0,0,0,0,0,0,0,0,0,0,0,0,0,0,0,0,0,0,0,0,0,0,0,0,0,0,0,0,0,0,0,0,0,0,0,0,0,0,0,0,0,0,0,0,0,0,0,0,0,0,0,0,0,0,0,0,0,0,0,0,0,0,0,0,0,0,0,0,0,0,0,0,0,0,0,0,0,0,0,0,0,0,0,0,0,0,0,0,0,0,0,0,0,0,0,0,0,0,0,0,0,0,0,0,0,0,0,0,0,0,0,0,0,0,0,0,0,0,0,0,0,0,0,0,0,0,0,0,0,0,0,0,0,0,0,0,0,0,0,0,0,0,0,0,0,0,0,0,0,0,0,0,0,0,0,0,0,0,0,0,0,0,0,0,0,0,0,0,0,0,0,0,0,0,0,0,0,0,0,0,0,0,0,0,0,0,0,0,0,0,0,0,0,0,0,0,0,0,0,0,0,0,0,0,0,0,0,0,0,0,0,0,0,0,0,0,0,0,0,0,0,0,0,0,0,0,0,0,0,0,0,0,0,0,0,0,0,0,0,0,0,0,0,0,0,0,0,0,0,0,0,0,0,0,0,0,0,0,0,0,0,0,0,0,0,0,0,0,0,0,0,0,0,0,0,0,0,0,0,0,0,0,0,0,0,0,0,0,0,0,0,0,0,0,0,0,0,0,0,0,0,0,0,0,0,0,0,0,0,0,0,0,0,0,0,0,0,0,0,0,0,0,0,0,0,0,0,0,0,0,0,0,0,0,0,0,0,0,0,0,0,0,0,0,0,0,0,0,0,0,0,0,0,0,0,0,0,0,0,0,0,0,0,0,0,0,0,0,0,0,0,0,0,0,0,0,0,0,0,0,0,0,0,0,0,0,0,0,0,0,0,0,0,0,0,0,0,0,0,0,0,0,0,0,0,0,0,0,0,0,0,0,0,0,0,0,0,0,0,0,0,0,0,0,0,0,0,0,0,0,0,0,0,0,0,0,0,0,0,0,0,0,0,0,0,0,0,0,0,0,0,0,0,0,0,0,0,0,0,0,0,0,0,0,0,0,0,0,0,0,0,0,0,0,0,0,0,0,0,0,0,0,0,0,0,0,0,0,0,0,0,0,0,0,0,0,0,0,0,0,0,0,0,0,0,0,0,0,0,0,0,0,0,0,0,0,0,0,0,0,0,0,0,0,0,0,0,0,0,0,0,0,0,0,0,0,0,0,0,0,0,0,0,0,0,0,0,0,0,0,0,0,0,0,0,0,0,0,0,0,0,0,0,0,0,0,0,0,0,0,0,0,0,0,0,0,0,0,0,0,0,0,0,0,0,0,0,0,0,0,0,0,0,0,0,0,0,0,0,0,0,0,0,0,0,0,0,0,0,0,0,0,0,0,0,0,0,0,0,0,0,0,0,0,0,0,0,0,0,0,0,0,0,0,0,0,0,0,0,0,0,0,0,0,0,0,0,0,0,0,0,0,0,0,0,0,0,0,0,0,0,0,0,0,0,0,0,0,0,0,0,0,0,0,0,0,0,0,0,0,0,0,0,0,0,0,0,0,0,0,0,0,0,0,0,0,0,0,0,0,0,0,0,0,0,0,0,0,0,0,0,0,0,0,0,0,0,0,0,0,0,0,0,0,0,0]
["Mary's Lake",0,0,0,0,0,0,0,0,0,0,0,0,0,0,0,0,0,0,0,0,0,0,0,0,0,0,0,0,0,0,0,0,0,0,0,0,0,0,0,0,0,0,0,0,0,0,0,0,0,0,0,0,0,0,0,0,0,0,0,0,0,0,0,0,0,0,0,0,0,0,0,0,0,0,0,0,0,0,0,0,0,0,0,0,0,0,0,0,0,0,0,0,0,0,0,0,0,0,0,0,0,0,0,0,0,0,0,0,0,0,0,0,0,0,0,0,0,0,0,0,0,0,0,0,0,0,0,0,0,0,0,0,0,0,0,0,0,0,0,0,0,0,0,0,0,0,0,0,0,0,0,0,0,0,0,0,0,0,0,0,0,0,0,0,0,0,0,0,0,0,0,0,0,0,0,0,0,0,0,0,0,0,0,0,0,0,0,0,0,0,0,0,0,0,0,0,0,0,0,0,0,0,0,0,0,0,0,0,0,0,0,0,0,0,0,0,0,0,0,0,0,0,0,0,0,0,0,0,0,0,0,0,0,0,0,0,0,0,0,0,0,0,0,0,0,0,0,0,0,0,0,0,0,0,0,0,0,0,0,0,0,0,0,0,0,0,0,0,0,0,0,0,0,0,0,0,0,0,0,0,0,0,0,0,0,0,0,0,0,0,0,0,0,0,0,0,0,0,0,0,0,0,0,0,0,0,0,0,0,0,0,0,0,0,0,0,0,0,0,0,0,0,0,0,0,0,0,0,0,0,0,0,0,0,0,0,0,0,0,0,0,0,0,0,0,0,0,0,0,0,0,0,0,0,0,0,0,0,0,0,0,0,0,0,0,0,0,0,0,0,0,0,0,0,0,0,0,0,0,0,0,0,0,0,0,0,0,0,0,0,0,0,0,0,0,0,0,0,0,0,0,0,0,0,0,0,0,0,0,0,0,0,0,0,0,0,0,0,0,0,0,0,0,0,0,0,0,0,0,0,0,0,0,0,0,0,0,0,0,0,0,0,0,0,0,0,0,0,0,0,0,0,0,0,0,0,0,0,0,0,0,0,0,0,0,0,0,0,0,0,0,0,0,0,0,0,0,0,0,0,0,0,0,0,0,0,0,0,0,0,0,0,0,0,0,0,0,0,0,0,0,0,0,0,0,0,0,0,0,0,0,0,0,0,0,0,0,0,0,0,0,0,0,0,0,0,0,0,0,0,0,0,0,0,0,0,0,0,0,0,0,0,0,0,0,0,0,0,0,0,0,0,0,0,0,0,0,0,0,0,0,0,0,0,0,0,0,0,0,0,0,0,0,0,0,0,0,0,0,0,0,0,0,0,0,0,0,0,0,0,0,0,0,0,0,0,0,0,0,0,0,0,0,0,0,0,0,0,0,0,0,0,0,0,0,0,0,0,0,0,0,0,0,0,0,0,0,0,0,0,0,0,0,0,0,0,0,0,0,0,0,0,0,0,0,0,0,0,0,0,0,0,0,0,0,0,0,0,0,0,0,0,0,0,0,0,0,0,0,0,0,0,0,0,0,0,0,0,0,0,0,0,0,0,0,0,0,0,0,0,0,0,0,0,0,0,0,0,0,0,0,0,0,0,0,0,0,0,0,0,0,0,0,0,0,0,0,0,0,0,0,0,0,0,0,0,0,0,0,0,0,0,0,0,0,0,0,0,0,0,0,0,0,0,0,0,0,0,0,0,0,0,0,0,0,0,0,0,0,0,0,0,0,0,0,0,0,0,0,0,0,0,0,0,0,0,0,0,0,0,0,0,0,0,0,0,0,0,0,0,0,0,0,0,0,0,0,0,0,0,0,0,0,0,0,0,0,0,0,0,0,0,0,0,0,0,0,0,0,0,0,0,0,0,0,0,0,0,0,0,0,0,0,0,0,0,0,0,0,0,0,0,0,0,0,0,0,0,0,0,0,0,0,0,0,0,0,0,0,0,0,0,0,0,0,0,0,0,0,0,0,0,0,0,0,0,0,0,0,0,0,0,0,0,0,0,0,0,0,0,0,0,0,0,0,0,0,0,0,0,0,0,0,0,0,0,0,0,0,0,0,0,0,0,0,0,0,0,0,0,0,0,0,0,0,0,0,0,0,0,0,0,0,0,0,0,0,0,0,0,0,0,0,0,0,0,0,0,0,0,0,0,0,0,0,0,0,0,0,0,0,0,0,0,0,0,0,0,0,0,0,0,0,0,0,0,0,0,0,0,0,0,0,0,0,0,0,0,0,0,0,0,0,0,0,0,0,0,0,0]
["Lake Estes",0,0,0,0,0,0,0,0,0,0,0,0,0,0,0,0,0,0,0,0,0,0,0,0,0,0,0,0,0,0,0,0,0,0,0,0,0,0,0,0,0,0,0,0,0,0,0,0,0,0,0,0,0,0,0,0,0,0,0,0,0,0,0,0,0,0,0,0,0,0,0,0,0,0,0,0,0,0,0,0,0,0,0,0,0,0,0,0,0,0,0,0,0,0,0,0,0,0,0,0,0,0,0,0,0,0,0,0,0,0,0,0,0,0,0,0,0,0,0,0,0,0,0,0,0,0,0,0,0,0,0,0,0,0,0,0,0,0,0,0,0,0,0,0,0,0,0,0,0,0,0,0,0,0,0,0,0,0,0,0,0,0,0,0,0,0,0,0,0,0,0,0,0,0,0,0,0,0,0,0,0,0,0,0,0,0,0,0,0,0,0,0,0,0,0,0,0,0,0,0,0,0,0,0,0,0,0,0,0,0,0,0,0,0,0,0,0,0,0,0,0,0,0,0,0,0,0,0,0,0,0,0,0,0,0,0,0,0,0,0,0,0,0,0,0,0,0,0,0,0,0,0,0,0,0,0,0,0,0,0,0,0,0,0,0,0,0,0,0,0,0,0,0,0,0,0,0,0,0,0,0,0,0,0,0,0,0,0,0,0,0,0,0,0,0,0,0,0,0,0,0,0,0,0,0,0,0,0,0,0,0,0,0,0,0,0,0,0,0,0,0,0,0,0,0,0,0,0,0,0,0,0,0,0,0,0,0,0,0,0,0,0,0,0,0,0,0,0,0,0,0,0,0,0,0,0,0,0,0,0,0,0,0,0,0,0,0,0,0,0,0,0,0,0,0,0,0,0,0,0,0,0,0,0,0,0,0,0,0,0,0,0,0,0,0,0,0,0,0,0,0,0,0,0,0,0,0,0,0,0,0,0,0,0,0,0,0,0,0,0,0,0,0,0,0,0,0,0,0,0,0,0,0,0,0,0,0,0,0,0,0,0,0,0,0,0,0,0,0,0,0,0,0,0,0,0,0,0,0,0,0,0,0,0,0,0,0,0,0,0,0,0,0,0,0,0,0,0,0,0,0,0,0,0,0,0,0,0,0,0,0,0,0,0,0,0,0,0,0,0,0,0,0,0,0,0,0,0,0,0,0,0,0,0,0,0,0,0,0,0,0,0,0,0,0,0,0,0,0,0,0,0,0,0,0,0,0,0,0,0,0,0,0,0,0,0,0,0,0,0,0,0,0,0,0,0,0,0,0,0,0,0,0,0,0,0,0,0,0,0,0,0,0,0,0,0,0,0,0,0,0,0,0,0,0,0,0,0,0,0,0,0,0,0,0,0,0,0,0,0,0,0,0,0,0,0,0,0,0,0,0,0,0,0,0,0,0,0,0,0,0,0,0,0,0,0,0,0,0,0,0,0,0,0,0,0,0,0,0,0,0,0,0,0,0,0,0,0,0,0,0,0,0,0,0,0,0,0,0,0,0,0,0,0,0,0,0,0,0,0,0,0,0,0,0,0,0,0,0,0,0,0,0,0,0,0,0,0,0,0,0,0,0,0,0,0,0,0,0,0,0,0,0,0,0,0,0,0,0,0,0,0,0,0,0,0,0,0,0,0,0,0,0,0,0,0,0,0,0,0,0,0,0,0,0,0,0,0,0,0,0,0,0,0,0,0,0,0,0,0,0,0,0,0,0,0,0,0,0,0,0,0,0,0,0,0,0,0,0,0,0,0,0,0,0,0,0,0,0,0,0,0,0,0,0,0,0,0,0,0,0,0,0,0,0,0,0,0,0,0,0,0,0,0,0,0,0,0,0,0,0,0,0,0,0,0,0,0,0,0,0,0,0,0,0,0,0,0,0,0,0,0,0,0,0,0,0,0,0,0,0,0,0,0,0,0,0,0,0,0,0,0,0,0,0,0,0,0,0,0,0,0,0,0,0,0,0,0,0,0,0,0,0,0,0,0,0,0,0,0,0,0,0,0,0,0,0,0,0,0,0,0,0,0,0,0,0,0,0,0,0,0,0,0,0,0,0,0,0,0,0,0,0,0,0,0,0,0,0,0,0,0,0,0,0,0,0,0,0,0,0,0,0,0,0,0,0,0,0,0,0,0,0,0,0,0,0,0,0,0,0,0,0,0,0,0,0,0,0,0,0,0,0,0,0,0,0,0,0,0,0,0,0,0,0,0,0,0,0,0,0,0,0,0,0,0,0,0,0,0,0,0,0,0,0,0,0,0,0,0]
["Pinewood Reservoir",0,0,0,0,0,0,0,0,0,0,0,0,0,0,0,0,0,0,0,0,0,0,0,0,0,0,0,0,0,0,0,0,0,0,0,0,0,0,0,0,0,0,0,0,0,0,0,0,0,0,0,0,0,0,0,0,0,0,0,0,0,0,0,0,0,0,0,0,0,0,0,0,0,0,0,0,0,0,0,0,0,0,0,0,0,0,0,0,0,0,0,0,0,0,0,0,0,0,0,0,0,0,0,0,0,0,0,0,0,0,0,0,0,0,0,0,0,0,0,0,0,0,0,0,0,0,0,0,0,0,0,0,0,0,0,0,0,0,0,0,0,0,0,0,0,0,0,0,0,0,0,0,0,0,0,0,0,0,0,0,0,0,0,0,0,0,0,0,0,0,0,0,0,0,0,0,0,0,0,0,0,0,0,0,0,0,0,0,0,0,0,0,0,0,0,0,0,0,0,0,0,0,0,0,0,0,0,0,0,0,0,0,0,0,0,0,0,0,0,0,0,0,0,0,0,0,0,0,0,0,0,0,0,0,0,0,0,0,0,0,0,0,0,0,0,0,0,0,0,0,0,0,0,0,0,0,0,0,0,0,0,0,0,0,0,0,0,0,0,0,0,0,0,0,0,0,0,0,0,0,0,0,0,0,0,0,0,0,0,0,0,0,0,0,0,0,0,0,0,0,0,0,0,0,0,0,0,0,0,0,0,0,0,0,0,0,0,0,0,0,0,0,0,0,0,0,0,0,0,0,0,0,0,0,0,0,0,0,0,0,0,0,0,0,0,0,0,0,0,0,0,0,0,0,0,0,0,0,0,0,0,0,0,0,0,0,0,0,0,0,0,0,0,0,0,0,0,0,0,0,0,0,0,0,0,0,0,0,0,0,0,0,0,0,0,0,0,0,0,0,0,0,0,0,0,0,0,0,0,0,0,0,0,0,0,0,0,0,0,0,0,0,0,0,0,0,0,0,0,0,0,0,0,0,0,0,0,0,0,0,0,0,0,0,0,0,0,0,0,0,0,0,0,0,0,0,0,0,0,0,0,0,0,0,0,0,0,0,0,0,0,0,0,0,0,0,0,0,0,0,0,0,0,0,0,0,0,0,0,0,0,0,0,0,0,0,0,0,0,0,0,0,0,0,0,0,0,0,0,0,0,0,0,0,0,0,0,0,0,0,0,0,0,0,0,0,0,0,0,0,0,0,0,0,0,0,0,0,0,0,0,0,0,0,0,0,0,0,0,0,0,0,0,0,0,0,0,0,0,0,0,0,0,0,0,0,0,0,0,0,0,0,0,0,0,0,0,0,0,0,0,0,0,0,0,0,0,0,0,0,0,0,0,0,0,0,0,0,0,0,0,0,0,0,0,0,0,0,0,0,0,0,0,0,0,0,0,0,0,0,0,0,0,0,0,0,0,0,0,0,0,0,0,0,0,0,0,0,0,0,0,0,0,0,0,0,0,0,0,0,0,0,0,0,0,0,0,0,0,0,0,0,0,0,0,0,0,0,0,0,0,0,0,0,0,0,0,0,0,0,0,0,0,0,0,0,0,0,0,0,0,0,0,0,0,0,0,0,0,0,0,0,0,0,0,0,0,0,0,0,0,0,0,0,0,0,0,0,0,0,0,0,0,0,0,0,0,0,0,0,0,0,0,0,0,0,0,0,0,0,0,0,0,0,0,0,0,0,0,0,0,0,0,0,0,0,0,0,0,0,0,0,0,0,0,0,0,0,0,0,0,0,0,0,0,0,0,0,0,0,0,0,0,0,0,0,0,0,0,0,0,0,0,0,0,0,0,0,0,0,0,0,0,0,0,0,0,0,0,0,0,0,0,0,0,0,0,0,0,0,0,0,0,0,0,0,0,0,0,0,0,0,0,0,0,0,0,0,0,0,0,0,0,0,0,0,0,0,0,0,0,0,0,0,0,0,0,0,0,0,0,0,0,0,0,0,0,0,0,0,0,0,0,0,0,0,0,0,0,0,0,0,0,0,0,0,0,0,0,0,0,0,0,0,0,0,0,0,0,0,0,0,0,0,0,0,0,0,0,0,0,0,0,0,0,0,0,0,0,0,0,0,0,0,0,0,0,0,0,0,0,0,0,0,0,0,0,0,0,0,0,0,0,0,0,0,0,0,0,0,0,0,0,0,0,0,0,0,0,0,0,0,0,0,0,0,0,0,0,0,0,0,0,0,0,0,0,0,0,0,0,0,0,0,0,0,0,0,0,0,0,0,0,0,0,0,0,0,0,0]
["To Flatiron From Carter Lake",0,0,0,0,0,0,0,0,0,0,0,0,0,0,0,0,0,0,0,0,0,0,0,0,0,0,0,0,0,0,0,0,0,0,0,0,0,0,0,0,0,0,0,0,0,0,0,0,0,0,0,0,0,0,0,0,0,0,0,0,0,0,0,0,0,0,0,0,0,0,0,0,0,0,0,0,0,0,0,0,0,0,0,0,0,0,0,0,0,0,0,0,0,0,0,0,0,0,0,0,0,0,0,0,0,0,0,0,0,0,0,0,0,0,0,0,0,0,0,0,0,0,0,0,0,0,0,0,0,0,0,0,0,0,0,0,0,0,0,0,0,0,0,0,0,0,0,0,0,0,0,0,0,0,0,0,0,0,0,0,0,0,0,0,0,0,0,0,0,0,0,0,0,0,0,0,0,0,0,0,0,0,0,0,0,0,0,0,0,0,0,0,0,0,0,0,0,0,0,0,0,0,0,0,0,0,0,0,0,0,0,0,0,0,0,0,0,0,0,0,0,0,0,0,0,0,0,0,0,0,0,0,0,0,0,0,0,0,0,0,0,0,0,0,0,0,0,0,0,0,0,0,0,0,0,0,0,0,0,0,0,0,0,0,0,0,0,0,0,0,0,0,0,0,0,0,0,0,0,0,0,0,0,0,0,0,0,0,0,0,0,0,0,0,0,0,0,0,0,0,0,0,0,0,0,0,0,0,0,0,0,0,0,0,0,0,0,0,0,0,0,0,0,0,0,0,0,0,0,0,0,0,0,0,0,0,0,0,0,0,0,0,0,0,0,0,0,0,0,0,0,0,0,0,0,0,0,0,0,0,0,0,0,0,0,0,0,0,0,0,0,0,0,0,0,0,0,0,0,0,0,0,0,0,0,0,0,0,0,0,0,0,0,0,0,0,0,0,0,0,0,0,0,0,0,0,0,0,0,0,0,0,0,0,0,0,0,0,0,0,0,0,0,0,0,0,0,0,0,0,0,0,0,0,0,0,0,0,0,0,0,0,0,0,0,0,0,0,0,0,0,0,0,0,0,0,0,0,0,0,0,0,0,0,0,0,0,0,0,0,0,0,0,0,0,0,0,0,0,0,0,0,0,0,0,0,0,0,0,0,0,0,0,0,0,0,0,0,0,0,0,0,0,0,0,0,0,0,0,0,0,0,0,0,0,0,0,0,0,0,0,0,0,0,0,0,0,0,0,0,0,0,0,0,0,0,0,0,0,0,0,0,0,0,0,0,0,0,0,0,0,0,0,0,0,0,0,0,0,0,0,0,0,0,0,0,0,0,0,0,0,0,0,0,0,0,0,0,0,0,0,0,0,0,0,0,0,0,0,0,0,0,0,0,0,0,0,0,0,0,0,0,0,0,0,0,0,0,0,0,0,0,0,0,0,0,0,0,0,0,0,0,0,0,0,0,0,0,0,0,0,0,0,0,0,0,0,0,0,0,0,0,0,0,0,0,0,0,0,0,0,0,0,0,0,0,0,0,0,0,0,0,0,0,0,0,0,0,0,0,0,0,0,0,0,0,0,0,0,0,0,0,0,0,0,0,0,0,0,0,0,0,0,0,0,0,0,0,0,0,0,0,0,0,0,0,0,0,0,0,0,0,0,0,0,0,0,0,0,0,0,0,0,0,0,0,0,0,0,0,0,0,0,0,0,0,0,0,0,0,0,0,0,0,0,0,0,0,0,0,0,0,0,0,0,0,0,0,0,0,0,0,0,0,0,0,0,0,0,0,0,0,0,0,0,0,0,0,0,0,0,0,0,0,0,0,0,0,0,0,0,0,0,0,0,0,0,0,0,0,0,0,0,0,0,0,0,0,0,0,0,0,0,0,0,0,0,0,0,0,0,0,0,0,0,0,0,0,0,0,0,0,0,0,0,0,0,0,0,0,0,0,0,0,0,0,0,0,0,0,0,0,0,0,0,0,0,0,0,0,0,0,0,0,0,0,0,0,0,0,0,0,0,0,0,0,0,0,0,0,0,0,0,0,0,0,0,0,0,0,0,0,0,0,0,0,0,0,0,0,0,0,0,0,0,0,0,0,0,0,0,0,0,0,0,0,0,0,0,0,0,0,0,0,0,0,0,0,0,0,0,0,0,0,0,0,0,0,0,0,0,0,0,0,0,0,0,0,0,0,0,0,0,0,0,0,0,0,0,0,0,0,0,0,0,0,0,0,0,0,0,0,0,0,0,0,0,0,0,0,0,0,0,0,0,0,0,0,0,0,0,0,0,0,0,0,0,0,0,0]
["Horsetooth Reservoir",0,0,0,0,0,0,0,0,0,0,0,0,0,0,0,0,0,0,0,0,0,0,0,0,0,0,0,0,0,0,0,0,0,0,0,0,0,0,0,0,0,0,0,0,0,0,0,0,0,0,0,0,0,0,0,0,0,0,0,0,0,0,0,0,0,0,0,0,0,0,0,0,0,0,0,0,0,0,0,0,0,0,0,0,0,0,0,0,0,0,0,0,0,0,0,0,0,0,0,0,0,0,0,0,0,0,0,0,0,0,0,0,0,0,0,0,0,0,0,0,0,0,0,0,0,0,0,0,0,0,0,0,0,0,0,0,0,0,0,0,0,0,0,0,0,0,0,0,0,0,0,0,0,0,0,0,0,0,0,0,0,0,0,0,0,0,0,0,0,0,0,0,0,0,0,0,0,0,0,0,0,0,0,0,0,0,0,0,0,0,0,0,0,0,0,0,0,0,0,0,0,0,0,0,0,0,0,0,0,0,0,0,0,0,0,0,0,0,0,0,0,0,0,0,0,0,0,0,0,0,0,0,0,0,0,0,0,0,0,0,0,0,0,0,0,0,0,0,0,0,0,0,0,0,0,0,0,0,0,0,0,0,0,0,0,0,0,0,0,0,0,0,0,0,0,0,0,0,0,0,0,0,0,0,0,0,0,0,0,0,0,0,0,0,0,0,0,0,0,0,0,0,0,0,0,0,0,0,0,0,0,0,0,0,0,0,0,0,0,0,0,0,0,0,0,0,0,0,0,0,0,0,0,0,0,0,0,0,0,0,0,0,0,0,0,0,0,0,0,0,0,0,0,0,0,0,0,0,0,0,0,0,0,0,0,0,0,0,0,0,0,0,0,0,0,0,0,0,0,0,0,0,0,0,0,0,0,0,0,0,0,0,0,0,0,0,0,0,0,0,0,0,0,0,0,0,0,0,0,0,0,0,0,0,0,0,0,0,0,0,0,0,0,0,0,0,0,0,0,0,0,0,0,0,0,0,0,0,0,0,0,0,0,0,0,0,0,0,0,0,0,0,0,0,0,0,0,0,0,0,0,0,0,0,0,0,0,0,0,0,0,0,0,0,0,0,0,0,0,0,0,0,0,0,0,0,0,0,0,0,0,0,0,0,0,0,0,0,0,0,0,0,0,0,0,0,0,0,0,0,0,0,0,0,0,0,0,0,0,0,0,0,0,0,0,0,0,0,0,0,0,0,0,0,0,0,0,0,0,0,0,0,0,0,0,0,0,0,0,0,0,0,0,0,0,0,0,0,0,0,0,0,0,0,0,0,0,0,0,0,0,0,0,0,0,0,0,0,0,0,0,0,0,0,0,0,0,0,0,0,0,0,0,0,0,0,0,0,0,0,0,0,0,0,0,0,0,0,0,0,0,0,0,0,0,0,0,0,0,0,0,0,0,0,0,0,0,0,0,0,0,0,0,0,0,0,0,0,0,0,0,0,0,0,0,0,0,0,0,0,0,0,0,0,0,0,0,0,0,0,0,0,0,0,0,0,0,0,0,0,0,0,0,0,0,0,0,0,0,0,0,0,0,0,0,0,0,0,0,0,0,0,0,0,0,0,0,0,0,0,0,0,0,0,0,0,0,0,0,0,0,0,0,0,0,0,0,0,0,0,0,0,0,0,0,0,0,0,0,0,0,0,0,0,0,0,0,0,0,0,0,0,0,0,0,0,0,0,0,0,0,0,0,0,0,0,0,0,0,0,0,0,0,0,0,0,0,0,0,0,0,0,0,0,0,0,0,0,0,0,0,0,0,0,0,0,0,0,0,0,0,0,0,0,0,0,0,0,0,0,0,0,0,0,0,0,0,0,0,0,0,0,0,0,0,0,0,0,0,0,0,0,0,0,0,0,0,0,0,0,0,0,0,0,0,0,0,0,0,0,0,0,0,0,0,0,0,0,0,0,0,0,0,0,0,0,0,0,0,0,0,0,0,0,0,0,0,0,0,0,0,0,0,0,0,0,0,0,0,0,0,0,0,0,0,0,0,0,0,0,0,0,0,0,0,0,0,0,0,0,0,0,0,0,0,0,0,0,0,0,0,0,0,0,0,0,0,0,0,0,0,0,0,0,0,0,0,0,0,0,0,0,0,0,0,0,0,0,0,0,0,0,0,0,0,0,0,0,0,0,0,0,0,0,0,0,0,0,0,0,0,0,0,0,0,0,0,0,0,0,0,0,0,0,0,0,0,0,0,0,0,0,0,0,0,0,0,0,0,0,0,0,0,0,0,0,0,0,0,0]
["To Carter Lake from Flatiron",0,0,0,0,0,0,0,0,0,0,0,0,0,0,0,0,0,0,0,0,0,0,0,0,0,0,0,0,0,0,0,0,0,0,0,0,0,0,0,0,0,0,0,0,0,0,0,0,0,0,0,0,0,0,0,0,0,0,0,0,0,0,0,0,0,0,0,0,0,0,0,0,0,0,0,0,0,0,0,0,0,0,0,0,0,0,0,0,0,0,0,0,0,0,0,0,0,0,0,0,0,0,0,0,0,0,0,0,0,0,0,0,0,0,0,0,0,0,0,0,0,0,0,0,0,0,0,0,0,0,0,0,0,0,0,0,0,0,0,0,0,0,0,0,0,0,0,0,0,0,0,0,0,0,0,0,0,0,0,0,0,0,0,0,0,0,0,0,0,0,0,0,0,0,0,0,0,0,0,0,0,0,0,0,0,0,0,0,0,0,0,0,0,0,0,0,0,0,0,0,0,0,0,0,0,0,0,0,0,0,0,0,0,0,0,0,0,0,0,0,0,0,0,0,0,0,0,0,0,0,0,0,0,0,0,0,0,0,0,0,0,0,0,0,0,0,0,0,0,0,0,0,0,0,0,0,0,0,0,0,0,0,0,0,0,0,0,0,0,0,0,0,0,0,0,0,0,0,0,0,0,0,0,0,0,0,0,0,0,0,0,0,0,0,0,0,0,0,0,0,0,0,0,0,0,0,0,0,0,0,0,0,0,0,0,0,0,0,0,0,0,0,0,0,0,0,0,0,0,0,0,0,0,0,0,0,0,0,0,0,0,0,0,0,0,0,0,0,0,0,0,0,0,0,0,0,0,0,0,0,0,0,0,0,0,0,0,0,0,0,0,0,0,0,0,0,0,0,0,0,0,0,0,0,0,0,0,0,0,0,0,0,0,0,0,0,0,0,0,0,0,0,0,0,0,0,0,0,0,0,0,0,0,0,0,0,0,0,0,0,0,0,0,0,0,0,0,0,0,0,0,0,0,0,0,0,0,0,0,0,0,0,0,0,0,0,0,0,0,0,0,0,0,0,0,0,0,0,0,0,0,0,0,0,0,0,0,0,0,0,0,0,0,0,0,0,0,0,0,0,0,0,0,0,0,0,0,0,0,0,0,0,0,0,0,0,0,0,0,0,0,0,0,0,0,0,0,0,0,0,0,0,0,0,0,0,0,0,0,0,0,0,0,0,0,0,0,0,0,0,0,0,0,0,0,0,0,0,0,0,0,0,0,0,0,0,0,0,0,0,0,0,0,0,0,0,0,0,0,0,0,0,0,0,0,0,0,0,0,0,0,0,0,0,0,0,0,0,0,0,0,0,0,0,0,0,0,0,0,0,0,0,0,0,0,0,0,0,0,0,0,0,0,0,0,0,0,0,0,0,0,0,0,0,0,0,0,0,0,0,0,0,0,0,0,0,0,0,0,0,0,0,0,0,0,0,0,0,0,0,0,0,0,0,0,0,0,0,0,0,0,0,0,0,0,0,0,0,0,0,0,0,0,0,0,0,0,0,0,0,0,0,0,0,0,0,0,0,0,0,0,0,0,0,0,0,0,0,0,0,0,0,0,0,0,0,0,0,0,0,0,0,0,0,0,0,0,0,0,0,0,0,0,0,0,0,0,0,0,0,0,0,0,0,0,0,0,0,0,0,0,0,0,0,0,0,0,0,0,0,0,0,0,0,0,0,0,0,0,0,0,0,0,0,0,0,0,0,0,0,0,0,0,0,0,0,0,0,0,0,0,0,0,0,0,0,0,0,0,0,0,0,0,0,0,0,0,0,0,0,0,0,0,0,0,0,0,0,0,0,0,0,0,0,0,0,0,0,0,0,0,0,0,0,0,0,0,0,0,0,0,0,0,0,0,0,0,0,0,0,0,0,0,0,0,0,0,0,0,0,0,0,0,0,0,0,0,0,0,0,0,0,0,0,0,0,0,0,0,0,0,0,0,0,0,0,0,0,0,0,0,0,0,0,0,0,0,0,0,0,0,0,0,0,0,0,0,0,0,0,0,0,0,0,0,0,0,0,0,0,0,0,0,0,0,0,0,0,0,0,0,0,0,0,0,0,0,0,0,0,0,0,0,0,0,0,0,0,0,0,0,0,0,0,0,0,0,0,0,0,0,0,0,0,0,0,0,0,0,0,0,0,0,0,0,0,0,0,0,0,0,0,0,0,0,0,0,0,0,0,0,0,0,0,0,0,0,0,0,0,0,0,0,0,0,0,0,0,0,0,0,0,0,0,0,0,0,0,0,0]
["Boulder Reservoir",0,0,0,0,0,0,0,0,0,0,0,0,0,0,0,0,0,0,0,0,0,0,0,0,0,0,0,0,0,0,0,0,0,0,0,0,0,0,0,0,0,0,0,0,0,0,0,0,0,0,0,0,0,0,0,0,0,0,0,0,0,0,0,0,0,0,0,0,0,0,0,0,0,0,0,0,0,0,0,0,0,0,0,0,0,0,0,0,0,0,0,0,0,0,0,0,0,0,0,0,0,0,0,0,0,0,0,0,0,0,0,0,0,0,0,0,0,0,0,0,0,0,0,0,0,0,0,0,0,0,0,0,0,0,0,0,0,0,0,0,0,0,0,0,0,0,0,0,0,0,0,0,0,0,0,0,0,0,0,0,0,0,0,0,0,0,0,0,0,0,0,0,0,0,0,0,0,0,0,0,0,0,0,0,0,0,0,0,0,0,0,0,0,0,0,0,0,0,0,0,0,0,0,0,0,0,0,0,0,0,0,0,0,0,0,0,0,0,0,0,0,0,0,0,0,0,0,0,0,0,0,0,0,0,0,0,0,0,0,0,0,0,0,0,0,0,0,0,0,0,0,0,0,0,0,0,0,0,0,0,0,0,0,0,0,0,0,0,0,0,0,0,0,0,0,0,0,0,0,0,0,0,0,0,0,0,0,0,0,0,0,0,0,0,0,0,0,0,0,0,0,0,0,0,0,0,0,0,0,0,0,0,0,0,0,0,0,0,0,0,0,0,0,0,0,0,0,0,0,0,0,0,0,0,0,0,0,0,0,0,0,0,0,0,0,0,0,0,0,0,0,0,0,0,0,0,0,0,0,0,0,0,0,0,0,0,0,0,0,0,0,0,0,0,0,0,0,0,0,0,0,0,0,0,0,0,0,0,0,0,0,0,0,0,0,0,0,0,0,0,0,0,0,0,0,0,0,0,0,0,0,0,0,0,0,0,0,0,0,0,0,0,0,0,0,0,0,0,0,0,0,0,0,0,0,0,0,0,0,0,0,0,0,0,0,0,0,0,0,0,0,0,0,0,0,0,0,0,0,0,0,0,0,0,0,0,0,0,0,0,0,0,0,0,0,0,0,0,0,0,0,0,0,0,0,0,0,0,0,0,0,0,0,0,0,0,0,0,0,0,0,0,0,0,0,0,0,0,0,0,0,0,0,0,0,0,0,0,0,0,0,0,0,0,0,0,0,0,0,0,0,0,0,0,0,0,0,0,0,0,0,0,0,0,0,0,0,0,0,0,0,0,0,0,0,0,0,0,0,0,0,0,0,0,0,0,0,0,0,0,0,0,0,0,0,0,0,0,0,0,0,0,0,0,0,0,0,0,0,0,0,0,0,0,0,0,0,0,0,0,0,0,0,0,0,0,0,0,0,0,0,0,0,0,0,0,0,0,0,0,0,0,0,0,0,0,0,0,0,0,0,0,0,0,0,0,0,0,0,0,0,0,0,0,0,0,0,0,0,0,0,0,0,0,0,0,0,0,0,0,0,0,0,0,0,0,0,0,0,0,0,0,0,0,0,0,0,0,0,0,0,0,0,0,0,0,0,0,0,0,0,0,0,0,0,0,0,0,0,0,0,0,0,0,0,0,0,0,0,0,0,0,0,0,0,0,0,0,0,0,0,0,0,0,0,0,0,0,0,0,0,0,0,0,0,0,0,0,0,0,0,0,0,0,0,0,0,0,0,0,0,0,0,0,0,0,0,0,0,0,0,0,0,0,0,0,0,0,0,0,0,0,0,0,0,0,0,0,0,0,0,0,0,0,0,0,0,0,0,0,0,0,0,0,0,0,0,0,0,0,0,0,0,0,0,0,0,0,0,0,0,0,0,0,0,0,0,0,0,0,0,0,0,0,0,0,0,0,0,0,0,0,0,0,0,0,0,0,0,0,0,0,0,0,0,0,0,0,0,0,0,0,0,0,0,0,0,0,0,0,0,0,0,0,0,0,0,0,0,0,0,0,0,0,0,0,0,0,0,0,0,0,0,0,0,0,0,0,0,0,0,0,0,0,0,0,0,0,0,0,0,0,0,0,0,0,0,0,0,0,0,0,0,0,0,0,0,0,0,0,0,0,0,0,0,0,0,0,0,0,0,0,0,0,0,0,0,0,0,0,0,0,0,0,0,0,0,0,0,0,0,0,0,0,0,0,0,0,0,0,0,0,0,0,0,0,0,0,0,0,0,0,0,0,0,0,0,0,0,0,0,0,0,0,0,0,0,0,0,0,0,0,0,0,0,0,0,0,0,0]
[]
["BASE-CASE SCENARIO:"]
["PREVENTATIVE MANAGEMENT SCENARIO:"]
[null,"Water Body ID","Upstream Water Body (1) {UpConnect1}","Distance Downstream from Upstream Water Body (1) in km {DistUpConnect1}","Density in Upstream Water Body (1) ","Propagule pressure from upstream water body (1) {DensityAlive1}","Upstream Water Body (2) {UpConnect2}","Distance Downstream from Upstream Water Body (2) in km {DistUpConnect2}"]
["Lake Granby",2,0,9.5,{"$f":"IF(D756=-999,0,IF(INDEX(CalciumLevel,C756+1)=\"very low\",density_vl,IF(INDEX(CalciumLevel,C756+1)=\"low\",density_l,IF(INDEX(CalciumLevel,C756+1)=\"moderate\",density_m,IF(INDEX(CalciumLevel,C756+1)=\"high\",density_h,IF(AND(INDEX(CalciumLevel,C756+1)=\"unknown\",$B$51=\"Model as very low calcium\"),density_vl,IF(AND(INDEX(CalciumLevel,C756+1)=\"unknown\",$B$51=\"Model as low calcium\"),density_l,IF(AND(INDEX(CalciumLevel,C756+1)=\"unknown\",$B$51=\"Model as moderate calcium\"),density_m,\"error\"))))))))","v":22},{"$f":"IF(D756=-999,-999,P_*EXP(r_*D756)*E756)","v":0.24515812252511873},1,5.5]
["Shadow Mountain Reservoir",3,2,2.9,22,4.7786024125735622,-999,-999]
["Grand Lake",4,3,0,22,17.622,-999,-999]
["East Portal",5,4,21.1,22,1.3256506565136547E-3,-999,-999]
["Mary's Lake",6,5,2.1,"error",{"$error":"#VALUE!"},-999,-999]
["Lake Estes",7,6,2.7,"error",{"$error":"#VALUE!"},-999,-999]
["Pinewood Reservoir",8,7,15.6,"error",{"$error":"#VALUE!"},-999,-999]
["Flatiron Reservoir",9,8,2.1,"error",{"$error":"#VALUE!"},11,2.2999999999999998]
["Horsetooth Reservoir",10,9,21.3,"error",{"$error":"#VALUE!"},-999,-999]
["Carter Lake",11,8,1.8,"error",{"$error":"#VALUE!"},9,2.2999999999999998]
["Boulder Reservoir",12,11,36.700000000000003,22,1.1849003514037766E-6,-999,-999]

{"sheet":"Simulation Results","index":7,"n_rows":269,"n_cols":9,"rows_kept":269,"cut":false,"hidden":false,"merged":[[2,7,2,8],[14,3,14,4],[14,5,14,6],[1,3,1,8],[1,0,1,1],[2,3,2,4],[2,5,2,6]]}
["Model Inputs"]
["2009 Establishment",null,null,"Dispersal Model Inputs"]
["Windy Gap Reservoir",{"$f":"'Model Input'!B30","v":"no"},null,"Probability of Invasibility",null,"Propagule Pressure from Boats",null,"Propagule Pressure from Flows"]
["Willow Creek Reservoir",{"$f":"'Model Input'!B31","v":"no"},null,"Probability that a very low calcium reservoir is invasible",{"$f":"prob_invas_verylowC","v":0.02},"Percent of visiting boats that are infested",{"$f":"per_infest_0","v":1.7999999999999999E-2},"y-intercept parameter",{"$f":"P_","v":0.80100000000000005}]
["Lake Granby",{"$f":"'Model Input'!B32","v":"no"},null,"Probability that a low calcium reservoir is invasible",{"$f":"prob_invas_lowC","v":0.05},"Percent of infested boats that are caught by inspection and get cleaned",{"$f":"per_cleaned","v":0.95},"Decay rate",{"$f":"r_","v":-0.45}]
["Shadow Mountain Reservoir",{"$f":"'Model Input'!B33","v":"no"},null,"Probability that a moderate calcium reservoir is invasible",{"$f":"prob_invas_modC","v":0.25},"alpha shape parameter",{"$f":"a_boat","v":1.03E-4},"Lag time (m)",{"$f":"m_","v":8}]
["Grand Lake",{"$f":"'Model Input'!B34","v":"no"},null,"Probability that a high calcium reservoir is invasible",{"$f":"prob_invas_highC","v":0.75},"c shape parameter",{"$f":"c_boat","v":1.86},"alpha shape parameter",{"$f":"a_stream","v":0.05}]
["Mary's Lake",{"$f":"'Model Input'!B36","v":"no"},null,"Treatment of reservoirs with unknown calcium levels",{"$f":"'Model Input'!B52","v":"Model as very low calcium"},"Percent decline in number of boat visits attributable to the boat inspection program",{"$f":"per_decline","v":0.01},"c shape parameter",{"$f":"c_stream","v":1}]
["Lake Estes",{"$f":"'Model Input'!B37","v":"no"},null,null,null,"Max percent infested boats",{"$f":"per_max","v":5.8900000000000001E-2},"Mussel density for a very low calcium reservoir",{"$f":"density_vl","v":22}]
["Pinewood Reservoir",{"$f":"'Model Input'!B38","v":"no"},null,null,null,"Maximum percent increase in infested boats per year (rate of infestation in the West)",{"$f":"INDEX('Model Input'!E101:H101,R_max)","v":5.0000000000000001E-3},"Mussel density for a low calcium reservoir",{"$f":"density_l","v":22}]
["Flatiron Reservoir",{"$f":"'Model Input'!B39","v":"no"},null,null,null,null,null,"Mussel density for a moderate calcium reservoir",{"$f":"density_m","v":800}]
["Horsetooth Reservoir",{"$f":"'Model Input'!B40","v":"no"},null,null,null,null,null,"Mussel density for a high calcium reservoir",{"$f":"density_h","v":7500}]
["Carter Lake",{"$f":"'Model Input'!B41","v":"no"}]
["Boulder Reservoir",{"$f":"'Model Input'!B42","v":"no"}]
[null,null,null,"Damage Cost Model Inputs",null,"Program Cost Inputs"]
[null,null,null,"Time Horizon",{"$f":"horizon","v":50},"Yearly Direct Costs: Variable Costs ($/year)",{"$f":"direct_costs_variable","v":827205.66666666663}]
[null,null,null,"Lag Time (n)",{"$f":"n_","v":8},"Yearly Direct Costs: Principle on Capital Expenditures ($/year)",{"$f":"direct_costs_PI","v":4655.8999999999996}]
[null,null,null,"Discount Rate",{"$f":"d_rate","v":2.6499999999999999E-2},"CS per boater per day ($/boater/day)",{"$f":"CS","v":61.16}]
[null,null,null,"Interest Rate",{"$f":"i_rate","v":4.7500000000000001E-2},"Length of an Average Boater Day (hours)",{"$f":"day_length","v":3.2}]
[null,null,null,"Loan term length for capital expenditures (years)",{"$f":"term_length","v":20},"Average Number of Boaters per Boat (persons/boat)",{"$f":"avg_persons","v":3.63}]
[null,null,null,null,null,"Inspection Length (hours)",{"$f":"inspect_length","v":0.22}]
[null,null,null,null,null,"Are indirect costs of the program included in the analysis?",{"$f":"'Model Input'!B240","v":"yes"}]
[]
["Establishment Patterns"]
[]
[]
[]
[]
[]
[]
[]
[]
[]
[]
[]
[]
[]
[]
[]
[]
[]
[]
[]
[]
[]
[]
[]
[]
[]
[]
[]
[]
[]
[]
[]
[]
[]
[]
[]
[]
[]
[]
[]
[]
[]
[]
[]
[]
[]
[]
[]
[]
[]
[]
[]
[]
[]
[]
[]
[]
[]
[]
["Inspection Program Costs and Benefits"]
[]
["Time Horizon",{"$f":"horizon","v":50}]
["Discount Rate",{"$f":"d_rate","v":2.6499999999999999E-2}]
[]
["NPV Direct Costs",{"$f":"output_npvdirect","v":23450767.871264517}]
["NPV Indirect Costs",{"$f":"output_npvindirect","v":36040097.000148222}]
["Program Costs",{"$f":"output_npvtotal","v":59490864.871412747}]
[]
["Average NPV Control Costs                             (Base-Case Scenario)",{"$f":"Output!B14","v":10110107.563003607}]
["Average NPV Control Costs             (Preventative Management Scenario)",{"$f":"Output!B15","v":34214.610918037768}]
["Average Program Benefits",{"$f":"Output!B16","v":10075892.95208557}]
[]
["Average Net Benefits",{"$f":"G105","v":-49414971.919327587}]
[]
["Benefit-Cost Ratio                     (direct costs only)",{"$f":"B94/B88","v":0.42966153634705073}]
["Benefit-Cost Ratio                     (direct and indirect costs)",{"$f":"B94/B90","v":0.16936874213989375}]
[]
["Distribution of Inspection Program Benefits"]
[]
[null,"Min","Q1","Median","Q3","Max","Mean","StDev"]
["Program Benefits",{"$f":"Output!E23","v":0},{"$f":"Output!F23","v":0},{"$f":"Output!G23","v":129050.35433999507},{"$f":"Output!H23","v":17140527.605686083},{"$f":"Output!I23","v":80875584.266230687},{"$f":"Output!J23","v":10075892.952085571},{"$f":"Output!K23","v":14572867.459621413}]
["Net Benefits",{"$f":"Output!E54","v":-59490864.871412747},{"$f":"Output!F54","v":-59490864.871412747},{"$f":"Output!G54","v":-59361814.517072752},{"$f":"Output!H54","v":-42350337.265726663},{"$f":"Output!I54","v":21384719.394817941},{"$f":"Output!J54","v":-49414971.919327587},{"$f":"Output!K54","v":14572867.459620968}]
[]
[]
["Contribution to NPV of Control Costs by Reservoir"]
[]
[]
[]
[]
[]
[]
[]
[]
[]
[]
[]
[]
[]
[]
[]
[]
[]
[]
[]
[]
["Propagules and Probabilities of Colonization by Boats"]
[]
[]
[]
[]
[]
[]
[]
[]
[]
[]
[]
[]
[]
[]
[]
[]
[]
[]
[]
[]
[]
[]
[]
[]
[]
[]
[]
[]
[]
[]
[]
[]
[]
[]
[]
[]
[]
[]
[]
[]
[]
[]
[]
[]
[]
[]
[]
[]
[]
[]
[]
[]
[]
[]
[]
[]
[]
[]
[]
[]
[]
[]
[]
[]
[]
[]
[]
[]
[]
[]
[]
[]
[]
[]
[]
[]
[]
[]
[]
[]
[]
[]
[]
[]
[]
[]
[]
[]
[]
[]
[]
[]
[]
[]
[]
[]
[]
[]
["Zoomed in:"]
[]
[]
[]
[]
[]
[]
[]
[]
[]
[]
[]
[]
[]
[]
[]
[]
[]
[]
[]
[]
[]
[]
[]
[]
[]
[]
[]
[]
[]
[]
[]
[]
[]
[]
[]
[]
[]
[]
[]
[]
["Probability of Colonization by Flows"]